BEGIN:VCALENDAR
VERSION:2.0
PRODID:-//Mieux se Déplacer à Bicyclette - ECPv6.15.20//NONSGML v1.0//EN
CALSCALE:GREGORIAN
METHOD:PUBLISH
X-ORIGINAL-URL:https://mdb-idf.org
X-WR-CALDESC:Évènements pour Mieux se Déplacer à Bicyclette
REFRESH-INTERVAL;VALUE=DURATION:PT1H
X-Robots-Tag:noindex
X-PUBLISHED-TTL:PT1H
BEGIN:VTIMEZONE
TZID:Europe/Paris
BEGIN:DAYLIGHT
TZOFFSETFROM:+0100
TZOFFSETTO:+0200
TZNAME:CEST
DTSTART:20250330T010000
END:DAYLIGHT
BEGIN:STANDARD
TZOFFSETFROM:+0200
TZOFFSETTO:+0100
TZNAME:CET
DTSTART:20251026T010000
END:STANDARD
BEGIN:DAYLIGHT
TZOFFSETFROM:+0100
TZOFFSETTO:+0200
TZNAME:CEST
DTSTART:20260329T010000
END:DAYLIGHT
BEGIN:STANDARD
TZOFFSETFROM:+0200
TZOFFSETTO:+0100
TZNAME:CET
DTSTART:20261025T010000
END:STANDARD
BEGIN:DAYLIGHT
TZOFFSETFROM:+0100
TZOFFSETTO:+0200
TZNAME:CEST
DTSTART:20270328T010000
END:DAYLIGHT
BEGIN:STANDARD
TZOFFSETFROM:+0200
TZOFFSETTO:+0100
TZNAME:CET
DTSTART:20271031T010000
END:STANDARD
END:VTIMEZONE
BEGIN:VEVENT
DTSTART;TZID=Europe/Paris:20260108T200000
DTEND;TZID=Europe/Paris:20260108T223000
DTSTAMP:20260422T170633
CREATED:20250905T220855Z
LAST-MODIFIED:20250905T220855Z
UID:10003431-1767902400-1767911400@mdb-idf.org
SUMMARY:Colombes – Atelier de réparation au local
DESCRIPTION:Atelier d’aide à la réparation véloVotre vélo  a besoin d’une petite remise en état ? Une roue à plat ou un dérailleur à régler ? Passez nous voir lors de notre atelier d’aide à la réparation\, nous serons ravis de vous aider.Le principe : On a tous les outils nécessaires sur place et on vous aide\, un peu ou beaucoup\, pour remettre votre vélo en état. Si besoin\, on peut dépanner de quelques pièces mécaniques de base à prix coutant ou vous pouvez venir avec les vôtres. Vous repartez fier d’avoir participé à la remise en état de votre monture et\, la prochaine fois\, vous saurez faire seul ou avec moins d’aide .Cet atelier gratuit est ouvert à tous de 7 à 99 ans\, de 10h à 13h\, place de la victoire\, au marché Eco responsable du printemps de l’environnement de Palaiseau Où ? Marché éco-responsable du printemps de l’environnement\, place de la victoire\, 91120 Palaiseau
URL:https://mdb-idf.org/evenement/colombes-atelier-de-reparation-au-local-3/2026-01-08/
LOCATION:Atelier Colombes\, 27 rue Saint-Vincent\, Colombes\, 92
CATEGORIES:Atelier de réparation
ATTACH;FMTTYPE=image/jpeg:https://mdb-idf.org/wp-content/uploads/2025/09/Atelier-Local-1.jpg
END:VEVENT
BEGIN:VEVENT
DTSTART;TZID=Europe/Paris:20260110T100000
DTEND;TZID=Europe/Paris:20260110T120000
DTSTAMP:20260422T170633
CREATED:20250922T151847Z
LAST-MODIFIED:20250922T151847Z
UID:10003699-1768039200-1768046400@mdb-idf.org
SUMMARY:Aulnay-sous-Bois - Atelier d'auto-réparation 🔧
DESCRIPTION:Atelier d’aide à la réparation véloVotre vélo  a besoin d’une petite remise en état ? Une roue à plat ou un dérailleur à régler ? Passez nous voir lors de notre atelier d’aide à la réparation\, nous serons ravis de vous aider.Le principe : On a tous les outils nécessaires sur place et on vous aide\, un peu ou beaucoup\, pour remettre votre vélo en état. Si besoin\, on peut dépanner de quelques pièces mécaniques de base à prix coutant ou vous pouvez venir avec les vôtres. Vous repartez fier d’avoir participé à la remise en état de votre monture et\, la prochaine fois\, vous saurez faire seul ou avec moins d’aide .Cet atelier gratuit est ouvert à tous de 7 à 99 ans\, de 10h à 13h\, place de la victoire\, au marché Eco responsable du printemps de l’environnement de Palaiseau Où ? Marché éco-responsable du printemps de l’environnement\, place de la victoire\, 91120 Palaiseau
URL:https://mdb-idf.org/evenement/aulnay-sous-bois-atelier-dauto-reparation-%f0%9f%94%a7/2026-01-10/
LOCATION:Parking vélo de la gare d’Aulnay-sous-Bois\, rue du 11 novembre\, Aulnay-sous-Bois\, 93800
CATEGORIES:Atelier de réparation
ATTACH;FMTTYPE=image/png:https://mdb-idf.org/wp-content/uploads/2025/03/Copie-de-Visuels-pour-OpenAgenda.png
ORGANIZER;CN="MDB Aulnay-sous-Bois":MAILTO:aulnay-a-velo@mdb-idf.org
END:VEVENT
BEGIN:VEVENT
DTSTART;TZID=Europe/Paris:20260115T200000
DTEND;TZID=Europe/Paris:20260115T223000
DTSTAMP:20260422T170633
CREATED:20250905T220855Z
LAST-MODIFIED:20250905T220855Z
UID:10003432-1768507200-1768516200@mdb-idf.org
SUMMARY:Colombes – Atelier de réparation au local
DESCRIPTION:Atelier d’aide à la réparation véloVotre vélo  a besoin d’une petite remise en état ? Une roue à plat ou un dérailleur à régler ? Passez nous voir lors de notre atelier d’aide à la réparation\, nous serons ravis de vous aider.Le principe : On a tous les outils nécessaires sur place et on vous aide\, un peu ou beaucoup\, pour remettre votre vélo en état. Si besoin\, on peut dépanner de quelques pièces mécaniques de base à prix coutant ou vous pouvez venir avec les vôtres. Vous repartez fier d’avoir participé à la remise en état de votre monture et\, la prochaine fois\, vous saurez faire seul ou avec moins d’aide .Cet atelier gratuit est ouvert à tous de 7 à 99 ans\, de 10h à 13h\, place de la victoire\, au marché Eco responsable du printemps de l’environnement de Palaiseau Où ? Marché éco-responsable du printemps de l’environnement\, place de la victoire\, 91120 Palaiseau
URL:https://mdb-idf.org/evenement/colombes-atelier-de-reparation-au-local-3/2026-01-15/
LOCATION:Atelier Colombes\, 27 rue Saint-Vincent\, Colombes\, 92
CATEGORIES:Atelier de réparation
ATTACH;FMTTYPE=image/jpeg:https://mdb-idf.org/wp-content/uploads/2025/09/Atelier-Local-1.jpg
END:VEVENT
BEGIN:VEVENT
DTSTART;TZID=Europe/Paris:20260122T200000
DTEND;TZID=Europe/Paris:20260122T223000
DTSTAMP:20260422T170633
CREATED:20250905T220855Z
LAST-MODIFIED:20250905T220855Z
UID:10003433-1769112000-1769121000@mdb-idf.org
SUMMARY:Colombes – Atelier de réparation au local
DESCRIPTION:Atelier d’aide à la réparation véloVotre vélo  a besoin d’une petite remise en état ? Une roue à plat ou un dérailleur à régler ? Passez nous voir lors de notre atelier d’aide à la réparation\, nous serons ravis de vous aider.Le principe : On a tous les outils nécessaires sur place et on vous aide\, un peu ou beaucoup\, pour remettre votre vélo en état. Si besoin\, on peut dépanner de quelques pièces mécaniques de base à prix coutant ou vous pouvez venir avec les vôtres. Vous repartez fier d’avoir participé à la remise en état de votre monture et\, la prochaine fois\, vous saurez faire seul ou avec moins d’aide .Cet atelier gratuit est ouvert à tous de 7 à 99 ans\, de 10h à 13h\, place de la victoire\, au marché Eco responsable du printemps de l’environnement de Palaiseau Où ? Marché éco-responsable du printemps de l’environnement\, place de la victoire\, 91120 Palaiseau
URL:https://mdb-idf.org/evenement/colombes-atelier-de-reparation-au-local-3/2026-01-22/
LOCATION:Atelier Colombes\, 27 rue Saint-Vincent\, Colombes\, 92
CATEGORIES:Atelier de réparation
ATTACH;FMTTYPE=image/jpeg:https://mdb-idf.org/wp-content/uploads/2025/09/Atelier-Local-1.jpg
END:VEVENT
BEGIN:VEVENT
DTSTART;TZID=Europe/Paris:20260124T093000
DTEND;TZID=Europe/Paris:20260124T113000
DTSTAMP:20260422T170633
CREATED:20251119T203659Z
LAST-MODIFIED:20251119T203659Z
UID:10005429-1769247000-1769254200@mdb-idf.org
SUMMARY:Atelier de co-réparation - Noisy-le-Grand
DESCRIPTION:Atelier d’aide à la réparation véloVotre vélo  a besoin d’une petite remise en état ? Une roue à plat ou un dérailleur à régler ? Passez nous voir lors de notre atelier d’aide à la réparation\, nous serons ravis de vous aider.Le principe : On a tous les outils nécessaires sur place et on vous aide\, un peu ou beaucoup\, pour remettre votre vélo en état. Si besoin\, on peut dépanner de quelques pièces mécaniques de base à prix coutant ou vous pouvez venir avec les vôtres. Vous repartez fier d’avoir participé à la remise en état de votre monture et\, la prochaine fois\, vous saurez faire seul ou avec moins d’aide .Cet atelier gratuit est ouvert à tous de 7 à 99 ans\, de 10h à 13h\, place de la victoire\, au marché Eco responsable du printemps de l’environnement de Palaiseau Où ? Marché éco-responsable du printemps de l’environnement\, place de la victoire\, 91120 Palaiseau
URL:https://mdb-idf.org/evenement/atelier-de-co-reparation-noisy-le-grand-4/
LOCATION:ATD Quart Monde\, 77 rue Jules Ferry\, Noisy-le-Grand\, 93160
CATEGORIES:Atelier de réparation
ATTACH;FMTTYPE=image/jpeg:https://mdb-idf.org/wp-content/uploads/2025/10/Atelier_2.jpeg
END:VEVENT
BEGIN:VEVENT
DTSTART;TZID=Europe/Paris:20260125T100000
DTEND;TZID=Europe/Paris:20260125T130000
DTSTAMP:20260422T170633
CREATED:20240828T181222Z
LAST-MODIFIED:20250310T191759Z
UID:10001136-1769335200-1769346000@mdb-idf.org
SUMMARY:Colombes - Atelier de réparation au marché du Centre
DESCRIPTION:Atelier d’aide à la réparation véloVotre vélo  a besoin d’une petite remise en état ? Une roue à plat ou un dérailleur à régler ? Passez nous voir lors de notre atelier d’aide à la réparation\, nous serons ravis de vous aider.Le principe : On a tous les outils nécessaires sur place et on vous aide\, un peu ou beaucoup\, pour remettre votre vélo en état. Si besoin\, on peut dépanner de quelques pièces mécaniques de base à prix coutant ou vous pouvez venir avec les vôtres. Vous repartez fier d’avoir participé à la remise en état de votre monture et\, la prochaine fois\, vous saurez faire seul ou avec moins d’aide .Cet atelier gratuit est ouvert à tous de 7 à 99 ans\, de 10h à 13h\, place de la victoire\, au marché Eco responsable du printemps de l’environnement de Palaiseau Où ? Marché éco-responsable du printemps de l’environnement\, place de la victoire\, 91120 Palaiseau
URL:https://mdb-idf.org/evenement/colombes-atelier-de-reparation-au-marche-centre-2/2026-01-25/
LOCATION:Marché du Centre\, 52 rue du Bournard\, Colombes\, 92700
CATEGORIES:Atelier de réparation
ATTACH;FMTTYPE=image/jpeg:https://mdb-idf.org/wp-content/uploads/2024/07/Marche-Centre.jpg
END:VEVENT
BEGIN:VEVENT
DTSTART;TZID=Europe/Paris:20260129T200000
DTEND;TZID=Europe/Paris:20260129T223000
DTSTAMP:20260422T170633
CREATED:20250905T220855Z
LAST-MODIFIED:20250905T220855Z
UID:10003434-1769716800-1769725800@mdb-idf.org
SUMMARY:Colombes – Atelier de réparation au local
DESCRIPTION:Atelier d’aide à la réparation véloVotre vélo  a besoin d’une petite remise en état ? Une roue à plat ou un dérailleur à régler ? Passez nous voir lors de notre atelier d’aide à la réparation\, nous serons ravis de vous aider.Le principe : On a tous les outils nécessaires sur place et on vous aide\, un peu ou beaucoup\, pour remettre votre vélo en état. Si besoin\, on peut dépanner de quelques pièces mécaniques de base à prix coutant ou vous pouvez venir avec les vôtres. Vous repartez fier d’avoir participé à la remise en état de votre monture et\, la prochaine fois\, vous saurez faire seul ou avec moins d’aide .Cet atelier gratuit est ouvert à tous de 7 à 99 ans\, de 10h à 13h\, place de la victoire\, au marché Eco responsable du printemps de l’environnement de Palaiseau Où ? Marché éco-responsable du printemps de l’environnement\, place de la victoire\, 91120 Palaiseau
URL:https://mdb-idf.org/evenement/colombes-atelier-de-reparation-au-local-3/2026-01-29/
LOCATION:Atelier Colombes\, 27 rue Saint-Vincent\, Colombes\, 92
CATEGORIES:Atelier de réparation
ATTACH;FMTTYPE=image/jpeg:https://mdb-idf.org/wp-content/uploads/2025/09/Atelier-Local-1.jpg
END:VEVENT
END:VCALENDAR