BEGIN:VCALENDAR
VERSION:2.0
PRODID:-//Mieux se Déplacer à Bicyclette - ECPv6.15.20//NONSGML v1.0//EN
CALSCALE:GREGORIAN
METHOD:PUBLISH
X-WR-CALNAME:Mieux se Déplacer à Bicyclette
X-ORIGINAL-URL:https://mdb-idf.org
X-WR-CALDESC:Évènements pour Mieux se Déplacer à Bicyclette
REFRESH-INTERVAL;VALUE=DURATION:PT1H
X-Robots-Tag:noindex
X-PUBLISHED-TTL:PT1H
BEGIN:VTIMEZONE
TZID:Europe/Paris
BEGIN:DAYLIGHT
TZOFFSETFROM:+0100
TZOFFSETTO:+0200
TZNAME:CEST
DTSTART:20230326T010000
END:DAYLIGHT
BEGIN:STANDARD
TZOFFSETFROM:+0200
TZOFFSETTO:+0100
TZNAME:CET
DTSTART:20231029T010000
END:STANDARD
BEGIN:DAYLIGHT
TZOFFSETFROM:+0100
TZOFFSETTO:+0200
TZNAME:CEST
DTSTART:20240331T010000
END:DAYLIGHT
BEGIN:STANDARD
TZOFFSETFROM:+0200
TZOFFSETTO:+0100
TZNAME:CET
DTSTART:20241027T010000
END:STANDARD
BEGIN:DAYLIGHT
TZOFFSETFROM:+0100
TZOFFSETTO:+0200
TZNAME:CEST
DTSTART:20250330T010000
END:DAYLIGHT
BEGIN:STANDARD
TZOFFSETFROM:+0200
TZOFFSETTO:+0100
TZNAME:CET
DTSTART:20251026T010000
END:STANDARD
END:VTIMEZONE
BEGIN:VEVENT
DTSTART;TZID=Europe/Paris:20240204T090000
DTEND;TZID=Europe/Paris:20240204T130000
DTSTAMP:20260419T171024
CREATED:20240122T114125Z
LAST-MODIFIED:20240123T095828Z
UID:10000149-1707037200-1707051600@mdb-idf.org
SUMMARY:Nogent Le Perreux - Balade "La Ville à Vélo"
DESCRIPTION:L’antenne de Nogent-Le Perreux propose\, en partenariat avec l’autre association locale « Les Vélos du Viaduc » et notre vélociste du vélo quotidien\, « Quai des Cycles »\, une balade autour des aménagements cyclables du Val-de-Marne. Qu’est-ce qui est réussi ? Qu’est-ce qui est raté ? Qu’est-il prévu pour les trois prochaines années ? Nous balaierons tout cela au gré d’une boucle de 35 kilomètres parcourue à allure tranquille ! \nRendez-vous chez Quai des Cycles le dimanche 04/02\, à 9h00\, pour un café de bienvenue !
URL:https://mdb-idf.org/evenement/nogent-perreux-balade-ville-velo-departement/
LOCATION:Quai des Cycles\, Gare SNCF de Nogent - Le Perreux\, Nogent-sur-Marne\, 94230\, France
CATEGORIES:Balade
ATTACH;FMTTYPE=image/jpeg:https://mdb-idf.org/wp-content/uploads/2024/01/Visuel-04022024.jpg
ORGANIZER;CN="Nogent Le Perreux":MAILTO:nogentleperreux@mdb-idf.org
END:VEVENT
BEGIN:VEVENT
DTSTART;TZID=Europe/Paris:20240224T140000
DTEND;TZID=Europe/Paris:20240224T190000
DTSTAMP:20260419T171024
CREATED:20240213T222420Z
LAST-MODIFIED:20240213T222420Z
UID:10000165-1708783200-1708801200@mdb-idf.org
SUMMARY:Balade de février : de Noisy-le-Grand à Chelles en passant par Lognes
DESCRIPTION:Nous rejoignons la Fiesta organisée par la toute jeune antenne de Chelles depuis Noisy-le-Grand et en chemin nous nous arrêtons pour découvrir la vélostation de Lognes.
URL:https://mdb-idf.org/evenement/balade-de-fevrier-de-noisy-le-grand-a-chelles-en-passant-par-lognes/
LOCATION:Mairie de Noisy-le-Grand\, place de la Libération\, Noisy le Grand\, 93160\, France
CATEGORIES:Balade
ATTACH;FMTTYPE=image/jpeg:https://mdb-idf.org/wp-content/uploads/2024/02/Affiche_Balade_2024_02_24_V01-scaled.jpg
END:VEVENT
BEGIN:VEVENT
DTSTART;TZID=Europe/Paris:20240224T173000
DTEND;TZID=Europe/Paris:20240224T190000
DTSTAMP:20260419T171024
CREATED:20240207T222102Z
LAST-MODIFIED:20240208T112241Z
UID:10000157-1708795800-1708801200@mdb-idf.org
SUMMARY:Fiesta Vélo Carnaval à Chelles le 24 février !
DESCRIPTION:🥳 Venez faire la fête 🎊 à vélo 🚴 dans les rues de Chelles\, en famille ou entre amis\, déguisés\, avec des guirlandes lumineuses 🌟 et en musique 🎶📣🎵 !\nC’est ambiance Carnaval 🤡 ! Inscription gratuite ! \nRendez-vous à la gare RER de Chelles-Gournay devant les Ciboulettes 🌱.\n🚲 Nous déambulerons sur un parcours plat en sécurité dans les rues de Chelles centre ville. \nHeure de RDV pour la préparation et les déguisements : 17h30 \n⏱ Départ à vélo devant Les Ciboulettes : 18h \nArrivée : 19h\, avec un apéro pour finir et se réchauffer (lieu à confirmer\, avenue de la Résistance) \n🛤 Parcours : 1 heure\, pour une distance de 8 km environ avec des pauses. Adapté à tous publics\, aux enfants et personnes âgées. \nApportez vos déguisements\, de quoi faire du bruit (sifflets\, sonnettes\, clochettes\, …) et de la lumière ! \n🚴 Et pour fêter la création de l’antenne de Chelles de l’association francilienne Mieux se Déplacer à Bicyclette\, nous vous proposerons pour ceux qui le souhaitent de rester avec nous après la parade pour un moment convivial dans un bar du centre ville (lieu encore à déterminer).
URL:https://mdb-idf.org/evenement/fiesta-velo-carnaval-a-chelles/
CATEGORIES:Balade
ATTACH;FMTTYPE=image/jpeg:https://mdb-idf.org/wp-content/uploads/2024/02/417464895_122123803148147405_8166167482109189131_n.jpg
ORGANIZER;CN="MDB Chelles":MAILTO:chelles@mdb-idf.org
END:VEVENT
END:VCALENDAR