BEGIN:VCALENDAR
VERSION:2.0
PRODID:-//Mieux se Déplacer à Bicyclette - ECPv6.15.20//NONSGML v1.0//EN
CALSCALE:GREGORIAN
METHOD:PUBLISH
X-ORIGINAL-URL:https://mdb-idf.org
X-WR-CALDESC:Évènements pour Mieux se Déplacer à Bicyclette
REFRESH-INTERVAL;VALUE=DURATION:PT1H
X-Robots-Tag:noindex
X-PUBLISHED-TTL:PT1H
BEGIN:VTIMEZONE
TZID:Europe/Paris
BEGIN:DAYLIGHT
TZOFFSETFROM:+0100
TZOFFSETTO:+0200
TZNAME:CEST
DTSTART:20230326T010000
END:DAYLIGHT
BEGIN:STANDARD
TZOFFSETFROM:+0200
TZOFFSETTO:+0100
TZNAME:CET
DTSTART:20231029T010000
END:STANDARD
BEGIN:DAYLIGHT
TZOFFSETFROM:+0100
TZOFFSETTO:+0200
TZNAME:CEST
DTSTART:20240331T010000
END:DAYLIGHT
BEGIN:STANDARD
TZOFFSETFROM:+0200
TZOFFSETTO:+0100
TZNAME:CET
DTSTART:20241027T010000
END:STANDARD
BEGIN:DAYLIGHT
TZOFFSETFROM:+0100
TZOFFSETTO:+0200
TZNAME:CEST
DTSTART:20250330T010000
END:DAYLIGHT
BEGIN:STANDARD
TZOFFSETFROM:+0200
TZOFFSETTO:+0100
TZNAME:CET
DTSTART:20251026T010000
END:STANDARD
END:VTIMEZONE
BEGIN:VEVENT
DTSTART;TZID=Europe/Paris:20240420T170000
DTEND;TZID=Europe/Paris:20240420T190000
DTSTAMP:20260419T172445
CREATED:20240313T113635Z
LAST-MODIFIED:20240409T092009Z
UID:10000099-1713632400-1713639600@mdb-idf.org
SUMMARY:Temps convivial le samedi 20 avril à Chelles
DESCRIPTION:En amont de la fiesta Vélo du 27 avril\, nous vous proposons un temps convivial pour apprendre à nous connaitre entre adhérents chellois. \nLe samedi 20 avril à 17h RDV à la Place Cala. \nNous testerons le parcours et la sécurisation du cortège. Voici la trace. \nEt nous vous proposons de finir autour d’un verre à la Guinche. \nConfirmez votre présence par mail ou sur le groupe Whatsapp. \n 
URL:https://mdb-idf.org/evenement/temps-convivial-le-samedi-20-avril-a-chelles/
LOCATION:Place Cala\, Place Cala\, Chelles\, France\, 77500\, France
CATEGORIES:Balade
ATTACH;FMTTYPE=image/png:https://mdb-idf.org/wp-content/uploads/2024/02/logo_Chelles-fond-transparent.png
END:VEVENT
END:VCALENDAR