BEGIN:VCALENDAR
VERSION:2.0
PRODID:-//Mieux se Déplacer à Bicyclette - ECPv6.15.20//NONSGML v1.0//EN
CALSCALE:GREGORIAN
METHOD:PUBLISH
X-WR-CALNAME:Mieux se Déplacer à Bicyclette
X-ORIGINAL-URL:https://mdb-idf.org
X-WR-CALDESC:Évènements pour Mieux se Déplacer à Bicyclette
REFRESH-INTERVAL;VALUE=DURATION:PT1H
X-Robots-Tag:noindex
X-PUBLISHED-TTL:PT1H
BEGIN:VTIMEZONE
TZID:Europe/Paris
BEGIN:DAYLIGHT
TZOFFSETFROM:+0100
TZOFFSETTO:+0200
TZNAME:CEST
DTSTART:20230326T010000
END:DAYLIGHT
BEGIN:STANDARD
TZOFFSETFROM:+0200
TZOFFSETTO:+0100
TZNAME:CET
DTSTART:20231029T010000
END:STANDARD
BEGIN:DAYLIGHT
TZOFFSETFROM:+0100
TZOFFSETTO:+0200
TZNAME:CEST
DTSTART:20240331T010000
END:DAYLIGHT
BEGIN:STANDARD
TZOFFSETFROM:+0200
TZOFFSETTO:+0100
TZNAME:CET
DTSTART:20241027T010000
END:STANDARD
BEGIN:DAYLIGHT
TZOFFSETFROM:+0100
TZOFFSETTO:+0200
TZNAME:CEST
DTSTART:20250330T010000
END:DAYLIGHT
BEGIN:STANDARD
TZOFFSETFROM:+0200
TZOFFSETTO:+0100
TZNAME:CET
DTSTART:20251026T010000
END:STANDARD
END:VTIMEZONE
BEGIN:VEVENT
DTSTART;TZID=Europe/Paris:20240914T100000
DTEND;TZID=Europe/Paris:20240914T170000
DTSTAMP:20260423T024418
CREATED:20240903T084830Z
LAST-MODIFIED:20240903T085154Z
UID:10000900-1726308000-1726333200@mdb-idf.org
SUMMARY:Cachan - Forum des associations
DESCRIPTION:
URL:https://mdb-idf.org/evenement/cachan-forum-des-associations/
LOCATION:Parc Raspail\, 15 rue Gallieni\, Cachan
CATEGORIES:Forum des associations
END:VEVENT
BEGIN:VEVENT
DTSTART;TZID=Europe/Paris:20240914T100000
DTEND;TZID=Europe/Paris:20240914T170000
DTSTAMP:20260423T024418
CREATED:20240916T113442Z
LAST-MODIFIED:20240916T113645Z
UID:10001248-1726308000-1726333200@mdb-idf.org
SUMMARY:Carrefour des associations de Chelles
DESCRIPTION:
URL:https://mdb-idf.org/evenement/carrefour-des-associations-de-chelles/
LOCATION:Haut de Seine
CATEGORIES:Forum des associations
ATTACH;FMTTYPE=image/jpeg:https://mdb-idf.org/wp-content/uploads/2024/09/IMG_3901-scaled.jpeg
END:VEVENT
END:VCALENDAR