BEGIN:VCALENDAR
VERSION:2.0
PRODID:-//Mieux se Déplacer à Bicyclette - ECPv6.15.20//NONSGML v1.0//EN
CALSCALE:GREGORIAN
METHOD:PUBLISH
X-WR-CALNAME:Mieux se Déplacer à Bicyclette
X-ORIGINAL-URL:https://mdb-idf.org
X-WR-CALDESC:Évènements pour Mieux se Déplacer à Bicyclette
REFRESH-INTERVAL;VALUE=DURATION:PT1H
X-Robots-Tag:noindex
X-PUBLISHED-TTL:PT1H
BEGIN:VTIMEZONE
TZID:Europe/Paris
BEGIN:DAYLIGHT
TZOFFSETFROM:+0100
TZOFFSETTO:+0200
TZNAME:CEST
DTSTART:20240331T010000
END:DAYLIGHT
BEGIN:STANDARD
TZOFFSETFROM:+0200
TZOFFSETTO:+0100
TZNAME:CET
DTSTART:20241027T010000
END:STANDARD
BEGIN:DAYLIGHT
TZOFFSETFROM:+0100
TZOFFSETTO:+0200
TZNAME:CEST
DTSTART:20250330T010000
END:DAYLIGHT
BEGIN:STANDARD
TZOFFSETFROM:+0200
TZOFFSETTO:+0100
TZNAME:CET
DTSTART:20251026T010000
END:STANDARD
BEGIN:DAYLIGHT
TZOFFSETFROM:+0100
TZOFFSETTO:+0200
TZNAME:CEST
DTSTART:20260329T010000
END:DAYLIGHT
BEGIN:STANDARD
TZOFFSETFROM:+0200
TZOFFSETTO:+0100
TZNAME:CET
DTSTART:20261025T010000
END:STANDARD
END:VTIMEZONE
BEGIN:VEVENT
DTSTART;VALUE=DATE:20250330
DTEND;VALUE=DATE:20250331
DTSTAMP:20260420T112821
CREATED:20250216T162139Z
LAST-MODIFIED:20250916T123020Z
UID:10001763-1743292800-1743379199@mdb-idf.org
SUMMARY:Banlieue Est à Vélo le dimanche 30 mars
DESCRIPTION:Le dimanche 30 mars\, venez rouler avec nous et avec toutes les associations vélo de l’Est francilien ! \nNous retrouverons tout le long du trajet d’autres cyclistes et nous irons à l’Île-de-loisirs de Torcy pour pique-niquer en toute convivialité. \nMontrons que nous voulons plus de place pour le vélo\, soyons nombreux ! \nLieux et horaire de départ selon votre ville de départ : \n \n\nParticipation gratuite.\nBalade accessible à toutes et tous\, enfants compris.\nPique-nique et eau à prévoir.\nRetour au choix\, ensemble ou en autonomie. Il y a la possibilité aussi de revenir par le train\, par exemple par la gare de Vaires-sur-Marne (Ligne P)\, Chelles (RER E)\, Torcy (RER A)…\n\n 
URL:https://mdb-idf.org/evenement/banlieue-est-a-velo-le-dimanche-30-mars/
CATEGORIES:Balade,Manifestation
ATTACH;FMTTYPE=image/png:https://mdb-idf.org/wp-content/uploads/2025/02/Version-1.png
ORGANIZER;CN="MDB":MAILTO:courrier@mdb-idf.org
END:VEVENT
END:VCALENDAR