BEGIN:VCALENDAR
VERSION:2.0
PRODID:-//Mieux se Déplacer à Bicyclette - ECPv6.15.20//NONSGML v1.0//EN
CALSCALE:GREGORIAN
METHOD:PUBLISH
X-WR-CALNAME:Mieux se Déplacer à Bicyclette
X-ORIGINAL-URL:https://mdb-idf.org
X-WR-CALDESC:Évènements pour Mieux se Déplacer à Bicyclette
REFRESH-INTERVAL;VALUE=DURATION:PT1H
X-Robots-Tag:noindex
X-PUBLISHED-TTL:PT1H
BEGIN:VTIMEZONE
TZID:Europe/Paris
BEGIN:DAYLIGHT
TZOFFSETFROM:+0100
TZOFFSETTO:+0200
TZNAME:CEST
DTSTART:20240331T010000
END:DAYLIGHT
BEGIN:STANDARD
TZOFFSETFROM:+0200
TZOFFSETTO:+0100
TZNAME:CET
DTSTART:20241027T010000
END:STANDARD
BEGIN:DAYLIGHT
TZOFFSETFROM:+0100
TZOFFSETTO:+0200
TZNAME:CEST
DTSTART:20250330T010000
END:DAYLIGHT
BEGIN:STANDARD
TZOFFSETFROM:+0200
TZOFFSETTO:+0100
TZNAME:CET
DTSTART:20251026T010000
END:STANDARD
BEGIN:DAYLIGHT
TZOFFSETFROM:+0100
TZOFFSETTO:+0200
TZNAME:CEST
DTSTART:20260329T010000
END:DAYLIGHT
BEGIN:STANDARD
TZOFFSETFROM:+0200
TZOFFSETTO:+0100
TZNAME:CET
DTSTART:20261025T010000
END:STANDARD
END:VTIMEZONE
BEGIN:VEVENT
DTSTART;TZID=Europe/Paris:20250920T140000
DTEND;TZID=Europe/Paris:20250920T170000
DTSTAMP:20260421T183547
CREATED:20250918T132719Z
LAST-MODIFIED:20250918T132719Z
UID:10003662-1758376800-1758387600@mdb-idf.org
SUMMARY:Marquage vélo et échanges sur la mobilité - Fête de la Transition
DESCRIPTION:Vous pourrez faire graver votre vélo\, répondre à des questions sur la sécurité à vélo ou encore discuter des aménagements prévus par le plan vélo à Arcueil\, sur la RD920 et dans les villes voisines. \nVous pourrez aussi profiter d’autres activités vélo proposées dans le cadre de cette fête !
URL:https://mdb-idf.org/evenement/marquage-velo-et-echanges-sur-la-mobilite-fete-de-la-transition/
LOCATION:Maison de l’Environnement du Val de Bièvre\, 66\, rue de la Division du Général Leclerc\, Arcueil\, France
CATEGORIES:Marquage Bicycode
ATTACH;FMTTYPE=image/jpeg:https://mdb-idf.org/wp-content/uploads/2025/09/Affiche-Fete-transition-2025-ALR.jpg
END:VEVENT
END:VCALENDAR