BEGIN:VCALENDAR
VERSION:2.0
PRODID:-//Mieux se Déplacer à Bicyclette - ECPv6.15.20//NONSGML v1.0//EN
CALSCALE:GREGORIAN
METHOD:PUBLISH
X-WR-CALNAME:Mieux se Déplacer à Bicyclette
X-ORIGINAL-URL:https://mdb-idf.org
X-WR-CALDESC:Évènements pour Mieux se Déplacer à Bicyclette
REFRESH-INTERVAL;VALUE=DURATION:PT1H
X-Robots-Tag:noindex
X-PUBLISHED-TTL:PT1H
BEGIN:VTIMEZONE
TZID:Europe/Paris
BEGIN:DAYLIGHT
TZOFFSETFROM:+0100
TZOFFSETTO:+0200
TZNAME:CEST
DTSTART:20220327T010000
END:DAYLIGHT
BEGIN:STANDARD
TZOFFSETFROM:+0200
TZOFFSETTO:+0100
TZNAME:CET
DTSTART:20221030T010000
END:STANDARD
BEGIN:DAYLIGHT
TZOFFSETFROM:+0100
TZOFFSETTO:+0200
TZNAME:CEST
DTSTART:20230326T010000
END:DAYLIGHT
BEGIN:STANDARD
TZOFFSETFROM:+0200
TZOFFSETTO:+0100
TZNAME:CET
DTSTART:20231029T010000
END:STANDARD
BEGIN:DAYLIGHT
TZOFFSETFROM:+0100
TZOFFSETTO:+0200
TZNAME:CEST
DTSTART:20240331T010000
END:DAYLIGHT
BEGIN:STANDARD
TZOFFSETFROM:+0200
TZOFFSETTO:+0100
TZNAME:CET
DTSTART:20241027T010000
END:STANDARD
BEGIN:DAYLIGHT
TZOFFSETFROM:+0100
TZOFFSETTO:+0200
TZNAME:CEST
DTSTART:20250330T010000
END:DAYLIGHT
BEGIN:STANDARD
TZOFFSETFROM:+0200
TZOFFSETTO:+0100
TZNAME:CET
DTSTART:20251026T010000
END:STANDARD
BEGIN:DAYLIGHT
TZOFFSETFROM:+0100
TZOFFSETTO:+0200
TZNAME:CEST
DTSTART:20260329T010000
END:DAYLIGHT
BEGIN:STANDARD
TZOFFSETFROM:+0200
TZOFFSETTO:+0100
TZNAME:CET
DTSTART:20261025T010000
END:STANDARD
BEGIN:DAYLIGHT
TZOFFSETFROM:+0100
TZOFFSETTO:+0200
TZNAME:CEST
DTSTART:20270328T010000
END:DAYLIGHT
BEGIN:STANDARD
TZOFFSETFROM:+0200
TZOFFSETTO:+0100
TZNAME:CET
DTSTART:20271031T010000
END:STANDARD
END:VTIMEZONE
BEGIN:VEVENT
DTSTART;TZID=Europe/Paris:20260329T101500
DTEND;TZID=Europe/Paris:20260329T160000
DTSTAMP:20260423T103734
CREATED:20260301T073228Z
LAST-MODIFIED:20260314T101346Z
UID:10005787-1774779300-1774800000@mdb-idf.org
SUMMARY:Balade d'Antony vers le lac Daumesnil à Paris le 29/03
DESCRIPTION:Antony à Vélo organise\, comme chaque année\, une balade de printemps\, sans inscription et ouverte à tous : adhérents et non-adhérents à l’association\, habitants à Antony ou ailleurs. \nNous vous proposons de faire ensemble et à votre rythme une balade de moins de 40 km jusqu’à Paris\, en passant par les nouveaux aménagements de la D920 et par la Cité Universitaire\, jusqu’au lac Daumesnil à côté duquel nous ferons une pause pique-nique. Nous rentrerons vers Antony en longeant une partie de la Seine. \nL’itinéraire prévoit de circuler dans des rues calmes et en majorité sur des voies cyclables. \nRendez-vous devant la toute nouvelle Maison du Vélo\, 3 Mail Eugène Beaudoin près de la Croix de Berny\, dimanche 29 mars 2026 à 10h15 pour un départ à 10h30. Retour vers 16h00. Prévoir un pique-nique et un nécessaire de réparation. Vérifier le gonflage et l’état général de vos vélos avant la balade. Les enfants à partir de 7 ans ayant l’habitude de pédaler sont les bienvenus. \nA noter : la Maison du Vélo peut proposer\, en nombre limité\, le prêt de vélos Veligo (musculaires ou VAE) pour cette balade. Contactez-nous si vous êtes intéressés.
URL:https://mdb-idf.org/evenement/balade-dantony-vers-le-lac-daumesnil-a-paris-le-29-03/
LOCATION:Maison du Vélo à Antony\, 3 Mail Eugène Beaudoin\, Antony\, 92160\, France
CATEGORIES:Balade
ATTACH;FMTTYPE=image/webp:https://mdb-idf.org/wp-content/uploads/2026/03/641244626_17951068755089900_2353238802437336623_n.webp
ORGANIZER;CN="Antony %C3%A0 V%C3%A9lo":MAILTO:antony@mdb-idf.org
END:VEVENT
BEGIN:VEVENT
DTSTART;TZID=Europe/Paris:20260313T190000
DTEND;TZID=Europe/Paris:20260313T203000
DTSTAMP:20260423T103734
CREATED:20260302T073458Z
LAST-MODIFIED:20260302T073458Z
UID:10005788-1773428400-1773433800@mdb-idf.org
SUMMARY:Apéro Vélo à Antony le 13/3
DESCRIPTION:📅 Le prochain apéro vélo d’Antony à Vélo est programmé : c’est l’occasion d’échanger autour du vélo de manière informelle et conviviale.\nVous avez des questions sur les aménagements de notre ville ? 🏫\nVous souhaitez faire remonter vos infos de terrain ? 🚧\nVous aimeriez en savoir plus sur notre vélo-école pour adultes ou sur les balades que nous organisons ? 🚲🚲🚲\nOu vous avez simplement envie de rencontrer d’autres cyclistes dans votre ville ?\nVous êtes les bienvenus 🤗🤗🤗 \nNul besoin d’être adhérent pour y participer mais retenez simplement que chacun paye sa consommation \nCette nouvelle édition aura lieu :\n🗓️ vendredi 13 mars à 19h\nau Café des Sports\n📍1 Rue Auguste Mounié à Antony.\nDemandez la table « Antony à Vélo – MDB »
URL:https://mdb-idf.org/evenement/apero-velo-a-antony-le-13-3/
CATEGORIES:Apéro
ORGANIZER;CN="Antony %C3%A0 V%C3%A9lo":MAILTO:antony@mdb-idf.org
END:VEVENT
BEGIN:VEVENT
DTSTART;TZID=Europe/Paris:20251107T190000
DTEND;TZID=Europe/Paris:20251107T203000
DTSTAMP:20260423T103734
CREATED:20251005T184833Z
LAST-MODIFIED:20251005T184938Z
UID:10003815-1762542000-1762547400@mdb-idf.org
SUMMARY:Apéro Vélo à Antony le 7/11
DESCRIPTION:📅 Le prochain apéro vélo d’Antony à Vélo est programmé : c’est l’occasion d’échanger autour du vélo de manière informelle et conviviale.\nVous avez des questions sur les aménagements de notre ville ? 🏫\nVous souhaitez faire remonter vos infos de terrain ? 🚧\nVous aimeriez en savoir plus sur notre vélo-école pour adultes ou sur les balades que nous organisons ? 🚲🚲🚲\nOu vous avez simplement envie de rencontrer d’autres cyclistes dans votre ville ?\nVous êtes les bienvenus 🤗🤗🤗 \nNul besoin d’être adhérent pour y participer mais retenez simplement que chacun paye sa consommation \nCette nouvelle édition aura lieu :\n🗓️ vendredi 7 novembre à 19h\nau Café des Sports\n📍1 Rue Auguste Mounié à Antony.\nDemandez la table « Antony à Vélo – MDB »
URL:https://mdb-idf.org/evenement/apero-velo-a-antony-2/
CATEGORIES:Apéro
ORGANIZER;CN="Antony %C3%A0 V%C3%A9lo":MAILTO:antony@mdb-idf.org
END:VEVENT
BEGIN:VEVENT
DTSTART;TZID=Europe/Paris:20250525T104000
DTEND;TZID=Europe/Paris:20250525T104000
DTSTAMP:20260423T103734
CREATED:20250501T074847Z
LAST-MODIFIED:20250501T075238Z
UID:10001852-1748169600-1748169600@mdb-idf.org
SUMMARY:Convergence 2025 : 2 départs à Antony
DESCRIPTION:Antony à Vélo co-organise avec l’ensemble des antennes de MDB\, comme chaque année\, la Convergence Vélo\, le plus grand rassemblement cycliste d’Île-de-France\, avec 2 départs à Antony le dimanche 25 mai. \nC’est une balade festive et sécurisée vers Paris\, gratuite et ouverte à tous\, petits et grands ! \nRendez-vous\, idéalement vêtus de rouge\, couleur de la branche\, avec un pique-nique\, devant l’hôtel de ville d’Antony à 10h40\, ou au carrefour de la Croix de Berny (D920) à 10h50. Arrivée vers 12h30 à Paris près des Invalides. Puis\, si vous souhaitez continuer\, parade parisienne à 14h00. Retour\, soit en RER (vélos acceptés)\, soit en petits groupes par la Coulée Verte.
URL:https://mdb-idf.org/evenement/convergence-2025-2-departs-a-antony/
LOCATION:Antony : Hôtel de ville\, Pl. de l'Hôtel de ville\, Antony\, 92160\, France
CATEGORIES:Balade
ATTACH;FMTTYPE=application/pdf:https://mdb-idf.org/wp-content/uploads/2025/05/Convergence-2025-A3-plein.pdf.pdf
ORGANIZER;CN="Antony %C3%A0 V%C3%A9lo":MAILTO:antony@mdb-idf.org
END:VEVENT
BEGIN:VEVENT
DTSTART;TZID=Europe/Paris:20250330T110000
DTEND;TZID=Europe/Paris:20250330T153000
DTSTAMP:20260423T103734
CREATED:20250309T084944Z
LAST-MODIFIED:20250309T090000Z
UID:10001783-1743332400-1743348600@mdb-idf.org
SUMMARY:Balade : parcs et espaces verts autour d'Antony
DESCRIPTION:Antony à Vélo organise\, comme chaque année\, une balade de printemps\, sans inscription et ouverte à tous : adhérents et non-adhérents à l’association\, habitants à Antony ou ailleurs. \nCette année\, nous ferons ensemble et à notre rythme environ 30 km à Antony et dans les communes voisines en passant par de nombreux parcs et espaces verts (parc Heller\, parc de la Noisette\, parc des Alisiers\, parc de Sceaux\, parc La Fontaine\, parc des Aulnes\, domaine de Montjean\, parc Arthur Clark\, parc Descartes\, parc Georges Brassens et différentes sections de la Coulée Verte). \nL’itinéraire prévoit de circuler dans des rues calmes et à plus de 75% dans les parcs ou sur pistes et chemins cyclables. Rendez-vous devant le château Sarran au Parc Heller à 11h00 pour un départ à 11h15. Retour vers 15h30. Prévoir un pique-nique et un nécessaire de réparation. Vérifier le gonflage et l’état général de vos vélos avant la balade. Les enfants à partir de 7 ans ayant l’habitude de pédaler sont les bienvenus.
URL:https://mdb-idf.org/evenement/balade-parcs-et-espaces-verts-autour-dantony/
LOCATION:Devant le Chateau Sarran\, au parc Heller à Antony\, 12 Rue Prosper Legouté\, Antony\, 92160\, France
CATEGORIES:Balade
ATTACH;FMTTYPE=image/jpeg:https://mdb-idf.org/wp-content/uploads/2025/03/Sans-titre.jpeg
ORGANIZER;CN="Antony %C3%A0 V%C3%A9lo":MAILTO:antony@mdb-idf.org
END:VEVENT
BEGIN:VEVENT
DTSTART;TZID=Europe/Paris:20250328T190000
DTEND;TZID=Europe/Paris:20250328T203000
DTSTAMP:20260423T103734
CREATED:20250314T202257Z
LAST-MODIFIED:20250314T202257Z
UID:10001795-1743188400-1743193800@mdb-idf.org
SUMMARY:Apéro Vélo à Antony
DESCRIPTION:📅 Le prochain apéro vélo d’Antony à Vélo est programmé : c’est l’occasion d’échanger autour du vélo de manière informelle et conviviale.\nVous avez des questions sur les aménagements de notre ville ? 🏫\nVous souhaitez faire remonter vos infos de terrain ? 🚧\nVous aimeriez en savoir plus sur notre vélo-école pour adultes ou sur les balades que nous organisons ? 🚲🚲🚲\nOu vous avez simplement envie de rencontrer d’autres cyclistes dans votre ville ?\nVous êtes les bienvenus 🤗🤗🤗 \nNul besoin d’être adhérent pour y participer mais retenez simplement que chacun paye sa consommation  \nCette 5e édition aura lieu :\n🗓️ vendredi 28 mars à 19h\nau Café de la gare @cafedelagareantony\n📍6 rue Velpeau à Antony.\nDemandez la table « Antony à Vélo – MDB »
URL:https://mdb-idf.org/evenement/apero-velo-a-antony/
LOCATION:Café de la gare à Antony\, 6 rue Velpeau\, Antony\, 92160\, France
CATEGORIES:Apéro
ATTACH;FMTTYPE=image/webp:https://mdb-idf.org/wp-content/uploads/2025/03/483857079_17912661693089900_5109417036530628622_n.webp
ORGANIZER;CN="Antony %C3%A0 V%C3%A9lo":MAILTO:antony@mdb-idf.org
END:VEVENT
BEGIN:VEVENT
DTSTART;TZID=Europe/Paris:20240502T203000
DTEND;TZID=Europe/Paris:20240502T223000
DTSTAMP:20260423T103734
CREATED:20231210T091759Z
LAST-MODIFIED:20231210T091955Z
UID:10000142-1714681800-1714689000@mdb-idf.org
SUMMARY:Antony - Réunion Mensuelle
DESCRIPTION:Comme tous les premiers jeudis du mois\, rendez-vous à l’Espace Vasarely !
URL:https://mdb-idf.org/evenement/antony-reunion-mensuelle-5/
LOCATION:Espace Vasarely\, Place des Anciens Combattants d'Afrique du Nord\, Antony\, 92160\, France
CATEGORIES:Réunion d'antenne
ATTACH;FMTTYPE=image/png:https://mdb-idf.org/wp-content/uploads/2023/11/reunionmensuelle.png
END:VEVENT
BEGIN:VEVENT
DTSTART;TZID=Europe/Paris:20240502T203000
DTEND;TZID=Europe/Paris:20240502T223000
DTSTAMP:20260423T103734
CREATED:20231210T091505Z
LAST-MODIFIED:20231222T145951Z
UID:10000140-1714681800-1714689000@mdb-idf.org
SUMMARY:Antony - Réunion Mensuelle
DESCRIPTION:Comme tous les premiers jeudis du mois\, rendez-vous à l’Espace Vasarely !
URL:https://mdb-idf.org/evenement/antony-reunion-mensuelle-2/2024-05-02/
LOCATION:Espace Vasarely\, Place des Anciens Combattants d'Afrique du Nord\, Antony\, 92160\, France
CATEGORIES:Réunion d'antenne
ATTACH;FMTTYPE=image/png:https://mdb-idf.org/wp-content/uploads/2023/11/reunionmensuelle.png
END:VEVENT
BEGIN:VEVENT
DTSTART;TZID=Europe/Paris:20240404T203000
DTEND;TZID=Europe/Paris:20240404T223000
DTSTAMP:20260423T103734
CREATED:20231210T091708Z
LAST-MODIFIED:20231210T091955Z
UID:10000141-1712262600-1712269800@mdb-idf.org
SUMMARY:Antony - Réunion Mensuelle
DESCRIPTION:Comme tous les premiers jeudis du mois\, rendez-vous à l’Espace Vasarely !
URL:https://mdb-idf.org/evenement/antony-reunion-mensuelle-4/
LOCATION:Espace Vasarely\, Place des Anciens Combattants d'Afrique du Nord\, Antony\, 92160\, France
CATEGORIES:Réunion d'antenne
ATTACH;FMTTYPE=image/png:https://mdb-idf.org/wp-content/uploads/2023/11/reunionmensuelle.png
END:VEVENT
BEGIN:VEVENT
DTSTART;TZID=Europe/Paris:20240404T203000
DTEND;TZID=Europe/Paris:20240404T223000
DTSTAMP:20260423T103734
CREATED:20231210T091505Z
LAST-MODIFIED:20231222T145951Z
UID:10000139-1712262600-1712269800@mdb-idf.org
SUMMARY:Antony - Réunion Mensuelle
DESCRIPTION:Comme tous les premiers jeudis du mois\, rendez-vous à l’Espace Vasarely !
URL:https://mdb-idf.org/evenement/antony-reunion-mensuelle-2/2024-04-04/
LOCATION:Espace Vasarely\, Place des Anciens Combattants d'Afrique du Nord\, Antony\, 92160\, France
CATEGORIES:Réunion d'antenne
ATTACH;FMTTYPE=image/png:https://mdb-idf.org/wp-content/uploads/2023/11/reunionmensuelle.png
END:VEVENT
BEGIN:VEVENT
DTSTART;TZID=Europe/Paris:20240307T203000
DTEND;TZID=Europe/Paris:20240307T223000
DTSTAMP:20260423T103734
CREATED:20231210T091505Z
LAST-MODIFIED:20231222T145951Z
UID:10000138-1709843400-1709850600@mdb-idf.org
SUMMARY:Antony - Réunion Mensuelle
DESCRIPTION:Comme tous les premiers jeudis du mois\, rendez-vous à l’Espace Vasarely !
URL:https://mdb-idf.org/evenement/antony-reunion-mensuelle-2/2024-03-07/
LOCATION:Espace Vasarely\, Place des Anciens Combattants d'Afrique du Nord\, Antony\, 92160\, France
CATEGORIES:Réunion d'antenne
ATTACH;FMTTYPE=image/png:https://mdb-idf.org/wp-content/uploads/2023/11/reunionmensuelle.png
END:VEVENT
BEGIN:VEVENT
DTSTART;TZID=Europe/Paris:20240201T203000
DTEND;TZID=Europe/Paris:20240201T223000
DTSTAMP:20260423T103734
CREATED:20231210T091505Z
LAST-MODIFIED:20231222T145951Z
UID:10000137-1706819400-1706826600@mdb-idf.org
SUMMARY:Antony - Réunion Mensuelle
DESCRIPTION:Comme tous les premiers jeudis du mois\, rendez-vous à l’Espace Vasarely !
URL:https://mdb-idf.org/evenement/antony-reunion-mensuelle-2/2024-02-01/
LOCATION:Espace Vasarely\, Place des Anciens Combattants d'Afrique du Nord\, Antony\, 92160\, France
CATEGORIES:Réunion d'antenne
ATTACH;FMTTYPE=image/png:https://mdb-idf.org/wp-content/uploads/2023/11/reunionmensuelle.png
END:VEVENT
BEGIN:VEVENT
DTSTART;TZID=Europe/Paris:20240111T203000
DTEND;TZID=Europe/Paris:20240111T223000
DTSTAMP:20260423T103734
CREATED:20231210T091505Z
LAST-MODIFIED:20231222T145951Z
UID:10000136-1705005000-1705012200@mdb-idf.org
SUMMARY:Antony - Réunion Mensuelle
DESCRIPTION:Comme tous les premiers jeudis du mois\, rendez-vous à l’Espace Vasarely !
URL:https://mdb-idf.org/evenement/antony-reunion-mensuelle-2/2024-01-11/
LOCATION:Espace Vasarely\, Place des Anciens Combattants d'Afrique du Nord\, Antony\, 92160\, France
CATEGORIES:Réunion d'antenne
ATTACH;FMTTYPE=image/png:https://mdb-idf.org/wp-content/uploads/2023/11/reunionmensuelle.png
END:VEVENT
BEGIN:VEVENT
DTSTART;TZID=Europe/Paris:20231207T203000
DTEND;TZID=Europe/Paris:20231207T230000
DTSTAMP:20260423T103734
CREATED:20231111T104830Z
LAST-MODIFIED:20231111T212726Z
UID:10000133-1701981000-1701990000@mdb-idf.org
SUMMARY:Antony - Réunion mensuelle
DESCRIPTION:Comme tous les premiers jeudis du mois\, rendez-vous à l’Espace Vasarely !
URL:https://mdb-idf.org/evenement/reunion-mensuelle-2/
LOCATION:Espace Vasarely\, Place des Anciens Combattants d'Afrique du Nord\, Antony\, 92160\, France
CATEGORIES:Réunion d'antenne
ATTACH;FMTTYPE=image/png:https://mdb-idf.org/wp-content/uploads/2023/11/reunionmensuelle.png
END:VEVENT
BEGIN:VEVENT
DTSTART;TZID=Europe/Paris:20231109T203000
DTEND;TZID=Europe/Paris:20231109T203000
DTSTAMP:20260423T103734
CREATED:20231110T140523Z
LAST-MODIFIED:20231110T140523Z
UID:10000132-1699561800-1699561800@mdb-idf.org
SUMMARY:Réunion Mensuelle
DESCRIPTION:
URL:https://mdb-idf.org/evenement/reunion-mensuelle/
LOCATION:Espace Vasarely\, Place des Anciens Combattants d'Afrique du Nord\, Antony\, 92160\, France
CATEGORIES:Réunion d'antenne
END:VEVENT
END:VCALENDAR