BEGIN:VCALENDAR
VERSION:2.0
PRODID:-//Mieux se Déplacer à Bicyclette - ECPv6.15.20//NONSGML v1.0//EN
CALSCALE:GREGORIAN
METHOD:PUBLISH
X-ORIGINAL-URL:https://mdb-idf.org
X-WR-CALDESC:Évènements pour Mieux se Déplacer à Bicyclette
REFRESH-INTERVAL;VALUE=DURATION:PT1H
X-Robots-Tag:noindex
X-PUBLISHED-TTL:PT1H
BEGIN:VTIMEZONE
TZID:Europe/Paris
BEGIN:DAYLIGHT
TZOFFSETFROM:+0100
TZOFFSETTO:+0200
TZNAME:CEST
DTSTART:20230326T010000
END:DAYLIGHT
BEGIN:STANDARD
TZOFFSETFROM:+0200
TZOFFSETTO:+0100
TZNAME:CET
DTSTART:20231029T010000
END:STANDARD
BEGIN:DAYLIGHT
TZOFFSETFROM:+0100
TZOFFSETTO:+0200
TZNAME:CEST
DTSTART:20240331T010000
END:DAYLIGHT
BEGIN:STANDARD
TZOFFSETFROM:+0200
TZOFFSETTO:+0100
TZNAME:CET
DTSTART:20241027T010000
END:STANDARD
BEGIN:DAYLIGHT
TZOFFSETFROM:+0100
TZOFFSETTO:+0200
TZNAME:CEST
DTSTART:20250330T010000
END:DAYLIGHT
BEGIN:STANDARD
TZOFFSETFROM:+0200
TZOFFSETTO:+0100
TZNAME:CET
DTSTART:20251026T010000
END:STANDARD
END:VTIMEZONE
BEGIN:VEVENT
DTSTART;TZID=Europe/Paris:20241104T221500
DTEND;TZID=Europe/Paris:20241104T221500
DTSTAMP:20260419T192105
CREATED:20241104T212101Z
LAST-MODIFIED:20241104T212136Z
UID:10001502-1730758500-1730758500@mdb-idf.org
SUMMARY:La Marne à vélo - Balade des 50 ans de MDB
DESCRIPTION:
URL:https://mdb-idf.org/evenement/la-marne-a-velo-balade-des-50-ans-de-mdb/
LOCATION:Mairie de Noisy-le-Grand\, place de la Libération\, Noisy le Grand\, 93160\, France
CATEGORIES:Balade
END:VEVENT
BEGIN:VEVENT
DTSTART;TZID=Europe/Paris:20241111T170000
DTEND;TZID=Europe/Paris:20241111T220000
DTSTAMP:20260419T192105
CREATED:20240928T114820Z
LAST-MODIFIED:20250111T123821Z
UID:10001336-1731344400-1731362400@mdb-idf.org
SUMMARY:Colombes - Parade Lumineuse 2024
DESCRIPTION:Une balade festive de nuit en famille et avec les amis dans Colombes et alentour ! Sortez vos guirlandes et vos lampions\, apportez de la musique… \nAprès 10 km de pédalage et quelques stops à Bois-Colombes et à Asnières nous nous retrouvons pour partager un verre au local de Colombes à vélo (20h au 27 rue St Vincent) \n📍RDV Gare de Colombes 17h\, départ 17h30 \n➡️Circuit : Parade Lumineuse 2024 | Komoot
URL:https://mdb-idf.org/evenement/parade-lumineuse-2024/
LOCATION:Gare de Colombes\, 2-4 Rue Saint-Denis\, Colombes\, 92700\, France
CATEGORIES:Balade,Family Fun
ATTACH;FMTTYPE=image/png:https://mdb-idf.org/wp-content/uploads/2024/09/Vignette-Parade-Lumineuse-Colombes-a-velo-2024.png
END:VEVENT
BEGIN:VEVENT
DTSTART;TZID=Europe/Paris:20241113T183000
DTEND;TZID=Europe/Paris:20241113T200000
DTSTAMP:20260419T192105
CREATED:20241101T095030Z
LAST-MODIFIED:20241101T095030Z
UID:10001500-1731522600-1731528000@mdb-idf.org
SUMMARY:Balade lumineuse à Viroflay mercredi 13 novembre
DESCRIPTION:Cyclistes\, brillez !\nMercredi 13 novembre\, nous vous invitons à une balade lumineuse dans les rues de la ville. \nAu programme : \n\nrassemblement à 18h30 au 167 avenue du Général Leclerc ;\npossibilité d’acheter des éclairages : le magasin Vélocité propose -10% sur le matériel d’éclairage à cette occasion ;\ndépart à 19h pour une balade dans la ville ;\nretour à 19h30 pour un apéro au Bulldog.
URL:https://mdb-idf.org/evenement/balade-lumineuse-viroflay-13-novembre/
LOCATION:Vélocité\, Viroflay\, 167\, avenue du Général Leclerc\, Viroflay\, 78220\, France
CATEGORIES:Balade,sensibilisation
ATTACH;FMTTYPE=image/webp:https://mdb-idf.org/wp-content/uploads/2024/11/balade.banniere.webp
ORGANIZER;CN="V%C3%A9loflay":MAILTO:viroflay@mdb-idf.org
END:VEVENT
BEGIN:VEVENT
DTSTART;TZID=Europe/Paris:20241116T151500
DTEND;TZID=Europe/Paris:20241116T183000
DTSTAMP:20260419T192105
CREATED:20241104T212724Z
LAST-MODIFIED:20241104T213333Z
UID:10001503-1731770100-1731781800@mdb-idf.org
SUMMARY:Marne à Vélo - Balade des 50 ans de MDB
DESCRIPTION:
URL:https://mdb-idf.org/evenement/marne-a-velo-balade-des-50-ans-de-mdb/
LOCATION:Mairie de Noisy-le-Grand\, place de la Libération\, Noisy le Grand\, 93160\, France
CATEGORIES:Balade
ATTACH;FMTTYPE=image/png:https://mdb-idf.org/wp-content/uploads/2024/11/Declinaison-Noisy-le-Grand.png
END:VEVENT
BEGIN:VEVENT
DTSTART;TZID=Europe/Paris:20241116T153000
DTEND;TZID=Europe/Paris:20241116T183000
DTSTAMP:20260419T192105
CREATED:20241110T160416Z
LAST-MODIFIED:20241110T160416Z
UID:10001511-1731771000-1731781800@mdb-idf.org
SUMMARY:Marne à Vélo - Balade des 50 ans de MDB
DESCRIPTION:Le samedi 16/11\, nous vous proposons une balade un peu spéciale\, pour fêter les 50 ans de MDB.\n\nSur un rythme loisirs\, nous partirons découvrir le pumptrack du parc du Tremblay avant de filer rejoindre les autres antennes MDB des Bords de Marne à la Brasserie la Française.\n\nUne dizaine de kilomètres donc\, une courte balade\, pour toutes et tous et aussi pour les enfants ! Habillez vous en bleu. Costumes\, musiques et lumières diverses sont encouragées !
URL:https://mdb-idf.org/evenement/marne-a-velo-balade-des-50-ans-de-mdb-nogent/
LOCATION:Pavillon Baltard\, 12 Avenue Victor Hugo\, Nogent-sur-Marne\, 94130\, France
CATEGORIES:Balade
ATTACH;FMTTYPE=image/jpeg:https://mdb-idf.org/wp-content/uploads/2024/11/WhatsApp-Image-2024-11-01-at-15.00.59.jpeg
ORGANIZER;CN="Nogent Le Perreux":MAILTO:nogentleperreux@mdb-idf.org
END:VEVENT
BEGIN:VEVENT
DTSTART;TZID=Europe/Paris:20241122T191500
DTEND;TZID=Europe/Paris:20241122T203000
DTSTAMP:20260419T192105
CREATED:20241003T062505Z
LAST-MODIFIED:20241028T063441Z
UID:10001340-1732302900-1732307400@mdb-idf.org
SUMMARY:Saint-Germain-en-Laye : balade lumineuse
DESCRIPTION:Balade nocturne “Cyclistes\, brillez !” – Vendredi 22 novembre \nÀ l’occasion de la campagne nationale “Cyclistes\, brillez !” lancée par la FUB\, les antennes Mieux se Déplacer à Bicyclette (MDB) organisent une balade nocturne illuminée à travers Saint Germain en laye. Cet événement est ouvert à tous les cyclistes\, réguliers ou occasionnels\, pour rappeler l’importance de l’éclairage et de la visibilité à vélo\, surtout à l’approche de l’hiver. \nApportez vos lumières et accessoires lumineux\, et venez rouler avec nous pour une balade conviviale.
URL:https://mdb-idf.org/evenement/balade-lumineuse/
CATEGORIES:Balade
ATTACH;FMTTYPE=image/png:https://mdb-idf.org/wp-content/uploads/2024/10/balade-lumineuse-3.png
ORGANIZER;CN="saint germain %C3%A0 v%C3%A9lo":MAILTO:saint-germain-en-laye@mdb-idf.org
END:VEVENT
END:VCALENDAR