BEGIN:VCALENDAR
VERSION:2.0
PRODID:-//Mieux se Déplacer à Bicyclette - ECPv6.15.20//NONSGML v1.0//EN
CALSCALE:GREGORIAN
METHOD:PUBLISH
X-WR-CALNAME:Mieux se Déplacer à Bicyclette
X-ORIGINAL-URL:https://mdb-idf.org
X-WR-CALDESC:Évènements pour Mieux se Déplacer à Bicyclette
REFRESH-INTERVAL;VALUE=DURATION:PT1H
X-Robots-Tag:noindex
X-PUBLISHED-TTL:PT1H
BEGIN:VTIMEZONE
TZID:Europe/Paris
BEGIN:DAYLIGHT
TZOFFSETFROM:+0100
TZOFFSETTO:+0200
TZNAME:CEST
DTSTART:20240331T010000
END:DAYLIGHT
BEGIN:STANDARD
TZOFFSETFROM:+0200
TZOFFSETTO:+0100
TZNAME:CET
DTSTART:20241027T010000
END:STANDARD
BEGIN:DAYLIGHT
TZOFFSETFROM:+0100
TZOFFSETTO:+0200
TZNAME:CEST
DTSTART:20250330T010000
END:DAYLIGHT
BEGIN:STANDARD
TZOFFSETFROM:+0200
TZOFFSETTO:+0100
TZNAME:CET
DTSTART:20251026T010000
END:STANDARD
BEGIN:DAYLIGHT
TZOFFSETFROM:+0100
TZOFFSETTO:+0200
TZNAME:CEST
DTSTART:20260329T010000
END:DAYLIGHT
BEGIN:STANDARD
TZOFFSETFROM:+0200
TZOFFSETTO:+0100
TZNAME:CET
DTSTART:20261025T010000
END:STANDARD
END:VTIMEZONE
BEGIN:VEVENT
DTSTART;TZID=Europe/Paris:20250216T100000
DTEND;TZID=Europe/Paris:20250216T130000
DTSTAMP:20260419T174138
CREATED:20250203T063626Z
LAST-MODIFIED:20250205T141811Z
UID:10001672-1739700000-1739710800@mdb-idf.org
SUMMARY:Noisy-le-Grand - balade mensuelle
DESCRIPTION:Connaissez-vous le marché des producteurs de Champs-sur-Marne ? Non ? Alors profitez de notre prochaine balade mensuelle pour faire le plein de bons produits locaux et de créations artisanales\, dans la cour du château de Champs. \n\n\n\n\n\n\n\n\n\n\n\n\n\n\n\n\n\n\n\n\n\n\n\n\n\n\n\n\n\n\n\n\n\n\n\n\n\n\nDimanche 16 février – 10h \n17 km environ \ndépart Mairie de Noisy-le-Grand
URL:https://mdb-idf.org/evenement/38118/
CATEGORIES:Balade,Visite
ATTACH;FMTTYPE=image/jpeg:https://mdb-idf.org/wp-content/uploads/2025/02/Balade_2025_02_16.jpeg
END:VEVENT
END:VCALENDAR