BEGIN:VCALENDAR
VERSION:2.0
PRODID:-//Mieux se Déplacer à Bicyclette - ECPv6.15.20//NONSGML v1.0//EN
CALSCALE:GREGORIAN
METHOD:PUBLISH
X-ORIGINAL-URL:https://mdb-idf.org
X-WR-CALDESC:Évènements pour Mieux se Déplacer à Bicyclette
REFRESH-INTERVAL;VALUE=DURATION:PT1H
X-Robots-Tag:noindex
X-PUBLISHED-TTL:PT1H
BEGIN:VTIMEZONE
TZID:Europe/Paris
BEGIN:STANDARD
TZOFFSETFROM:+0100
TZOFFSETTO:+0100
TZNAME:CET
DTSTART:19690101T000000
END:STANDARD
END:VTIMEZONE
BEGIN:VEVENT
DTSTART;TZID=Europe/Paris:20260421T143537
DTEND;TZID=Europe/Paris:20260421T143537
DTSTAMP:20260421T143537
CREATED:20250513T104101Z
LAST-MODIFIED:20250513T104101Z
UID:10001860-0-0@mdb-idf.org
SUMMARY:73521984
DESCRIPTION:10985346
URL:https://mdb-idf.org/evenement/73521984/
CATEGORIES:Handicap moteur
END:VEVENT
END:VCALENDAR