BEGIN:VCALENDAR
VERSION:2.0
PRODID:-//Mieux se Déplacer à Bicyclette - ECPv6.15.20//NONSGML v1.0//EN
CALSCALE:GREGORIAN
METHOD:PUBLISH
X-ORIGINAL-URL:https://mdb-idf.org
X-WR-CALDESC:Évènements pour Mieux se Déplacer à Bicyclette
REFRESH-INTERVAL;VALUE=DURATION:PT1H
X-Robots-Tag:noindex
X-PUBLISHED-TTL:PT1H
BEGIN:VTIMEZONE
TZID:Europe/Paris
BEGIN:DAYLIGHT
TZOFFSETFROM:+0100
TZOFFSETTO:+0200
TZNAME:CEST
DTSTART:20230326T010000
END:DAYLIGHT
BEGIN:STANDARD
TZOFFSETFROM:+0200
TZOFFSETTO:+0100
TZNAME:CET
DTSTART:20231029T010000
END:STANDARD
BEGIN:DAYLIGHT
TZOFFSETFROM:+0100
TZOFFSETTO:+0200
TZNAME:CEST
DTSTART:20240331T010000
END:DAYLIGHT
BEGIN:STANDARD
TZOFFSETFROM:+0200
TZOFFSETTO:+0100
TZNAME:CET
DTSTART:20241027T010000
END:STANDARD
BEGIN:DAYLIGHT
TZOFFSETFROM:+0100
TZOFFSETTO:+0200
TZNAME:CEST
DTSTART:20250330T010000
END:DAYLIGHT
BEGIN:STANDARD
TZOFFSETFROM:+0200
TZOFFSETTO:+0100
TZNAME:CET
DTSTART:20251026T010000
END:STANDARD
END:VTIMEZONE
BEGIN:VEVENT
DTSTART;TZID=Europe/Paris:20240505T100000
DTEND;TZID=Europe/Paris:20240505T170000
DTSTAMP:20260424T000948
CREATED:20240420T213034Z
LAST-MODIFIED:20240420T213140Z
UID:10000206-1714903200-1714928400@mdb-idf.org
SUMMARY:A Brie Cyclette\, départ Dammarie
DESCRIPTION:En partenariat avec la FDFR77 . Avec cette année\, pour la 1ère fois un départ de Bois-le-roi (Écluse). Toutes et tous à vélo ! Plus d’infos : https://fdfr77.org/a-brie-cyclette-revient-en-mai/ \nDes activités autour de l’écologieet du développement durable \nVotre balade à vélo vous emmènera tout droit au Mail de la Belle Allée de Sivry-Courtry où vous attendra de 11h à 17h un “Festi-village” monté pour l’occasion. Qu’est-ce qu’un “Festi-village” ? C’est tout un panel d’activités et d’ateliers qui vous seront proposés\, autour de la détente\, de l’écologie et du développement durable\, le tout dans une ambiance ludique et conviviale. \nAu programme : un atelier de gymkhana (parcours à vélo)\, des grands jeux sportifs\, un coin zen pour se détendre\, un atelier maquillage\, des jeux en bois\, un atelier hata yoga avec Ola’s Flow’s\, une fanfare festive… et bien plus ! En somme\, de quoi vous divertir et passer un moment de détente\, en famille ou entre amis\, le temps d’un dimanche ! \nEt pour vous abreuver et vous restaurer\, vous trouverez sur place une buvette\, et pensez à votre pique-nique pour un réconfort salé ! \nSécurité :\nTous les parcours seront encadrés et guidés.\n> Casque obligatoire pour les enfants de moins de 12 ans\, vivement conseillé pour les adultes\n> Gilet de sécurité vivement conseillé\n> Vérifiez votre matériel avant le départ (frein\, gonflement des pneus\, etc.)\n> Pas de ravitaillement sur les parcours (merci de prévoir de l’eau et un encas durant le trajet\, et votre pique-nique sur place)\n> Plan d’eau sur le site des Écrennes non surveillé \nUn parc à vélos vous sera proposé.\nSans inscription.\nPlus d’infos auprès des organisateurs de chaque parcours (ci-dessous).
URL:https://mdb-idf.org/evenement/a-brie-cyclette-depart-dammarie/
LOCATION:Rondpoint de la Fontaine de Dammarie\, Avenue Marcellin Berthelot\, Dammarie-Les-Lys\, 77190
CATEGORIES:Balade,Family Fun
ATTACH;FMTTYPE=image/jpeg:https://mdb-idf.org/wp-content/uploads/2024/04/bricyclette.jpg
ORGANIZER;CN="Melun Agglo %C3%A0 V%C3%A9lo":MAILTO:melun@mdb-idf.org
END:VEVENT
BEGIN:VEVENT
DTSTART;TZID=Europe/Paris:20240512T143000
DTEND;TZID=Europe/Paris:20240512T173000
DTSTAMP:20260424T000948
CREATED:20240420T184136Z
LAST-MODIFIED:20240420T184508Z
UID:10000203-1715524200-1715535000@mdb-idf.org
SUMMARY:Atelier Mécanique - Adhérents
DESCRIPTION:Atelier Mécanique co-organisé avec les Cyclonautes\, ouvert aux adhérents.Venez apprendre à réparer votre vélo ou contribuer.
URL:https://mdb-idf.org/evenement/atelier-mecanique-mdb/
LOCATION:Local des Eclaireurs\, 168 rue du Château Gaillard\, Dammarie-les-Lys\, 77190
CATEGORIES:Atelier de réparation
ORGANIZER;CN="Melun Agglo %C3%A0 V%C3%A9lo":MAILTO:melun@mdb-idf.org
END:VEVENT
BEGIN:VEVENT
DTSTART;TZID=Europe/Paris:20240518T190000
DTEND;TZID=Europe/Paris:20240518T190000
DTSTAMP:20260424T000948
CREATED:20240420T180742Z
LAST-MODIFIED:20240420T180742Z
UID:10000202-1716058800-1716058800@mdb-idf.org
SUMMARY:Apéro-Meluno-Vélo au Bar Bu
DESCRIPTION:Retrouvons-nous entre cyclistes (et sympathisant(e)s) pour parler vélo autour d’un verre.
URL:https://mdb-idf.org/evenement/apero-meluno-velo-au-bar-bu/
LOCATION:Bar Bu\, 9b Pl. Praslin\, Melun\, 77000
CATEGORIES:Apéro,Family Fun
ORGANIZER;CN="Melun Agglo %C3%A0 V%C3%A9lo":MAILTO:melun@mdb-idf.org
END:VEVENT
BEGIN:VEVENT
DTSTART;TZID=Europe/Paris:20240519T110000
DTEND;TZID=Europe/Paris:20240519T170000
DTSTAMP:20260424T000948
CREATED:20240508T080143Z
LAST-MODIFIED:20240513T183023Z
UID:10000216-1716116400-1716138000@mdb-idf.org
SUMMARY:Convergence de la Forêt
DESCRIPTION:Le 19 mai\, Les différentes antennes de La vie à vélo\, avec les associations de la vie et vélo\, MDB de l’agglomération de Melun et Milly\, organisent une « Convergence de la Forêt ».\n\n\nSur le modèle de la grande convergence francilienne\, l’idée est de converger à vélo vers un point en forêt pour un moment convivial avec pique-nique.\nDépart à 10h45 à la gare de Melun (côté Dammarie/la Rochette) et 11h à la Fontaine de Dammarie les Lys (rond point Georges Pompidou).
URL:https://mdb-idf.org/evenement/convergence-de-la-foret/
LOCATION:Rondpoint de la Fontaine de Dammarie\, Avenue Marcellin Berthelot\, Dammarie-Les-Lys\, 77190
CATEGORIES:Balade,Family Fun,Manifestation
END:VEVENT
BEGIN:VEVENT
DTSTART;TZID=Europe/Paris:20240525T100000
DTEND;TZID=Europe/Paris:20240525T190000
DTSTAMP:20260424T000948
CREATED:20240420T190335Z
LAST-MODIFIED:20240522T073552Z
UID:10000204-1716631200-1716663600@mdb-idf.org
SUMMARY:2e Ecofestival du Gâtinais
DESCRIPTION:L’ECO-FESTIVAL ATA GATNAIS revient le 25 Mai. Cette fois-ci il se déroulera à Courances en face du château.\n\n\n\nComme pour la première édition\, l’alimentation & l’agriculture\, la biodiversité\, la mobilité décarbonée\, l’énergie\, l’habitat durable et la consommation responsable seront nos fils directeurs.\n\n\nDépart : (à préciser) Direction Château de Courance
URL:https://mdb-idf.org/evenement/2e-ecofestival-du-gatinais/
CATEGORIES:Family Fun
END:VEVENT
BEGIN:VEVENT
DTSTART;TZID=Europe/Paris:20240526T060000
DTEND;TZID=Europe/Paris:20240526T150000
DTSTAMP:20260424T000948
CREATED:20240123T125715Z
LAST-MODIFIED:20240513T182943Z
UID:10000150-1716703200-1716735600@mdb-idf.org
SUMMARY:La Convergence vers Paris départ de Melun
DESCRIPTION:Rendez-vous le 26 Mai 2024 pour la Convergence vélo francilienne !\nLa 15ème édition s’est conclue par une très belle parade dans les rues de Paris ! Nous espérons vous retrouver\, encore plus nombreux\, pour la 16ème édition de la Convergence ! \n  \nGare de Melun au niveau de la Place de Gallieni\nRendez-vous à 6h30\nDépart à 6h45 \n  \nLa Convergence \n \n  \n 
URL:https://mdb-idf.org/evenement/la-convergence-vers-paris-depart-melun/
LOCATION:Gare de Melun\, Place galliéni\, Melun\, 77000\, France
CATEGORIES:Balade,Manifestation
ATTACH;FMTTYPE=image/png:https://mdb-idf.org/wp-content/uploads/2023/10/Logo-Melun.png
ORGANIZER;CN="Melun Agglo %C3%A0 V%C3%A9lo":MAILTO:melun@mdb-idf.org
END:VEVENT
BEGIN:VEVENT
DTSTART;TZID=Europe/Paris:20240526T064500
DTEND;TZID=Europe/Paris:20240526T160000
DTSTAMP:20260424T000948
CREATED:20240421T111459Z
LAST-MODIFIED:20240421T111459Z
UID:10000205-1716705900-1716739200@mdb-idf.org
SUMMARY:La Convergence
DESCRIPTION:Vivez une expérience unique en roulant vers et dans Paris avec des milliers d’autres cyclistes. La Convergence est un moment de fête : nous partageons ensemble notre bonheur de faire du vélo. \nParticiper à la Convergence\, c’est aussi dire que l’on veut plus de place pour le vélo ! Montrons aux élus d’Île-de-France la nécessité de transformer les villes pour faciliter l’accès des vélos et pour cela nous avons besoin de vous à nos cotés ! \nQui peut participer ?\nTout le monde ! La Convergence francilienne est ouverte à toutes et tous\, gratuite et sans inscription. \nPour Melun\, RDV à la gare de Melun (Nord) à 6h30 pour un départ à 6h45.
URL:https://mdb-idf.org/evenement/la-convergence-2/
LOCATION:gare de Melun (nord – pl. Gallieni)\, place Gallieni\, Melun\, France
CATEGORIES:Balade,Family Fun,Manifestation
ORGANIZER;CN="MDB":MAILTO:courrier@mdb-idf.org
END:VEVENT
END:VCALENDAR