BEGIN:VCALENDAR
VERSION:2.0
PRODID:-//Mieux se Déplacer à Bicyclette - ECPv6.15.20//NONSGML v1.0//EN
CALSCALE:GREGORIAN
METHOD:PUBLISH
X-WR-CALNAME:Mieux se Déplacer à Bicyclette
X-ORIGINAL-URL:https://mdb-idf.org
X-WR-CALDESC:Évènements pour Mieux se Déplacer à Bicyclette
REFRESH-INTERVAL;VALUE=DURATION:PT1H
X-Robots-Tag:noindex
X-PUBLISHED-TTL:PT1H
BEGIN:VTIMEZONE
TZID:Europe/Paris
BEGIN:DAYLIGHT
TZOFFSETFROM:+0100
TZOFFSETTO:+0200
TZNAME:CEST
DTSTART:20230326T010000
END:DAYLIGHT
BEGIN:STANDARD
TZOFFSETFROM:+0200
TZOFFSETTO:+0100
TZNAME:CET
DTSTART:20231029T010000
END:STANDARD
BEGIN:DAYLIGHT
TZOFFSETFROM:+0100
TZOFFSETTO:+0200
TZNAME:CEST
DTSTART:20240331T010000
END:DAYLIGHT
BEGIN:STANDARD
TZOFFSETFROM:+0200
TZOFFSETTO:+0100
TZNAME:CET
DTSTART:20241027T010000
END:STANDARD
BEGIN:DAYLIGHT
TZOFFSETFROM:+0100
TZOFFSETTO:+0200
TZNAME:CEST
DTSTART:20250330T010000
END:DAYLIGHT
BEGIN:STANDARD
TZOFFSETFROM:+0200
TZOFFSETTO:+0100
TZNAME:CET
DTSTART:20251026T010000
END:STANDARD
END:VTIMEZONE
BEGIN:VEVENT
DTSTART;TZID=Europe/Paris:20240512T143000
DTEND;TZID=Europe/Paris:20240512T173000
DTSTAMP:20260425T203340
CREATED:20240420T184136Z
LAST-MODIFIED:20240420T184508Z
UID:10000203-1715524200-1715535000@mdb-idf.org
SUMMARY:Atelier Mécanique - Adhérents
DESCRIPTION:Atelier Mécanique co-organisé avec les Cyclonautes\, ouvert aux adhérents.Venez apprendre à réparer votre vélo ou contribuer.
URL:https://mdb-idf.org/evenement/atelier-mecanique-mdb/
LOCATION:Local des Eclaireurs\, 168 rue du Château Gaillard\, Dammarie-les-Lys\, 77190
CATEGORIES:Atelier de réparation
ORGANIZER;CN="Melun Agglo %C3%A0 V%C3%A9lo":MAILTO:melun@mdb-idf.org
END:VEVENT
END:VCALENDAR