BEGIN:VCALENDAR
VERSION:2.0
PRODID:-//Mieux se Déplacer à Bicyclette - ECPv6.15.20//NONSGML v1.0//EN
CALSCALE:GREGORIAN
METHOD:PUBLISH
X-WR-CALNAME:Mieux se Déplacer à Bicyclette
X-ORIGINAL-URL:https://mdb-idf.org
X-WR-CALDESC:Évènements pour Mieux se Déplacer à Bicyclette
REFRESH-INTERVAL;VALUE=DURATION:PT1H
X-Robots-Tag:noindex
X-PUBLISHED-TTL:PT1H
BEGIN:VTIMEZONE
TZID:Europe/Paris
BEGIN:DAYLIGHT
TZOFFSETFROM:+0100
TZOFFSETTO:+0200
TZNAME:CEST
DTSTART:20230326T010000
END:DAYLIGHT
BEGIN:STANDARD
TZOFFSETFROM:+0200
TZOFFSETTO:+0100
TZNAME:CET
DTSTART:20231029T010000
END:STANDARD
BEGIN:DAYLIGHT
TZOFFSETFROM:+0100
TZOFFSETTO:+0200
TZNAME:CEST
DTSTART:20240331T010000
END:DAYLIGHT
BEGIN:STANDARD
TZOFFSETFROM:+0200
TZOFFSETTO:+0100
TZNAME:CET
DTSTART:20241027T010000
END:STANDARD
BEGIN:DAYLIGHT
TZOFFSETFROM:+0100
TZOFFSETTO:+0200
TZNAME:CEST
DTSTART:20250330T010000
END:DAYLIGHT
BEGIN:STANDARD
TZOFFSETFROM:+0200
TZOFFSETTO:+0100
TZNAME:CET
DTSTART:20251026T010000
END:STANDARD
BEGIN:DAYLIGHT
TZOFFSETFROM:+0100
TZOFFSETTO:+0200
TZNAME:CEST
DTSTART:20260329T010000
END:DAYLIGHT
BEGIN:STANDARD
TZOFFSETFROM:+0200
TZOFFSETTO:+0100
TZNAME:CET
DTSTART:20261025T010000
END:STANDARD
BEGIN:DAYLIGHT
TZOFFSETFROM:+0100
TZOFFSETTO:+0200
TZNAME:CEST
DTSTART:20270328T010000
END:DAYLIGHT
BEGIN:STANDARD
TZOFFSETFROM:+0200
TZOFFSETTO:+0100
TZNAME:CET
DTSTART:20271031T010000
END:STANDARD
END:VTIMEZONE
BEGIN:VEVENT
DTSTART;VALUE=DATE:20260412
DTEND;VALUE=DATE:20260413
DTSTAMP:20260424T175202
CREATED:20260215T192355Z
LAST-MODIFIED:20260316T093208Z
UID:10005755-1775952000-1776038399@mdb-idf.org
SUMMARY:Banlieue EST à vélo
DESCRIPTION:La #BEstÀVélo est une balade manifestive organisée par les associations vélo de l’Est francilien ! \nLe dimanche 12 avril\, venez rouler avec nous et montrer qu’il faut plus de place pour le vélo dans notre banlieue. \nNous partirons le matin depuis de nombreuses villes pour retrouver d’autres groupes de cyclistes le long du trajet. Ensemble\, nous irons jusqu’à l’Île de loisirs de Torcy pour pique-niquer en toute convivialité. \nLieux et horaires de départ :\npowered by Advanced iFrame  \nOuvrir la carte en plein écran \n\nParticipation gratuite.\nBalade accessible à toutes et tous\, enfants compris.\nPique-nique et eau à prévoir.\nRetour au choix\, ensemble ou en autonomie. Il y a la possibilité aussi de revenir par le train\, par exemple par la gare de Vaires-sur-Marne (Ligne P)\, Chelles (RER E)\, Torcy (RER A)…
URL:https://mdb-idf.org/evenement/banlieue-est-a-velo-2026/
CATEGORIES:Balade,Manifestation
ATTACH;FMTTYPE=image/jpeg:https://mdb-idf.org/wp-content/uploads/2026/02/PXL_20250330_0952459952.jpg
END:VEVENT
BEGIN:VEVENT
DTSTART;TZID=Europe/Paris:20260407T203000
DTEND;TZID=Europe/Paris:20260407T223000
DTSTAMP:20260424T175202
CREATED:20251006T222948Z
LAST-MODIFIED:20251006T222948Z
UID:10005345-1775593800-1775601000@mdb-idf.org
SUMMARY:Antenne Noisy-le-Grand - Réunion d'antenne
DESCRIPTION:
URL:https://mdb-idf.org/evenement/antenne-noisy-le-grand-reunion-dantenne/2026-04-07/
LOCATION:Salle Stéphane Hessel\, 10 place Antoine Renard\, Noisy le Grand\, Sélectionner un État :\, 93160\, France
CATEGORIES:Réunion d'antenne
ATTACH;FMTTYPE=image/png:https://mdb-idf.org/wp-content/uploads/2023/10/Logo-Noisy.png
END:VEVENT
BEGIN:VEVENT
DTSTART;TZID=Europe/Paris:20260328T093000
DTEND;TZID=Europe/Paris:20260328T173000
DTSTAMP:20260424T175202
CREATED:20260211T220013Z
LAST-MODIFIED:20260214T170212Z
UID:10005753-1774690200-1774719000@mdb-idf.org
SUMMARY:Bourse aux vélos 28 mars 2026 - Noisy-le-Grand
DESCRIPTION:
URL:https://mdb-idf.org/evenement/bourse-aux-velos-28-mars-2026-noisy-le-grand/
LOCATION:Espace Michel Simon – Esplanade Nelson Mandela Noisy le Grand\, Esplanade Nelson Mandela - à droite du bâtiment\, Noisy le Grand\, Sélectionner un État :\, 93160\, France
CATEGORIES:Bourse aux vélos
ATTACH;FMTTYPE=image/jpeg:https://mdb-idf.org/wp-content/uploads/2026/02/Visuel_BAV2026.jpg
GEO:48.846241;2.55282
X-APPLE-STRUCTURED-LOCATION;VALUE=URI;X-ADDRESS=Espace Michel Simon – Esplanade Nelson Mandela Noisy le Grand Esplanade Nelson Mandela - à droite du bâtiment Noisy le Grand Sélectionner un État : 93160 France;X-APPLE-RADIUS=500;X-TITLE=Esplanade Nelson Mandela - à droite du bâtiment:geo:2.55282,48.846241
END:VEVENT
BEGIN:VEVENT
DTSTART;TZID=Europe/Paris:20260315T100000
DTEND;TZID=Europe/Paris:20260315T130000
DTSTAMP:20260424T175202
CREATED:20260311T204255Z
LAST-MODIFIED:20260311T204255Z
UID:10005794-1773568800-1773579600@mdb-idf.org
SUMMARY:Balade de mars - Le tour des bureaux de vote - Noisy-le-Grand
DESCRIPTION:*
URL:https://mdb-idf.org/evenement/balade-de-mars-tour-bureaux-de-vote/
LOCATION:Mairie de Noisy-le-Grand\, place de la Libération\, Noisy le Grand\, 93160\, France
CATEGORIES:Balade
ATTACH;FMTTYPE=image/jpeg:https://mdb-idf.org/wp-content/uploads/2026/03/Balade_2026_15.jpg
END:VEVENT
BEGIN:VEVENT
DTSTART;TZID=Europe/Paris:20260303T203000
DTEND;TZID=Europe/Paris:20260303T223000
DTSTAMP:20260424T175202
CREATED:20251006T222948Z
LAST-MODIFIED:20251006T222948Z
UID:10005344-1772569800-1772577000@mdb-idf.org
SUMMARY:Antenne Noisy-le-Grand - Réunion d'antenne
DESCRIPTION:
URL:https://mdb-idf.org/evenement/antenne-noisy-le-grand-reunion-dantenne/2026-03-03/
LOCATION:Salle Stéphane Hessel\, 10 place Antoine Renard\, Noisy le Grand\, Sélectionner un État :\, 93160\, France
CATEGORIES:Réunion d'antenne
ATTACH;FMTTYPE=image/png:https://mdb-idf.org/wp-content/uploads/2023/10/Logo-Noisy.png
END:VEVENT
BEGIN:VEVENT
DTSTART;TZID=Europe/Paris:20260215T100000
DTEND;TZID=Europe/Paris:20260215T130000
DTSTAMP:20260424T175202
CREATED:20260126T211209Z
LAST-MODIFIED:20260214T184157Z
UID:10005731-1771149600-1771160400@mdb-idf.org
SUMMARY:Balade de février - C'est incyclable près de chez vous - Noisy-le-Grand
DESCRIPTION:* \nPourquoi nous organisons cette balade ? Toutes les explications dans notre article.
URL:https://mdb-idf.org/evenement/balade-de-fevrier-cest-incyclable-pres-de-chez-vous-noisy-le-grand/
LOCATION:Mairie de Noisy-le-Grand\, place de la Libération\, Noisy le Grand\, 93160\, France
CATEGORIES:Balade
ATTACH;FMTTYPE=image/jpeg:https://mdb-idf.org/wp-content/uploads/2026/01/Affiche_balade_15_fevrier-e1770578020195.jpg
END:VEVENT
BEGIN:VEVENT
DTSTART;TZID=Europe/Paris:20260207T093000
DTEND;TZID=Europe/Paris:20260207T113000
DTSTAMP:20260424T175202
CREATED:20251119T203751Z
LAST-MODIFIED:20251119T203751Z
UID:10005430-1770456600-1770463800@mdb-idf.org
SUMMARY:Atelier de co-réparation - Noisy-le-Grand
DESCRIPTION:Sur inscription \nNoisy-le-Grand : atelier de co-réparation
URL:https://mdb-idf.org/evenement/atelier-de-co-reparation-noisy-le-grand-5/
LOCATION:ATD Quart Monde\, 77 rue Jules Ferry\, Noisy-le-Grand\, 93160
CATEGORIES:Atelier de réparation
ATTACH;FMTTYPE=image/jpeg:https://mdb-idf.org/wp-content/uploads/2025/10/Atelier_2.jpeg
END:VEVENT
BEGIN:VEVENT
DTSTART;TZID=Europe/Paris:20260203T203000
DTEND;TZID=Europe/Paris:20260203T223000
DTSTAMP:20260424T175202
CREATED:20251006T222948Z
LAST-MODIFIED:20251006T222948Z
UID:10005343-1770150600-1770157800@mdb-idf.org
SUMMARY:Antenne Noisy-le-Grand - Réunion d'antenne
DESCRIPTION:
URL:https://mdb-idf.org/evenement/antenne-noisy-le-grand-reunion-dantenne/2026-02-03/
LOCATION:Salle Stéphane Hessel\, 10 place Antoine Renard\, Noisy le Grand\, Sélectionner un État :\, 93160\, France
CATEGORIES:Réunion d'antenne
ATTACH;FMTTYPE=image/png:https://mdb-idf.org/wp-content/uploads/2023/10/Logo-Noisy.png
END:VEVENT
BEGIN:VEVENT
DTSTART;TZID=Europe/Paris:20260124T093000
DTEND;TZID=Europe/Paris:20260124T113000
DTSTAMP:20260424T175202
CREATED:20251119T203659Z
LAST-MODIFIED:20251119T203659Z
UID:10005429-1769247000-1769254200@mdb-idf.org
SUMMARY:Atelier de co-réparation - Noisy-le-Grand
DESCRIPTION:Sur inscription \nNoisy-le-Grand : atelier de co-réparation
URL:https://mdb-idf.org/evenement/atelier-de-co-reparation-noisy-le-grand-4/
LOCATION:ATD Quart Monde\, 77 rue Jules Ferry\, Noisy-le-Grand\, 93160
CATEGORIES:Atelier de réparation
ATTACH;FMTTYPE=image/jpeg:https://mdb-idf.org/wp-content/uploads/2025/10/Atelier_2.jpeg
END:VEVENT
BEGIN:VEVENT
DTSTART;TZID=Europe/Paris:20260118T100000
DTEND;TZID=Europe/Paris:20260118T120000
DTSTAMP:20260424T175202
CREATED:20260107T212351Z
LAST-MODIFIED:20260107T212351Z
UID:10005701-1768730400-1768737600@mdb-idf.org
SUMMARY:Balade de janvier - Découverte de la piste de la rue de la Chapelle - Noisy-le-Grand
DESCRIPTION:
URL:https://mdb-idf.org/evenement/balade-de-janvier-decouverte-de-la-piste-de-la-rue-de-la-chapelle-noisy-le-grand/
LOCATION:Mairie de Noisy-le-Grand\, place de la Libération\, Noisy le Grand\, 93160\, France
CATEGORIES:Balade
ATTACH;FMTTYPE=image/jpeg:https://mdb-idf.org/wp-content/uploads/2026/01/Affiche_2026_01_18_V02-scaled.jpg
END:VEVENT
BEGIN:VEVENT
DTSTART;TZID=Europe/Paris:20260106T203000
DTEND;TZID=Europe/Paris:20260106T223000
DTSTAMP:20260424T175202
CREATED:20251006T222948Z
LAST-MODIFIED:20251006T222948Z
UID:10005342-1767731400-1767738600@mdb-idf.org
SUMMARY:Antenne Noisy-le-Grand - Réunion d'antenne
DESCRIPTION:
URL:https://mdb-idf.org/evenement/antenne-noisy-le-grand-reunion-dantenne/2026-01-06/
LOCATION:Salle Stéphane Hessel\, 10 place Antoine Renard\, Noisy le Grand\, Sélectionner un État :\, 93160\, France
CATEGORIES:Réunion d'antenne
ATTACH;FMTTYPE=image/png:https://mdb-idf.org/wp-content/uploads/2023/10/Logo-Noisy.png
END:VEVENT
BEGIN:VEVENT
DTSTART;TZID=Europe/Paris:20251213T170000
DTEND;TZID=Europe/Paris:20251213T180000
DTSTAMP:20260424T175202
CREATED:20251119T205715Z
LAST-MODIFIED:20251119T205715Z
UID:10005431-1765645200-1765648800@mdb-idf.org
SUMMARY:Balade de Noël - Noisy-le-Grand
DESCRIPTION:Traditionnelle balade de Noël nous amenant au marché de Noël boire un vin chaud ou un chocolat. Venez bien couverts\, décorés et lumineux.
URL:https://mdb-idf.org/evenement/balade-de-noel-noisy-le-grand-2/
LOCATION:Mairie de Noisy-le-Grand\, place de la Libération\, Noisy le Grand\, 93160\, France
CATEGORIES:Balade
ATTACH;FMTTYPE=image/jpeg:https://mdb-idf.org/wp-content/uploads/2024/11/balade_14_decembre_2024_V01-scaled.jpg
END:VEVENT
BEGIN:VEVENT
DTSTART;TZID=Europe/Paris:20251206T093000
DTEND;TZID=Europe/Paris:20251206T113000
DTSTAMP:20260424T175202
CREATED:20251119T203524Z
LAST-MODIFIED:20251119T203524Z
UID:10005428-1765013400-1765020600@mdb-idf.org
SUMMARY:Atelier de co-réparation - Noisy-le-Grand
DESCRIPTION:Sur inscription \nNoisy-le-Grand : atelier de co-réparation
URL:https://mdb-idf.org/evenement/atelier-de-co-reparation-noisy-le-grand-3/
LOCATION:ATD Quart Monde\, 77 rue Jules Ferry\, Noisy-le-Grand\, 93160
CATEGORIES:Atelier de réparation
ATTACH;FMTTYPE=image/jpeg:https://mdb-idf.org/wp-content/uploads/2025/10/Atelier_2.jpeg
END:VEVENT
BEGIN:VEVENT
DTSTART;TZID=Europe/Paris:20251202T203000
DTEND;TZID=Europe/Paris:20251202T223000
DTSTAMP:20260424T175202
CREATED:20251006T222948Z
LAST-MODIFIED:20251006T222948Z
UID:10005341-1764707400-1764714600@mdb-idf.org
SUMMARY:Antenne Noisy-le-Grand - Réunion d'antenne
DESCRIPTION:
URL:https://mdb-idf.org/evenement/antenne-noisy-le-grand-reunion-dantenne/2025-12-02/
LOCATION:Salle Stéphane Hessel\, 10 place Antoine Renard\, Noisy le Grand\, Sélectionner un État :\, 93160\, France
CATEGORIES:Réunion d'antenne
ATTACH;FMTTYPE=image/png:https://mdb-idf.org/wp-content/uploads/2023/10/Logo-Noisy.png
END:VEVENT
BEGIN:VEVENT
DTSTART;TZID=Europe/Paris:20251122T093000
DTEND;TZID=Europe/Paris:20251122T113000
DTSTAMP:20260424T175202
CREATED:20251006T203305Z
LAST-MODIFIED:20251008T203216Z
UID:10003879-1763803800-1763811000@mdb-idf.org
SUMMARY:Atelier de co-réparation - Noisy-le-Grand
DESCRIPTION:Sur inscription \nNoisy-le-Grand : atelier de co-réparation
URL:https://mdb-idf.org/evenement/atelier-de-co-reparation-noisy-le-grand-2/
LOCATION:ATD Quart Monde\, 77 rue Jules Ferry\, Noisy-le-Grand\, 93160
CATEGORIES:Atelier de réparation
ATTACH;FMTTYPE=image/jpeg:https://mdb-idf.org/wp-content/uploads/2025/10/Atelier_2.jpeg
END:VEVENT
BEGIN:VEVENT
DTSTART;TZID=Europe/Paris:20251104T203000
DTEND;TZID=Europe/Paris:20251104T223000
DTSTAMP:20260424T175202
CREATED:20251006T222948Z
LAST-MODIFIED:20251006T222948Z
UID:10005340-1762288200-1762295400@mdb-idf.org
SUMMARY:Antenne Noisy-le-Grand - Réunion d'antenne
DESCRIPTION:
URL:https://mdb-idf.org/evenement/antenne-noisy-le-grand-reunion-dantenne/2025-11-04/
LOCATION:Salle Stéphane Hessel\, 10 place Antoine Renard\, Noisy le Grand\, Sélectionner un État :\, 93160\, France
CATEGORIES:Réunion d'antenne
ATTACH;FMTTYPE=image/png:https://mdb-idf.org/wp-content/uploads/2023/10/Logo-Noisy.png
END:VEVENT
BEGIN:VEVENT
DTSTART;TZID=Europe/Paris:20251102T100000
DTEND;TZID=Europe/Paris:20251102T130000
DTSTAMP:20260424T175203
CREATED:20251022T181209Z
LAST-MODIFIED:20251022T181209Z
UID:10005419-1762077600-1762088400@mdb-idf.org
SUMMARY:Balade Noisy-le-Grand à vélo - Marché des producteurs Champs sur Marne
DESCRIPTION:
URL:https://mdb-idf.org/evenement/balade-noisy-le-grand-a-velo-marche-des-producteurs-champs-sur-marne/
LOCATION:Mairie de Noisy-le-Grand\, place de la Libération\, Noisy le Grand\, 93160\, France
CATEGORIES:Balade
ATTACH;FMTTYPE=image/jpeg:https://mdb-idf.org/wp-content/uploads/2025/10/Balade_2025_11_02.jpg
END:VEVENT
BEGIN:VEVENT
DTSTART;TZID=Europe/Paris:20251019T100000
DTEND;TZID=Europe/Paris:20251019T100000
DTSTAMP:20260424T175203
CREATED:20251008T194905Z
LAST-MODIFIED:20251008T200023Z
UID:10005411-1760868000-1760868000@mdb-idf.org
SUMMARY:Balade au Parc de la Haute-Île
DESCRIPTION:
URL:https://mdb-idf.org/evenement/balade-au-parc-de-la-haute-ile/
LOCATION:Mairie de Noisy-le-Grand\, place de la Libération\, Noisy le Grand\, 93160\, France
CATEGORIES:Balade
ATTACH;FMTTYPE=image/jpeg:https://mdb-idf.org/wp-content/uploads/2025/10/Affiche_2025_10_19_V03.jpg
END:VEVENT
BEGIN:VEVENT
DTSTART;TZID=Europe/Paris:20251011T093000
DTEND;TZID=Europe/Paris:20251011T113000
DTSTAMP:20260424T175203
CREATED:20251008T202039Z
LAST-MODIFIED:20251008T203755Z
UID:10005412-1760175000-1760182200@mdb-idf.org
SUMMARY:Atelier de co-réparation - Noisy-le-Grand
DESCRIPTION:Sur inscription \nNoisy-le-Grand : atelier de co-réparation \n \n  \n 
URL:https://mdb-idf.org/evenement/atelier-de-co-reparation-noisy-le-grand/
LOCATION:ATD Quart Monde\, 77 rue Jules Ferry\, Noisy-le-Grand\, 93160
CATEGORIES:Atelier de réparation
ATTACH;FMTTYPE=image/jpeg:https://mdb-idf.org/wp-content/uploads/2025/10/Atelier_2-1.jpeg
END:VEVENT
BEGIN:VEVENT
DTSTART;TZID=Europe/Paris:20251007T203000
DTEND;TZID=Europe/Paris:20251007T223000
DTSTAMP:20260424T175203
CREATED:20251006T222948Z
LAST-MODIFIED:20251006T222948Z
UID:10005339-1759869000-1759876200@mdb-idf.org
SUMMARY:Antenne Noisy-le-Grand - Réunion d'antenne
DESCRIPTION:
URL:https://mdb-idf.org/evenement/antenne-noisy-le-grand-reunion-dantenne/2025-10-07/
LOCATION:Salle Stéphane Hessel\, 10 place Antoine Renard\, Noisy le Grand\, Sélectionner un État :\, 93160\, France
CATEGORIES:Réunion d'antenne
ATTACH;FMTTYPE=image/png:https://mdb-idf.org/wp-content/uploads/2023/10/Logo-Noisy.png
END:VEVENT
BEGIN:VEVENT
DTSTART;VALUE=DATE:20250503
DTEND;VALUE=DATE:20250504
DTSTAMP:20260424T175203
CREATED:20250309T162049Z
LAST-MODIFIED:20250414T204154Z
UID:10001790-1746230400-1746316799@mdb-idf.org
SUMMARY:Bourse aux vélos à Noisy-le-Grand - samedi 3 mai
DESCRIPTION:La bourse aux vélos de Noisy-le-Grand a lieu le samedi 3 mai. \nPour vendre\, c’est le matin\, il est recommandé de s’inscrire au préalable. \nPour acheter\, c’est l’après-midi. \nPlus d’informations ici
URL:https://mdb-idf.org/evenement/bourse-aux-velos-a-noisy-le-grand-samedi-3-mai/
LOCATION:Espace Michel Simon – Esplanade Nelson Mandela Noisy le Grand\, Esplanade Nelson Mandela - à droite du bâtiment\, Noisy le Grand\, Sélectionner un État :\, 93160\, France
CATEGORIES:Bourse aux vélos
ATTACH;FMTTYPE=image/png:https://mdb-idf.org/wp-content/uploads/2025/03/Affiche-BAV-2025-Site-MDB.png
GEO:48.846241;2.55282
X-APPLE-STRUCTURED-LOCATION;VALUE=URI;X-ADDRESS=Espace Michel Simon – Esplanade Nelson Mandela Noisy le Grand Esplanade Nelson Mandela - à droite du bâtiment Noisy le Grand Sélectionner un État : 93160 France;X-APPLE-RADIUS=500;X-TITLE=Esplanade Nelson Mandela - à droite du bâtiment:geo:2.55282,48.846241
END:VEVENT
BEGIN:VEVENT
DTSTART;VALUE=DATE:20250330
DTEND;VALUE=DATE:20250331
DTSTAMP:20260424T175203
CREATED:20250323T164550Z
LAST-MODIFIED:20250326T055332Z
UID:10001805-1743292800-1743379199@mdb-idf.org
SUMMARY:La Banlieue EST à vélo
DESCRIPTION:Le dimanche 30 mars\, venez rouler avec nous et avec toutes les associations vélo de l’Est francilien ! \nNous retrouverons tout le long du trajet d’autres cyclistes et nous irons à l’Île-de-loisirs de Torcy pour pique-niquer en toute convivialité. \nMontrons que nous voulons plus de place pour le vélo\, soyons nombreux ! \nLieux et horaire de départ selon votre ville de départ : \n \n\nParticipation gratuite.\nBalade accessible à toutes et tous\, enfants compris.\nPique-nique et eau à prévoir.\nRetour au choix\, ensemble ou en autonomie. Il y a la possibilité aussi de revenir par le train\, par exemple par la gare de Vaires-sur-Marne (Ligne P)\, Chelles (RER E)\, Torcy (RER A)…\n\n 
URL:https://mdb-idf.org/evenement/la-banlieue-est-a-velo/
CATEGORIES:Balade
ATTACH;FMTTYPE=image/png:https://mdb-idf.org/wp-content/uploads/2025/02/Version-1.png
END:VEVENT
BEGIN:VEVENT
DTSTART;TZID=Europe/Paris:20250216T100000
DTEND;TZID=Europe/Paris:20250216T130000
DTSTAMP:20260424T175203
CREATED:20250203T063626Z
LAST-MODIFIED:20250205T141811Z
UID:10001672-1739700000-1739710800@mdb-idf.org
SUMMARY:Noisy-le-Grand - balade mensuelle
DESCRIPTION:Connaissez-vous le marché des producteurs de Champs-sur-Marne ? Non ? Alors profitez de notre prochaine balade mensuelle pour faire le plein de bons produits locaux et de créations artisanales\, dans la cour du château de Champs. \n\n\n\n\n\n\n\n\n\n\n\n\n\n\n\n\n\n\n\n\n\n\n\n\n\n\n\n\n\n\n\n\n\n\n\n\n\n\nDimanche 16 février – 10h \n17 km environ \ndépart Mairie de Noisy-le-Grand
URL:https://mdb-idf.org/evenement/38118/
CATEGORIES:Balade,Visite
ATTACH;FMTTYPE=image/jpeg:https://mdb-idf.org/wp-content/uploads/2025/02/Balade_2025_02_16.jpeg
END:VEVENT
BEGIN:VEVENT
DTSTART;TZID=Europe/Paris:20241214T170000
DTEND;TZID=Europe/Paris:20241214T180000
DTSTAMP:20260424T175203
CREATED:20241115T212021Z
LAST-MODIFIED:20241123T182637Z
UID:10001513-1734195600-1734199200@mdb-idf.org
SUMMARY:Balade de Noël - Noisy-le-Grand
DESCRIPTION:Traditionnelle balade de Noël nous amenant au marché de Noël boire un vin chaud ou un chocolat. Venez bien couverts\, décorés et lumineux.
URL:https://mdb-idf.org/evenement/balade-de-noel-noisy-le-grand/
LOCATION:Mairie de Noisy-le-Grand\, place de la Libération\, Noisy le Grand\, 93160\, France
CATEGORIES:Balade
ATTACH;FMTTYPE=image/jpeg:https://mdb-idf.org/wp-content/uploads/2024/11/balade_14_decembre_2024_V01-scaled.jpg
END:VEVENT
BEGIN:VEVENT
DTSTART;TZID=Europe/Paris:20241116T151500
DTEND;TZID=Europe/Paris:20241116T183000
DTSTAMP:20260424T175203
CREATED:20241104T212724Z
LAST-MODIFIED:20241104T213333Z
UID:10001503-1731770100-1731781800@mdb-idf.org
SUMMARY:Marne à Vélo - Balade des 50 ans de MDB
DESCRIPTION:
URL:https://mdb-idf.org/evenement/marne-a-velo-balade-des-50-ans-de-mdb/
LOCATION:Mairie de Noisy-le-Grand\, place de la Libération\, Noisy le Grand\, 93160\, France
CATEGORIES:Balade
ATTACH;FMTTYPE=image/png:https://mdb-idf.org/wp-content/uploads/2024/11/Declinaison-Noisy-le-Grand.png
END:VEVENT
BEGIN:VEVENT
DTSTART;TZID=Europe/Paris:20241104T221500
DTEND;TZID=Europe/Paris:20241104T221500
DTSTAMP:20260424T175203
CREATED:20241104T212101Z
LAST-MODIFIED:20241104T212136Z
UID:10001502-1730758500-1730758500@mdb-idf.org
SUMMARY:La Marne à vélo - Balade des 50 ans de MDB
DESCRIPTION:
URL:https://mdb-idf.org/evenement/la-marne-a-velo-balade-des-50-ans-de-mdb/
LOCATION:Mairie de Noisy-le-Grand\, place de la Libération\, Noisy le Grand\, 93160\, France
CATEGORIES:Balade
END:VEVENT
BEGIN:VEVENT
DTSTART;TZID=Europe/Paris:20241013T100000
DTEND;TZID=Europe/Paris:20241013T133000
DTSTAMP:20260424T175203
CREATED:20240927T201941Z
LAST-MODIFIED:20240927T201941Z
UID:10001335-1728813600-1728826200@mdb-idf.org
SUMMARY:Balade Les boucles de la Marne
DESCRIPTION:
URL:https://mdb-idf.org/evenement/balade-les-boucles-de-la-marne/
LOCATION:Mairie de Noisy-le-Grand\, place de la Libération\, Noisy le Grand\, 93160\, France
CATEGORIES:Balade
ATTACH;FMTTYPE=image/jpeg:https://mdb-idf.org/wp-content/uploads/2024/09/Balade-octobre.jpg
END:VEVENT
BEGIN:VEVENT
DTSTART;TZID=Europe/Paris:20240922T100000
DTEND;TZID=Europe/Paris:20240922T130000
DTSTAMP:20260424T175203
CREATED:20240905T220539Z
LAST-MODIFIED:20240905T220539Z
UID:10000911-1726999200-1727010000@mdb-idf.org
SUMMARY:Balade - Les lieux de la Résistance à Noisy
DESCRIPTION:
URL:https://mdb-idf.org/evenement/balade-les-lieux-de-la-resistance-a-noisy/
LOCATION:Mairie de Noisy-le-Grand\, place de la Libération\, Noisy le Grand\, 93160\, France
CATEGORIES:Balade
END:VEVENT
BEGIN:VEVENT
DTSTART;TZID=Europe/Paris:20240907T100000
DTEND;TZID=Europe/Paris:20240907T180000
DTSTAMP:20260424T175203
CREATED:20240905T213552Z
LAST-MODIFIED:20240905T213552Z
UID:10000910-1725703200-1725732000@mdb-idf.org
SUMMARY:Noisy-le-Grand - Forum des Associations
DESCRIPTION:
URL:https://mdb-idf.org/evenement/noisy-le-grand-forum-des-associations/
LOCATION:Noisy-le-Grand – avenue Aristide Briand\, Avenue Aristide Briand\, Noisy le Grand\, Sélectionner un État :\, 93160\, France
CATEGORIES:Forum des associations
END:VEVENT
BEGIN:VEVENT
DTSTART;TZID=Europe/Paris:20240616T100000
DTEND;TZID=Europe/Paris:20240616T170000
DTSTAMP:20260424T175203
CREATED:20240609T205417Z
LAST-MODIFIED:20240609T205417Z
UID:10000297-1718532000-1718557200@mdb-idf.org
SUMMARY:Découverte de la Forêt de Notre-Dame - Roissy-en-Brie - Balade et pique-nique
DESCRIPTION:Départ à 10h depuis la Halle des Richardets vers la forêt de Notre-Dame. \nUn petit 40 km\, tranquille\, sans difficulté\, avec pique-nique à Ozoir-la-Ferrière. \nPensez à vérifier votre vélo avant le départ et à prévoir assez d’eau. \nL’itinéraire : https://urlr.me/pw3YD
URL:https://mdb-idf.org/evenement/decouverte-de-la-foret-de-notre-dame-roissy-en-brie-balade-et-pique-nique/
CATEGORIES:Balade
ATTACH;FMTTYPE=image/jpeg:https://mdb-idf.org/wp-content/uploads/2024/06/Balade_16-juin.jpg
END:VEVENT
END:VCALENDAR