BEGIN:VCALENDAR
VERSION:2.0
PRODID:-//Mieux se Déplacer à Bicyclette - ECPv6.15.20//NONSGML v1.0//EN
CALSCALE:GREGORIAN
METHOD:PUBLISH
X-ORIGINAL-URL:https://mdb-idf.org
X-WR-CALDESC:Évènements pour Mieux se Déplacer à Bicyclette
REFRESH-INTERVAL;VALUE=DURATION:PT1H
X-Robots-Tag:noindex
X-PUBLISHED-TTL:PT1H
BEGIN:VTIMEZONE
TZID:Europe/Paris
BEGIN:DAYLIGHT
TZOFFSETFROM:+0100
TZOFFSETTO:+0200
TZNAME:CEST
DTSTART:20230326T010000
END:DAYLIGHT
BEGIN:STANDARD
TZOFFSETFROM:+0200
TZOFFSETTO:+0100
TZNAME:CET
DTSTART:20231029T010000
END:STANDARD
BEGIN:DAYLIGHT
TZOFFSETFROM:+0100
TZOFFSETTO:+0200
TZNAME:CEST
DTSTART:20240331T010000
END:DAYLIGHT
BEGIN:STANDARD
TZOFFSETFROM:+0200
TZOFFSETTO:+0100
TZNAME:CET
DTSTART:20241027T010000
END:STANDARD
BEGIN:DAYLIGHT
TZOFFSETFROM:+0100
TZOFFSETTO:+0200
TZNAME:CEST
DTSTART:20250330T010000
END:DAYLIGHT
BEGIN:STANDARD
TZOFFSETFROM:+0200
TZOFFSETTO:+0100
TZNAME:CET
DTSTART:20251026T010000
END:STANDARD
END:VTIMEZONE
BEGIN:VEVENT
DTSTART;TZID=Europe/Paris:20241006T083000
DTEND;TZID=Europe/Paris:20241006T130000
DTSTAMP:20260425T013317
CREATED:20240918T132902Z
LAST-MODIFIED:20240921T113624Z
UID:10001252-1728203400-1728219600@mdb-idf.org
SUMMARY:Nogent - Balade Dynamique
DESCRIPTION:Sortie à travers les villes et les bois du 93/94/77 \nDistance : 57 km \nD+ : 190 \n45 % de chemin \n—————————— \nLa trace est disponible sur Komoot: \nhttps://www.komoot.com/fr-fr/tour/1866984170?share_token=aPg8R0o3gs5K1Ca3XCUkeW9I00RmAbXke0PpGvqO4Jv46EWnV1&ref=wtd \n—————————– \nObligatoire \nCasque \nOutils de réparation\nVélo en bonne état (ne pas hésiter à passer au chalet pour une vérification la veille ou chez ton vélociste préféré) \nPas de mineur non accompagné par un parent
URL:https://mdb-idf.org/evenement/balade-dynamique-nogent-octobre-2024/
LOCATION:Gare Nogent Le Perreux\, Rue de Nancy\, Le Perreux s/ Marne\, 94170
CATEGORIES:Balade
ATTACH;FMTTYPE=image/png:https://mdb-idf.org/wp-content/uploads/2024/09/Visuel-Sportive.png
ORGANIZER;CN="Nogent Le Perreux":MAILTO:nogentleperreux@mdb-idf.org
END:VEVENT
END:VCALENDAR