BEGIN:VCALENDAR
VERSION:2.0
PRODID:-//Mieux se Déplacer à Bicyclette - ECPv6.15.20//NONSGML v1.0//EN
CALSCALE:GREGORIAN
METHOD:PUBLISH
X-WR-CALNAME:Mieux se Déplacer à Bicyclette
X-ORIGINAL-URL:https://mdb-idf.org
X-WR-CALDESC:Évènements pour Mieux se Déplacer à Bicyclette
REFRESH-INTERVAL;VALUE=DURATION:PT1H
X-Robots-Tag:noindex
X-PUBLISHED-TTL:PT1H
BEGIN:VTIMEZONE
TZID:Europe/Paris
BEGIN:DAYLIGHT
TZOFFSETFROM:+0100
TZOFFSETTO:+0200
TZNAME:CEST
DTSTART:19760328T000000
END:DAYLIGHT
BEGIN:STANDARD
TZOFFSETFROM:+0200
TZOFFSETTO:+0100
TZNAME:CET
DTSTART:19760925T230000
END:STANDARD
BEGIN:DAYLIGHT
TZOFFSETFROM:+0100
TZOFFSETTO:+0200
TZNAME:CEST
DTSTART:19770403T010000
END:DAYLIGHT
BEGIN:STANDARD
TZOFFSETFROM:+0200
TZOFFSETTO:+0100
TZNAME:CET
DTSTART:19770925T010000
END:STANDARD
BEGIN:DAYLIGHT
TZOFFSETFROM:+0100
TZOFFSETTO:+0200
TZNAME:CEST
DTSTART:19780402T010000
END:DAYLIGHT
BEGIN:STANDARD
TZOFFSETFROM:+0200
TZOFFSETTO:+0100
TZNAME:CET
DTSTART:19781001T010000
END:STANDARD
BEGIN:DAYLIGHT
TZOFFSETFROM:+0100
TZOFFSETTO:+0200
TZNAME:CEST
DTSTART:19790401T010000
END:DAYLIGHT
BEGIN:STANDARD
TZOFFSETFROM:+0200
TZOFFSETTO:+0100
TZNAME:CET
DTSTART:19790930T010000
END:STANDARD
BEGIN:DAYLIGHT
TZOFFSETFROM:+0100
TZOFFSETTO:+0200
TZNAME:CEST
DTSTART:19800406T010000
END:DAYLIGHT
BEGIN:STANDARD
TZOFFSETFROM:+0200
TZOFFSETTO:+0100
TZNAME:CET
DTSTART:19800928T010000
END:STANDARD
BEGIN:DAYLIGHT
TZOFFSETFROM:+0100
TZOFFSETTO:+0200
TZNAME:CEST
DTSTART:19810329T010000
END:DAYLIGHT
BEGIN:STANDARD
TZOFFSETFROM:+0200
TZOFFSETTO:+0100
TZNAME:CET
DTSTART:19810927T010000
END:STANDARD
BEGIN:DAYLIGHT
TZOFFSETFROM:+0100
TZOFFSETTO:+0200
TZNAME:CEST
DTSTART:19820328T010000
END:DAYLIGHT
BEGIN:STANDARD
TZOFFSETFROM:+0200
TZOFFSETTO:+0100
TZNAME:CET
DTSTART:19820926T010000
END:STANDARD
BEGIN:DAYLIGHT
TZOFFSETFROM:+0100
TZOFFSETTO:+0200
TZNAME:CEST
DTSTART:19830327T010000
END:DAYLIGHT
BEGIN:STANDARD
TZOFFSETFROM:+0200
TZOFFSETTO:+0100
TZNAME:CET
DTSTART:19830925T010000
END:STANDARD
BEGIN:DAYLIGHT
TZOFFSETFROM:+0100
TZOFFSETTO:+0200
TZNAME:CEST
DTSTART:19840325T010000
END:DAYLIGHT
BEGIN:STANDARD
TZOFFSETFROM:+0200
TZOFFSETTO:+0100
TZNAME:CET
DTSTART:19840930T010000
END:STANDARD
BEGIN:DAYLIGHT
TZOFFSETFROM:+0100
TZOFFSETTO:+0200
TZNAME:CEST
DTSTART:19850331T010000
END:DAYLIGHT
BEGIN:STANDARD
TZOFFSETFROM:+0200
TZOFFSETTO:+0100
TZNAME:CET
DTSTART:19850929T010000
END:STANDARD
BEGIN:DAYLIGHT
TZOFFSETFROM:+0100
TZOFFSETTO:+0200
TZNAME:CEST
DTSTART:19860330T010000
END:DAYLIGHT
BEGIN:STANDARD
TZOFFSETFROM:+0200
TZOFFSETTO:+0100
TZNAME:CET
DTSTART:19860928T010000
END:STANDARD
BEGIN:DAYLIGHT
TZOFFSETFROM:+0100
TZOFFSETTO:+0200
TZNAME:CEST
DTSTART:19870329T010000
END:DAYLIGHT
BEGIN:STANDARD
TZOFFSETFROM:+0200
TZOFFSETTO:+0100
TZNAME:CET
DTSTART:19870927T010000
END:STANDARD
BEGIN:DAYLIGHT
TZOFFSETFROM:+0100
TZOFFSETTO:+0200
TZNAME:CEST
DTSTART:19880327T010000
END:DAYLIGHT
BEGIN:STANDARD
TZOFFSETFROM:+0200
TZOFFSETTO:+0100
TZNAME:CET
DTSTART:19880925T010000
END:STANDARD
BEGIN:DAYLIGHT
TZOFFSETFROM:+0100
TZOFFSETTO:+0200
TZNAME:CEST
DTSTART:19890326T010000
END:DAYLIGHT
BEGIN:STANDARD
TZOFFSETFROM:+0200
TZOFFSETTO:+0100
TZNAME:CET
DTSTART:19890924T010000
END:STANDARD
BEGIN:DAYLIGHT
TZOFFSETFROM:+0100
TZOFFSETTO:+0200
TZNAME:CEST
DTSTART:19900325T010000
END:DAYLIGHT
BEGIN:STANDARD
TZOFFSETFROM:+0200
TZOFFSETTO:+0100
TZNAME:CET
DTSTART:19900930T010000
END:STANDARD
BEGIN:DAYLIGHT
TZOFFSETFROM:+0100
TZOFFSETTO:+0200
TZNAME:CEST
DTSTART:19910331T010000
END:DAYLIGHT
BEGIN:STANDARD
TZOFFSETFROM:+0200
TZOFFSETTO:+0100
TZNAME:CET
DTSTART:19910929T010000
END:STANDARD
BEGIN:DAYLIGHT
TZOFFSETFROM:+0100
TZOFFSETTO:+0200
TZNAME:CEST
DTSTART:19920329T010000
END:DAYLIGHT
BEGIN:STANDARD
TZOFFSETFROM:+0200
TZOFFSETTO:+0100
TZNAME:CET
DTSTART:19920927T010000
END:STANDARD
BEGIN:DAYLIGHT
TZOFFSETFROM:+0100
TZOFFSETTO:+0200
TZNAME:CEST
DTSTART:19930328T010000
END:DAYLIGHT
BEGIN:STANDARD
TZOFFSETFROM:+0200
TZOFFSETTO:+0100
TZNAME:CET
DTSTART:19930926T010000
END:STANDARD
BEGIN:DAYLIGHT
TZOFFSETFROM:+0100
TZOFFSETTO:+0200
TZNAME:CEST
DTSTART:19940327T010000
END:DAYLIGHT
BEGIN:STANDARD
TZOFFSETFROM:+0200
TZOFFSETTO:+0100
TZNAME:CET
DTSTART:19940925T010000
END:STANDARD
BEGIN:DAYLIGHT
TZOFFSETFROM:+0100
TZOFFSETTO:+0200
TZNAME:CEST
DTSTART:19950326T010000
END:DAYLIGHT
BEGIN:STANDARD
TZOFFSETFROM:+0200
TZOFFSETTO:+0100
TZNAME:CET
DTSTART:19950924T010000
END:STANDARD
BEGIN:DAYLIGHT
TZOFFSETFROM:+0100
TZOFFSETTO:+0200
TZNAME:CEST
DTSTART:19960331T010000
END:DAYLIGHT
BEGIN:STANDARD
TZOFFSETFROM:+0200
TZOFFSETTO:+0100
TZNAME:CET
DTSTART:19961027T010000
END:STANDARD
BEGIN:DAYLIGHT
TZOFFSETFROM:+0100
TZOFFSETTO:+0200
TZNAME:CEST
DTSTART:19970330T010000
END:DAYLIGHT
BEGIN:STANDARD
TZOFFSETFROM:+0200
TZOFFSETTO:+0100
TZNAME:CET
DTSTART:19971026T010000
END:STANDARD
BEGIN:DAYLIGHT
TZOFFSETFROM:+0100
TZOFFSETTO:+0200
TZNAME:CEST
DTSTART:19980329T010000
END:DAYLIGHT
BEGIN:STANDARD
TZOFFSETFROM:+0200
TZOFFSETTO:+0100
TZNAME:CET
DTSTART:19981025T010000
END:STANDARD
BEGIN:DAYLIGHT
TZOFFSETFROM:+0100
TZOFFSETTO:+0200
TZNAME:CEST
DTSTART:19990328T010000
END:DAYLIGHT
BEGIN:STANDARD
TZOFFSETFROM:+0200
TZOFFSETTO:+0100
TZNAME:CET
DTSTART:19991031T010000
END:STANDARD
BEGIN:DAYLIGHT
TZOFFSETFROM:+0100
TZOFFSETTO:+0200
TZNAME:CEST
DTSTART:20000326T010000
END:DAYLIGHT
BEGIN:STANDARD
TZOFFSETFROM:+0200
TZOFFSETTO:+0100
TZNAME:CET
DTSTART:20001029T010000
END:STANDARD
BEGIN:DAYLIGHT
TZOFFSETFROM:+0100
TZOFFSETTO:+0200
TZNAME:CEST
DTSTART:20010325T010000
END:DAYLIGHT
BEGIN:STANDARD
TZOFFSETFROM:+0200
TZOFFSETTO:+0100
TZNAME:CET
DTSTART:20011028T010000
END:STANDARD
BEGIN:DAYLIGHT
TZOFFSETFROM:+0100
TZOFFSETTO:+0200
TZNAME:CEST
DTSTART:20020331T010000
END:DAYLIGHT
BEGIN:STANDARD
TZOFFSETFROM:+0200
TZOFFSETTO:+0100
TZNAME:CET
DTSTART:20021027T010000
END:STANDARD
BEGIN:DAYLIGHT
TZOFFSETFROM:+0100
TZOFFSETTO:+0200
TZNAME:CEST
DTSTART:20030330T010000
END:DAYLIGHT
BEGIN:STANDARD
TZOFFSETFROM:+0200
TZOFFSETTO:+0100
TZNAME:CET
DTSTART:20031026T010000
END:STANDARD
BEGIN:DAYLIGHT
TZOFFSETFROM:+0100
TZOFFSETTO:+0200
TZNAME:CEST
DTSTART:20040328T010000
END:DAYLIGHT
BEGIN:STANDARD
TZOFFSETFROM:+0200
TZOFFSETTO:+0100
TZNAME:CET
DTSTART:20041031T010000
END:STANDARD
BEGIN:DAYLIGHT
TZOFFSETFROM:+0100
TZOFFSETTO:+0200
TZNAME:CEST
DTSTART:20050327T010000
END:DAYLIGHT
BEGIN:STANDARD
TZOFFSETFROM:+0200
TZOFFSETTO:+0100
TZNAME:CET
DTSTART:20051030T010000
END:STANDARD
BEGIN:DAYLIGHT
TZOFFSETFROM:+0100
TZOFFSETTO:+0200
TZNAME:CEST
DTSTART:20060326T010000
END:DAYLIGHT
BEGIN:STANDARD
TZOFFSETFROM:+0200
TZOFFSETTO:+0100
TZNAME:CET
DTSTART:20061029T010000
END:STANDARD
BEGIN:DAYLIGHT
TZOFFSETFROM:+0100
TZOFFSETTO:+0200
TZNAME:CEST
DTSTART:20070325T010000
END:DAYLIGHT
BEGIN:STANDARD
TZOFFSETFROM:+0200
TZOFFSETTO:+0100
TZNAME:CET
DTSTART:20071028T010000
END:STANDARD
BEGIN:DAYLIGHT
TZOFFSETFROM:+0100
TZOFFSETTO:+0200
TZNAME:CEST
DTSTART:20080330T010000
END:DAYLIGHT
BEGIN:STANDARD
TZOFFSETFROM:+0200
TZOFFSETTO:+0100
TZNAME:CET
DTSTART:20081026T010000
END:STANDARD
BEGIN:DAYLIGHT
TZOFFSETFROM:+0100
TZOFFSETTO:+0200
TZNAME:CEST
DTSTART:20090329T010000
END:DAYLIGHT
BEGIN:STANDARD
TZOFFSETFROM:+0200
TZOFFSETTO:+0100
TZNAME:CET
DTSTART:20091025T010000
END:STANDARD
BEGIN:DAYLIGHT
TZOFFSETFROM:+0100
TZOFFSETTO:+0200
TZNAME:CEST
DTSTART:20100328T010000
END:DAYLIGHT
BEGIN:STANDARD
TZOFFSETFROM:+0200
TZOFFSETTO:+0100
TZNAME:CET
DTSTART:20101031T010000
END:STANDARD
BEGIN:DAYLIGHT
TZOFFSETFROM:+0100
TZOFFSETTO:+0200
TZNAME:CEST
DTSTART:20110327T010000
END:DAYLIGHT
BEGIN:STANDARD
TZOFFSETFROM:+0200
TZOFFSETTO:+0100
TZNAME:CET
DTSTART:20111030T010000
END:STANDARD
BEGIN:DAYLIGHT
TZOFFSETFROM:+0100
TZOFFSETTO:+0200
TZNAME:CEST
DTSTART:20120325T010000
END:DAYLIGHT
BEGIN:STANDARD
TZOFFSETFROM:+0200
TZOFFSETTO:+0100
TZNAME:CET
DTSTART:20121028T010000
END:STANDARD
BEGIN:DAYLIGHT
TZOFFSETFROM:+0100
TZOFFSETTO:+0200
TZNAME:CEST
DTSTART:20130331T010000
END:DAYLIGHT
BEGIN:STANDARD
TZOFFSETFROM:+0200
TZOFFSETTO:+0100
TZNAME:CET
DTSTART:20131027T010000
END:STANDARD
BEGIN:DAYLIGHT
TZOFFSETFROM:+0100
TZOFFSETTO:+0200
TZNAME:CEST
DTSTART:20140330T010000
END:DAYLIGHT
BEGIN:STANDARD
TZOFFSETFROM:+0200
TZOFFSETTO:+0100
TZNAME:CET
DTSTART:20141026T010000
END:STANDARD
BEGIN:DAYLIGHT
TZOFFSETFROM:+0100
TZOFFSETTO:+0200
TZNAME:CEST
DTSTART:20150329T010000
END:DAYLIGHT
BEGIN:STANDARD
TZOFFSETFROM:+0200
TZOFFSETTO:+0100
TZNAME:CET
DTSTART:20151025T010000
END:STANDARD
BEGIN:DAYLIGHT
TZOFFSETFROM:+0100
TZOFFSETTO:+0200
TZNAME:CEST
DTSTART:20160327T010000
END:DAYLIGHT
BEGIN:STANDARD
TZOFFSETFROM:+0200
TZOFFSETTO:+0100
TZNAME:CET
DTSTART:20161030T010000
END:STANDARD
BEGIN:DAYLIGHT
TZOFFSETFROM:+0100
TZOFFSETTO:+0200
TZNAME:CEST
DTSTART:20170326T010000
END:DAYLIGHT
BEGIN:STANDARD
TZOFFSETFROM:+0200
TZOFFSETTO:+0100
TZNAME:CET
DTSTART:20171029T010000
END:STANDARD
BEGIN:DAYLIGHT
TZOFFSETFROM:+0100
TZOFFSETTO:+0200
TZNAME:CEST
DTSTART:20180325T010000
END:DAYLIGHT
BEGIN:STANDARD
TZOFFSETFROM:+0200
TZOFFSETTO:+0100
TZNAME:CET
DTSTART:20181028T010000
END:STANDARD
BEGIN:DAYLIGHT
TZOFFSETFROM:+0100
TZOFFSETTO:+0200
TZNAME:CEST
DTSTART:20190331T010000
END:DAYLIGHT
BEGIN:STANDARD
TZOFFSETFROM:+0200
TZOFFSETTO:+0100
TZNAME:CET
DTSTART:20191027T010000
END:STANDARD
BEGIN:DAYLIGHT
TZOFFSETFROM:+0100
TZOFFSETTO:+0200
TZNAME:CEST
DTSTART:20200329T010000
END:DAYLIGHT
BEGIN:STANDARD
TZOFFSETFROM:+0200
TZOFFSETTO:+0100
TZNAME:CET
DTSTART:20201025T010000
END:STANDARD
BEGIN:DAYLIGHT
TZOFFSETFROM:+0100
TZOFFSETTO:+0200
TZNAME:CEST
DTSTART:20210328T010000
END:DAYLIGHT
BEGIN:STANDARD
TZOFFSETFROM:+0200
TZOFFSETTO:+0100
TZNAME:CET
DTSTART:20211031T010000
END:STANDARD
BEGIN:DAYLIGHT
TZOFFSETFROM:+0100
TZOFFSETTO:+0200
TZNAME:CEST
DTSTART:20220327T010000
END:DAYLIGHT
BEGIN:STANDARD
TZOFFSETFROM:+0200
TZOFFSETTO:+0100
TZNAME:CET
DTSTART:20221030T010000
END:STANDARD
BEGIN:DAYLIGHT
TZOFFSETFROM:+0100
TZOFFSETTO:+0200
TZNAME:CEST
DTSTART:20230326T010000
END:DAYLIGHT
BEGIN:STANDARD
TZOFFSETFROM:+0200
TZOFFSETTO:+0100
TZNAME:CET
DTSTART:20231029T010000
END:STANDARD
BEGIN:DAYLIGHT
TZOFFSETFROM:+0100
TZOFFSETTO:+0200
TZNAME:CEST
DTSTART:20240331T010000
END:DAYLIGHT
BEGIN:STANDARD
TZOFFSETFROM:+0200
TZOFFSETTO:+0100
TZNAME:CET
DTSTART:20241027T010000
END:STANDARD
BEGIN:DAYLIGHT
TZOFFSETFROM:+0100
TZOFFSETTO:+0200
TZNAME:CEST
DTSTART:20250330T010000
END:DAYLIGHT
BEGIN:STANDARD
TZOFFSETFROM:+0200
TZOFFSETTO:+0100
TZNAME:CET
DTSTART:20251026T010000
END:STANDARD
BEGIN:DAYLIGHT
TZOFFSETFROM:+0100
TZOFFSETTO:+0200
TZNAME:CEST
DTSTART:20260329T010000
END:DAYLIGHT
BEGIN:STANDARD
TZOFFSETFROM:+0200
TZOFFSETTO:+0100
TZNAME:CET
DTSTART:20261025T010000
END:STANDARD
END:VTIMEZONE
BEGIN:VEVENT
DTSTART;TZID=Europe/Paris:20260421T141903
DTEND;TZID=Europe/Paris:20251108T170000
DTSTAMP:20260421T141903
CREATED:20251005T163318Z
LAST-MODIFIED:20251005T163318Z
UID:10003814-0-1762621200@mdb-idf.org
SUMMARY:Balade au départ de Bures
DESCRIPTION:Balade gratuite\, ouverte à tous et toutes \nAller des Ulis à Courtaboeuf en vélo en utilisant la nouvelle piste cyclable du Ring des Ulis. Rythme tranquille et ambiance conviviale pour cette balade encadrée. Prévoir un vélo en bon état de marche (frein\, pneu…)\, un casque pour le moins de 12 ans.
URL:https://mdb-idf.org/evenement/balade-au-depart-de-bures-2/
LOCATION:Maison de l’écologie et de la transition\, Rue descartes\, Bures sur Yvette\, 91440\, France
ORGANIZER;CN="MDB V%C3%A9lo %C3%A0 Bures":MAILTO:velo-a-bures@mdb-idf.org
END:VEVENT
BEGIN:VEVENT
DTSTART;TZID=Europe/Paris:20240104T203000
DTEND;TZID=Europe/Paris:20240104T223000
DTSTAMP:20260421T141903
CREATED:20231012T084156Z
LAST-MODIFIED:20240908T130701Z
UID:10000116-1704400200-1704407400@mdb-idf.org
SUMMARY:Colombes - Réunion d'antenne
DESCRIPTION:Comme tous les premiers jeudis du mois\, rendez-vous au local 27 rue Saint-Vincent à Colombes ! \nL’atelier est ouvert pour la réparation en autonomie. \nToutes nos activités : https://mdb-idf.org/colombes/
URL:https://mdb-idf.org/evenement/evenement-2/2024-01-04/
LOCATION:Local MDB Colombes\, 27 rue Saint-Vincent\, Colombes\, 92700\, France
CATEGORIES:Réunion d'antenne
ATTACH;FMTTYPE=image/jpeg:https://mdb-idf.org/wp-content/uploads/2023/10/event-12.jpg
END:VEVENT
BEGIN:VEVENT
DTSTART;TZID=Europe/Paris:20240106T150000
DTEND;TZID=Europe/Paris:20240106T170000
DTSTAMP:20260421T141903
CREATED:20240105T091312Z
LAST-MODIFIED:20240105T091312Z
UID:10000143-1704553200-1704560400@mdb-idf.org
SUMMARY:Villejuif - réunion d'antenne
DESCRIPTION:
URL:https://mdb-idf.org/evenement/villejuif-reunion-dantenne/
LOCATION:Librairie Points Communs\, 30 Rue Georges Lebigot\, Villejuif\, 94800\, France
CATEGORIES:Réunion d'antenne
ATTACH;FMTTYPE=image/png:https://mdb-idf.org/wp-content/uploads/2023/11/Villejuif_sans-cartouche.png
END:VEVENT
BEGIN:VEVENT
DTSTART;TZID=Europe/Paris:20240111T200000
DTEND;TZID=Europe/Paris:20240111T223000
DTSTAMP:20260421T141903
CREATED:20250905T220855Z
LAST-MODIFIED:20250905T220855Z
UID:10003351-1705003200-1705012200@mdb-idf.org
SUMMARY:Colombes – Atelier de réparation au local
DESCRIPTION:Un problème mécanique ? Un conseil ? Apprenez à réparer votre vélo vous-même ! \nNos bénévoles experts sont là pour vous aider ! \nChaque jeudi 20h30 – 22h30 27 rue St Vincent au fond de la cour ! \nLe premier jeudi du mois est dédié à notre réunion mensuelle mais l’atelier reste ouvert pour la réparation en autonomie. \nToutes nos activités : https://mdb-idf.org/colombes/
URL:https://mdb-idf.org/evenement/colombes-atelier-de-reparation-au-local-3/2024-01-11/
LOCATION:Atelier Colombes\, 27 rue Saint-Vincent\, Colombes\, 92
CATEGORIES:Atelier de réparation
ATTACH;FMTTYPE=image/jpeg:https://mdb-idf.org/wp-content/uploads/2025/09/Atelier-Local-1.jpg
END:VEVENT
BEGIN:VEVENT
DTSTART;TZID=Europe/Paris:20240111T203000
DTEND;TZID=Europe/Paris:20240111T223000
DTSTAMP:20260421T141903
CREATED:20231210T091505Z
LAST-MODIFIED:20231222T145951Z
UID:10000136-1705005000-1705012200@mdb-idf.org
SUMMARY:Antony - Réunion Mensuelle
DESCRIPTION:Comme tous les premiers jeudis du mois\, rendez-vous à l’Espace Vasarely !
URL:https://mdb-idf.org/evenement/antony-reunion-mensuelle-2/2024-01-11/
LOCATION:Espace Vasarely\, Place des Anciens Combattants d'Afrique du Nord\, Antony\, 92160\, France
CATEGORIES:Réunion d'antenne
ATTACH;FMTTYPE=image/png:https://mdb-idf.org/wp-content/uploads/2023/11/reunionmensuelle.png
END:VEVENT
BEGIN:VEVENT
DTSTART;TZID=Europe/Paris:20240113T170000
DTEND;TZID=Europe/Paris:20240113T193000
DTSTAMP:20260421T141903
CREATED:20240105T091725Z
LAST-MODIFIED:20240105T091725Z
UID:10000144-1705165200-1705174200@mdb-idf.org
SUMMARY:Bures-sur-Yvette - Échange autour d'un voyage
DESCRIPTION:Blandine et Bernard sont partis faire le Tour de France à vélo. Venez en parler avec eux\, et pourquoi pas faire germer l’idée dans un coin de votre tête ! Nous poursuivrons ce moment par un petit verre ensemble\, histoire de célébrer la nouvelle année qui débute. \nA samedi !
URL:https://mdb-idf.org/evenement/bures-sur-yvette-echange-autour-dun-voyage/
LOCATION:Maison de l’écologie et de la transition\, Rue descartes\, Bures sur Yvette\, 91440\, France
CATEGORIES:Réunion d'antenne
ORGANIZER;CN="MDB V%C3%A9lo %C3%A0 Bures":MAILTO:velo-a-bures@mdb-idf.org
END:VEVENT
BEGIN:VEVENT
DTSTART;TZID=Europe/Paris:20240118T200000
DTEND;TZID=Europe/Paris:20240118T223000
DTSTAMP:20260421T141903
CREATED:20250905T220855Z
LAST-MODIFIED:20250905T220855Z
UID:10003352-1705608000-1705617000@mdb-idf.org
SUMMARY:Colombes – Atelier de réparation au local
DESCRIPTION:Un problème mécanique ? Un conseil ? Apprenez à réparer votre vélo vous-même ! \nNos bénévoles experts sont là pour vous aider ! \nChaque jeudi 20h30 – 22h30 27 rue St Vincent au fond de la cour ! \nLe premier jeudi du mois est dédié à notre réunion mensuelle mais l’atelier reste ouvert pour la réparation en autonomie. \nToutes nos activités : https://mdb-idf.org/colombes/
URL:https://mdb-idf.org/evenement/colombes-atelier-de-reparation-au-local-3/2024-01-18/
LOCATION:Atelier Colombes\, 27 rue Saint-Vincent\, Colombes\, 92
CATEGORIES:Atelier de réparation
ATTACH;FMTTYPE=image/jpeg:https://mdb-idf.org/wp-content/uploads/2025/09/Atelier-Local-1.jpg
END:VEVENT
BEGIN:VEVENT
DTSTART;TZID=Europe/Paris:20240119T080000
DTEND;TZID=Europe/Paris:20240119T170000
DTSTAMP:20260421T141903
CREATED:20240123T125933Z
LAST-MODIFIED:20240123T130015Z
UID:10000151-1705651200-1705683600@mdb-idf.org
SUMMARY:Dammarie - Vœux du Maire
DESCRIPTION:
URL:https://mdb-idf.org/evenement/dammarie-voeux-du-maire/
CATEGORIES:Balade
ATTACH;FMTTYPE=image/png:https://mdb-idf.org/wp-content/uploads/2023/10/Logo-Melun.png
ORGANIZER;CN="Melun Agglo %C3%A0 V%C3%A9lo":MAILTO:melun@mdb-idf.org
END:VEVENT
BEGIN:VEVENT
DTSTART;TZID=Europe/Paris:20240120T160000
DTEND;TZID=Europe/Paris:20240120T183000
DTSTAMP:20260421T141903
CREATED:20240114T161248Z
LAST-MODIFIED:20240114T161248Z
UID:10000146-1705766400-1705775400@mdb-idf.org
SUMMARY:Galette des rois des antennes MDB de la Boucle Nord Seine 🚴‍♂️
DESCRIPTION:Pour bien entamer 2024\, nous avons le plaisir de vous inviter à notre traditionnelle Galette des Rois\, un événement festif qui rassemblera les antennes Mieux se Déplacer à Bicyclette de la Boucle Nord Seine 😋\n📅 Date : Samedi 20 janvier\n🕔 Heure : À partir de 16h\n🏡 Lieu : Local MDB d’Asnières au 1 Avenue Du Dr Fleming 92600 Asnières-sur-Seine \nAu programme\, un agréable pot-goûter avec de quoi se désaltérer et se régaler. Nous vous encourageons à apporter vos gourmandises pour enrichir notre table commune.\nCet événement convivial sera l’occasion idéale pour discuter\, échanger sur nos envies et projets pour l’année à venir\, et partager un moment chaleureux entre passionnés de vélo.\nNous avons également le plaisir d’inviter les antennes MDB voisines\, alors n’hésitez pas à faire passer le mot !\nNous sommes impatients de vous retrouver pour débuter cette nouvelle année en beauté.
URL:https://mdb-idf.org/evenement/galette-des-rois-des-antennes-mdb-de-la-boucle-nord-seine/
LOCATION:Local MDB Asnières\, 1 avenue du Docteur Fleming\, Asnières-sur-Seine\, 92600\, France
ORGANIZER;CN="MDB Asni%C3%A8res":MAILTO:asnieres@mdb-idf.org
END:VEVENT
BEGIN:VEVENT
DTSTART;TZID=Europe/Paris:20240125T190000
DTEND;TZID=Europe/Paris:20240125T213000
DTSTAMP:20260421T141903
CREATED:20240108T151505Z
LAST-MODIFIED:20240124T154421Z
UID:10000145-1706209200-1706218200@mdb-idf.org
SUMMARY:Projection "Les roues de l'avenir"
DESCRIPTION:Inscrivez-vous via ce formulaire pour assister à la projection : inscriptions-lesrouesdel’avenir \n« Les roues de l’avenir » est un documentaire qui explore le potentiel du vélo dans la transition environnementale et sociale. Il analyse les dimensions économiques\, sociologiques et sanitaires de l’utilisation quotidienne du vélo\, plaidant en faveur d’une société où le cyclisme serait accessible à tous.\nPendant une heure\, vous suivrez le voyage d’un groupe de jeunes et écouterez les opinions d’experts. \nÀ la suite de la projection\, les spectateurs seront invités par Clément Dusong à partager leurs réflexions et à échanger leurs points de vue sur les thèmes abordés. \nDocteur en urbanisme et aménagement de l’espace de l’Université Paris-Est (actuellement Université Gustave Eiffel)\, Clément Dusong a travaillé lors de sa thèse sur l’évolution de l’usage du vélo en Île-de-France\, avec un prisme sur les dynamiques en cours en banlieue parisienne. Il mène aujourd’hui des projets de cherches sur la pratique du vélo pendant la Seconde Guerre mondiale et il accompagne aussi l’exposition de l’Ecomusée du Grand Orly Seine Bièvre « Ca roule – Petites histoires de vélo en banlieue sud » prévue pour printemps 2024. \n 
URL:https://mdb-idf.org/evenement/projection-les-roues-de-lavenir/
LOCATION:Académie du Climat\, 2 place Baudoyer\, Paris\, 75004\, France
CATEGORIES:Ciné-débat
ATTACH;FMTTYPE=image/png:https://mdb-idf.org/wp-content/uploads/2024/01/Comm-les-roues-de-lavenir-1.png
END:VEVENT
BEGIN:VEVENT
DTSTART;TZID=Europe/Paris:20240125T200000
DTEND;TZID=Europe/Paris:20240125T223000
DTSTAMP:20260421T141903
CREATED:20250905T220855Z
LAST-MODIFIED:20250905T220855Z
UID:10003353-1706212800-1706221800@mdb-idf.org
SUMMARY:Colombes – Atelier de réparation au local
DESCRIPTION:Un problème mécanique ? Un conseil ? Apprenez à réparer votre vélo vous-même ! \nNos bénévoles experts sont là pour vous aider ! \nChaque jeudi 20h30 – 22h30 27 rue St Vincent au fond de la cour ! \nLe premier jeudi du mois est dédié à notre réunion mensuelle mais l’atelier reste ouvert pour la réparation en autonomie. \nToutes nos activités : https://mdb-idf.org/colombes/
URL:https://mdb-idf.org/evenement/colombes-atelier-de-reparation-au-local-3/2024-01-25/
LOCATION:Atelier Colombes\, 27 rue Saint-Vincent\, Colombes\, 92
CATEGORIES:Atelier de réparation
ATTACH;FMTTYPE=image/jpeg:https://mdb-idf.org/wp-content/uploads/2025/09/Atelier-Local-1.jpg
END:VEVENT
BEGIN:VEVENT
DTSTART;TZID=Europe/Paris:20240128T100000
DTEND;TZID=Europe/Paris:20240128T130000
DTSTAMP:20260421T141903
CREATED:20240828T181222Z
LAST-MODIFIED:20250310T191759Z
UID:10001112-1706436000-1706446800@mdb-idf.org
SUMMARY:Colombes - Atelier de réparation au marché du Centre
DESCRIPTION:Un problème mécanique ? Un conseil ? Apprenez à réparer votre vélo vous-même ! \nNos bénévoles experts sont là pour vous aider ! \nMarché du Centre : le 4ème dimanche du mois\, de 10h à 13h \nToutes nos activités : https://mdb-idf.org/colombes/
URL:https://mdb-idf.org/evenement/colombes-atelier-de-reparation-au-marche-centre-2/2024-01-28/
LOCATION:Marché du Centre\, 52 rue du Bournard\, Colombes\, 92700
CATEGORIES:Atelier de réparation
ATTACH;FMTTYPE=image/jpeg:https://mdb-idf.org/wp-content/uploads/2024/07/Marche-Centre.jpg
END:VEVENT
BEGIN:VEVENT
DTSTART;TZID=Europe/Paris:20240128T100000
DTEND;TZID=Europe/Paris:20240128T130000
DTSTAMP:20260421T141903
CREATED:20241017T112620Z
LAST-MODIFIED:20241017T112620Z
UID:10001411-1706436000-1706446800@mdb-idf.org
SUMMARY:50 ans de MDB - Colombes - Atelier de réparation au marché du Centre
DESCRIPTION:Un problème mécanique ? Un conseil ? Apprenez à réparer votre vélo vous-même ! \nNos bénévoles experts sont là pour vous aider ! \nMarché du Centre : le 4ème dimanche du mois (en septembre exceptionnellement le 29)\, de 10h à 13h \nToutes nos activités : https://mdb-idf.org/colombes
URL:https://mdb-idf.org/evenement/50-ans-de-mdb-colombes-atelier-de-reparation-au-marche-du-centre/2024-01-28/
LOCATION:Marché du Centre\, 52 rue du Bournard\, Colombes\, 92700
CATEGORIES:Atelier de réparation
ATTACH;FMTTYPE=image/jpeg:https://mdb-idf.org/wp-content/uploads/2024/07/Marche-Centre.jpg
END:VEVENT
BEGIN:VEVENT
DTSTART;TZID=Europe/Paris:20240128T100000
DTEND;TZID=Europe/Paris:20240128T170000
DTSTAMP:20260421T141903
CREATED:20231203T150123Z
LAST-MODIFIED:20231222T103058Z
UID:10000135-1706436000-1706461200@mdb-idf.org
SUMMARY:Journée des vélos-écoles
DESCRIPTION:
URL:https://mdb-idf.org/evenement/journee-des-velos-ecoles/
LOCATION:Maison du vélo\, 37 boulevard Bourdon\, Paris\, 75004
CATEGORIES:Réunion d'antenne
ORGANIZER;CN="Genevi%C3%A8ve Cron":MAILTO:genevieve.cron@mdb-idf.org
END:VEVENT
END:VCALENDAR