BEGIN:VCALENDAR
VERSION:2.0
PRODID:-//Mieux se Déplacer à Bicyclette - ECPv6.15.20//NONSGML v1.0//EN
CALSCALE:GREGORIAN
METHOD:PUBLISH
X-WR-CALNAME:Mieux se Déplacer à Bicyclette
X-ORIGINAL-URL:https://mdb-idf.org
X-WR-CALDESC:Évènements pour Mieux se Déplacer à Bicyclette
REFRESH-INTERVAL;VALUE=DURATION:PT1H
X-Robots-Tag:noindex
X-PUBLISHED-TTL:PT1H
BEGIN:VTIMEZONE
TZID:Europe/Paris
BEGIN:DAYLIGHT
TZOFFSETFROM:+0100
TZOFFSETTO:+0200
TZNAME:CEST
DTSTART:20250330T010000
END:DAYLIGHT
BEGIN:STANDARD
TZOFFSETFROM:+0200
TZOFFSETTO:+0100
TZNAME:CET
DTSTART:20251026T010000
END:STANDARD
BEGIN:DAYLIGHT
TZOFFSETFROM:+0100
TZOFFSETTO:+0200
TZNAME:CEST
DTSTART:20260329T010000
END:DAYLIGHT
BEGIN:STANDARD
TZOFFSETFROM:+0200
TZOFFSETTO:+0100
TZNAME:CET
DTSTART:20261025T010000
END:STANDARD
BEGIN:DAYLIGHT
TZOFFSETFROM:+0100
TZOFFSETTO:+0200
TZNAME:CEST
DTSTART:20270328T010000
END:DAYLIGHT
BEGIN:STANDARD
TZOFFSETFROM:+0200
TZOFFSETTO:+0100
TZNAME:CET
DTSTART:20271031T010000
END:STANDARD
END:VTIMEZONE
BEGIN:VEVENT
DTSTART;TZID=Europe/Paris:20260202T190000
DTEND;TZID=Europe/Paris:20260202T210000
DTSTAMP:20260423T030121
CREATED:20260127T075746Z
LAST-MODIFIED:20260127T075746Z
UID:10005737-1770058800-1770066000@mdb-idf.org
SUMMARY:MDB Val Maubuée – Réunion d’antenne
DESCRIPTION:Réunion mensuelle de l’antenne MDB Val Maubuée. 🚲\nÉchangeons sur les actualités vélo et mobilités dans nos communes\,  les évènements et balades à organiser et bien d’autres choses.
URL:https://mdb-idf.org/evenement/mdb-val-maubuee-reunion-dantenne/
LOCATION:Espace Malvoisine\, salle Atelier\, 1 bis\, rue Mithridate\, Lognes\, 77185\, France
CATEGORIES:Réunion d'antenne
ORGANIZER;CN="MDB Val Maubu%C3%A9e":MAILTO:val-maubuee@mdb-idf.org
END:VEVENT
BEGIN:VEVENT
DTSTART;TZID=Europe/Paris:20260203T203000
DTEND;TZID=Europe/Paris:20260203T223000
DTSTAMP:20260423T030121
CREATED:20251006T222948Z
LAST-MODIFIED:20251006T222948Z
UID:10005343-1770150600-1770157800@mdb-idf.org
SUMMARY:Antenne Noisy-le-Grand - Réunion d'antenne
DESCRIPTION:
URL:https://mdb-idf.org/evenement/antenne-noisy-le-grand-reunion-dantenne/2026-02-03/
LOCATION:Salle Stéphane Hessel\, 10 place Antoine Renard\, Noisy le Grand\, Sélectionner un État :\, 93160\, France
CATEGORIES:Réunion d'antenne
ATTACH;FMTTYPE=image/png:https://mdb-idf.org/wp-content/uploads/2023/10/Logo-Noisy.png
END:VEVENT
BEGIN:VEVENT
DTSTART;TZID=Europe/Paris:20260205T183000
DTEND;TZID=Europe/Paris:20260205T203000
DTSTAMP:20260423T030121
CREATED:20260108T213033Z
LAST-MODIFIED:20260108T213927Z
UID:10005703-1770316200-1770323400@mdb-idf.org
SUMMARY:Apéro vélo de Melun Agglo à Vélo
DESCRIPTION:On se rencontre dans un café et on parle vélo\, ou d’autres choses. Tout le monde est bienvenu\, adhérent.e ou pas. \n 
URL:https://mdb-idf.org/evenement/apero-velo-de-melun-agglo-a-velo/
LOCATION:Brasserie du Pont\, 1 rue saint Ambroise\, Melun\, 77000
CATEGORIES:Apéro
ATTACH;FMTTYPE=image/jpeg:https://mdb-idf.org/wp-content/uploads/2026/01/aperovelo-1.jpg
ORGANIZER;CN="Melun Agglo %C3%A0 V%C3%A9lo":MAILTO:melun@mdb-idf.org
END:VEVENT
BEGIN:VEVENT
DTSTART;TZID=Europe/Paris:20260205T190000
DTEND;TZID=Europe/Paris:20260205T200000
DTSTAMP:20260423T030121
CREATED:20251208T114907Z
LAST-MODIFIED:20260123T112434Z
UID:10005575-1770318000-1770321600@mdb-idf.org
SUMMARY:Réunion antenne Chelles
DESCRIPTION:RDV aux Ciboulettes pour parler vélo
URL:https://mdb-idf.org/evenement/reunion-antenne-chelles-7/
LOCATION:Les Ciboulettes\, Gare de Chelles-Gournay\, Chelles\, France\, 77500\, France
CATEGORIES:Réunion d'antenne
ATTACH;FMTTYPE=image/png:https://mdb-idf.org/wp-content/uploads/2024/02/logo_Chelles-fond-transparent.png
END:VEVENT
BEGIN:VEVENT
DTSTART;TZID=Europe/Paris:20260205T200000
DTEND;TZID=Europe/Paris:20260205T210000
DTSTAMP:20260423T030121
CREATED:20260123T112622Z
LAST-MODIFIED:20260123T112622Z
UID:10005708-1770321600-1770325200@mdb-idf.org
SUMMARY:Présentation publique Baromètre Vélo 2025 et Étude Commerces à Chelles
DESCRIPTION:Présentation publique du Baromètre Vélo 2025 et des résultats de l’étude des modes de déplacement des clients de l’avenue de la Résistance. \n👥 Invités : adhérents\, citoyens\, commerçants\, élus\, candidats aux élections\, journalistes\n🕗 Le jeudi 5 février à 20h\n➡️ au local des Ciboulettes\, gare de Chelles-Gournay
URL:https://mdb-idf.org/evenement/presentation-publique-barometre-velo-2025-et-etude-commerces-a-chelles/
LOCATION:Les Ciboulettes\, Gare de Chelles-Gournay\, Chelles\, France\, 77500\, France
CATEGORIES:Réunion d'antenne
ATTACH;FMTTYPE=image/png:https://mdb-idf.org/wp-content/uploads/2026/01/Presentation-publique-de-letude-sur-les-modes-de-deplacement-des-clients-des-commerces-de-lavenue-de-la-Resistance21.png
END:VEVENT
BEGIN:VEVENT
DTSTART;TZID=Europe/Paris:20260205T203000
DTEND;TZID=Europe/Paris:20260205T223000
DTSTAMP:20260423T030121
CREATED:20251231T153044Z
LAST-MODIFIED:20251231T153044Z
UID:10005685-1770323400-1770330600@mdb-idf.org
SUMMARY:Colombes – Réunion d’antenne
DESCRIPTION:Comme tous les premiers jeudis du mois\, rendez-vous au local 27 rue Saint-Vincent à Colombes ! \nL’atelier est ouvert pour la réparation en autonomie. \nToutes nos activités : https://mdb-idf.org/colombes/
URL:https://mdb-idf.org/evenement/colombes-reunion-dantenne-2026/2026-02-05/
LOCATION:Local MDB Colombes\, 27 rue Saint-Vincent\, Colombes\, 92700\, France
CATEGORIES:Atelier de réparation
ATTACH;FMTTYPE=image/jpeg:https://mdb-idf.org/wp-content/uploads/2023/10/event-12.jpg
END:VEVENT
BEGIN:VEVENT
DTSTART;TZID=Europe/Paris:20260207T093000
DTEND;TZID=Europe/Paris:20260207T113000
DTSTAMP:20260423T030121
CREATED:20251119T203751Z
LAST-MODIFIED:20251119T203751Z
UID:10005430-1770456600-1770463800@mdb-idf.org
SUMMARY:Atelier de co-réparation - Noisy-le-Grand
DESCRIPTION:Sur inscription \nNoisy-le-Grand : atelier de co-réparation
URL:https://mdb-idf.org/evenement/atelier-de-co-reparation-noisy-le-grand-5/
LOCATION:ATD Quart Monde\, 77 rue Jules Ferry\, Noisy-le-Grand\, 93160
CATEGORIES:Atelier de réparation
ATTACH;FMTTYPE=image/jpeg:https://mdb-idf.org/wp-content/uploads/2025/10/Atelier_2.jpeg
END:VEVENT
BEGIN:VEVENT
DTSTART;TZID=Europe/Paris:20260207T100000
DTEND;TZID=Europe/Paris:20260207T120000
DTSTAMP:20260423T030121
CREATED:20250922T151847Z
LAST-MODIFIED:20250922T151847Z
UID:10003700-1770458400-1770465600@mdb-idf.org
SUMMARY:Aulnay-sous-Bois - Atelier d'auto-réparation 🔧
DESCRIPTION:
URL:https://mdb-idf.org/evenement/aulnay-sous-bois-atelier-dauto-reparation-%f0%9f%94%a7/2026-02-07/
LOCATION:Parking vélo de la gare d’Aulnay-sous-Bois\, rue du 11 novembre\, Aulnay-sous-Bois\, 93800
CATEGORIES:Atelier de réparation
ATTACH;FMTTYPE=image/png:https://mdb-idf.org/wp-content/uploads/2025/03/Copie-de-Visuels-pour-OpenAgenda.png
ORGANIZER;CN="MDB Aulnay-sous-Bois":MAILTO:aulnay-a-velo@mdb-idf.org
END:VEVENT
BEGIN:VEVENT
DTSTART;TZID=Europe/Paris:20260210T203000
DTEND;TZID=Europe/Paris:20260210T223000
DTSTAMP:20260423T030121
CREATED:20251201T222943Z
LAST-MODIFIED:20251201T222943Z
UID:10005516-1770755400-1770762600@mdb-idf.org
SUMMARY:Réunions mensuelle MDB-Palaiseau à vélo
DESCRIPTION:Venez nous rejoindre à notre réunion mensuelle pour faire avancer le vélo à Palaiseau 😀.\nSi vous ne connaissez personne\, ce n’est pas grave\, n’hésitez pas\, c’est justement l’occasion de nous rencontrer…\nSi vous n’avez pas l’habitude de venir\, faites-nous un petit mail avant\, pour être certain que la réunion n’a pas dû être décalée : palaiseauavelo@mdb-idf.org\nLes réunions ont lieux au tiers lieu l’Ebulition\, 2 avenue de la république à Palaiseau. C’est juste au-dessus de la place de la Victoire. Descendez dans la cour\, entrez dans le bâtiment\, la salle est au 1er étage.
URL:https://mdb-idf.org/evenement/reunions-mensuelle-mdb-palaiseau-a-velo/2026-02-10/
LOCATION:Tiers lieu l’Ebulition (Palaiseau)\, 2 avenue de la république\, Palaiseau\, 91120\, France
CATEGORIES:Réunion d'antenne
ATTACH;FMTTYPE=image/jpeg:https://mdb-idf.org/wp-content/uploads/2025/12/reunion-palaiseau.jpg
END:VEVENT
BEGIN:VEVENT
DTSTART;TZID=Europe/Paris:20260210T203000
DTEND;TZID=Europe/Paris:20260210T230000
DTSTAMP:20260423T030121
CREATED:20260209T211250Z
LAST-MODIFIED:20260209T211250Z
UID:10005745-1770755400-1770764400@mdb-idf.org
SUMMARY:Réunion d'antenne de Février (Palaiseau)
DESCRIPTION:Venez nous rejoindre à notre réunion mensuelle pour faire avancer le vélo à Palaiseau 😀.\nSi vous ne connaissez personne\, ce n’est pas grave\, n’hésitez pas\, c’est justement l’occasion de nous rencontrer…\nSi vous n’avez pas l’habitude de venir\, faites-nous un petit mail avant\, pour être certain que la réunion n’a pas dû être décalée : palaiseauavelo@mdb-idf.org\nLes réunions ont lieux au tiers lieu l’Ebulition\, 2 avenue de la république à Palaiseau. C’est juste au-dessus de la place de la Victoire. Descendez dans la cour\, entrez dans le bâtiment\, la salle est au 1er étage.
URL:https://mdb-idf.org/evenement/reunion-dantenne-de-fevrier-palaiseau/
LOCATION:Tiers lieu l’Ebulition (Palaiseau)\, 2 avenue de la république\, Palaiseau\, 91120\, France
CATEGORIES:Réunion d'antenne
ATTACH;FMTTYPE=image/jpeg:https://mdb-idf.org/wp-content/uploads/2026/02/fevrier.jpg
END:VEVENT
BEGIN:VEVENT
DTSTART;TZID=Europe/Paris:20260212T200000
DTEND;TZID=Europe/Paris:20260212T223000
DTSTAMP:20260423T030121
CREATED:20250905T220855Z
LAST-MODIFIED:20250905T220855Z
UID:10003435-1770926400-1770935400@mdb-idf.org
SUMMARY:Colombes – Atelier de réparation au local
DESCRIPTION:Un problème mécanique ? Un conseil ? Apprenez à réparer votre vélo vous-même ! \nNos bénévoles experts sont là pour vous aider ! \nChaque jeudi 20h30 – 22h30 27 rue St Vincent au fond de la cour ! \nLe premier jeudi du mois est dédié à notre réunion mensuelle mais l’atelier reste ouvert pour la réparation en autonomie. \nToutes nos activités : https://mdb-idf.org/colombes/
URL:https://mdb-idf.org/evenement/colombes-atelier-de-reparation-au-local-3/2026-02-12/
LOCATION:Atelier Colombes\, 27 rue Saint-Vincent\, Colombes\, 92
CATEGORIES:Atelier de réparation
ATTACH;FMTTYPE=image/jpeg:https://mdb-idf.org/wp-content/uploads/2025/09/Atelier-Local-1.jpg
END:VEVENT
BEGIN:VEVENT
DTSTART;TZID=Europe/Paris:20260214T100000
DTEND;TZID=Europe/Paris:20260214T130000
DTSTAMP:20260423T030121
CREATED:20250922T185411Z
LAST-MODIFIED:20250922T185411Z
UID:10003710-1771063200-1771074000@mdb-idf.org
SUMMARY:Colombes – Atelier de réparation au marché Marceau
DESCRIPTION:Un problème mécanique ? Un conseil ? Apprenez à réparer votre vélo vous-même ! \nNos bénévoles experts sont là pour vous aider ! \nMarché Marceau : le 2ème samedi du mois\, de 10h à 13h \nToutes nos activités : https://mdb-idf.org/colombes/
URL:https://mdb-idf.org/evenement/colombes-atelier-de-reparation-au-marche-marceau/2026-02-14/
LOCATION:Marché Marceau\, 72 boulevard Marceau\, Colombes\, 92700
ATTACH;FMTTYPE=image/jpeg:https://mdb-idf.org/wp-content/uploads/2024/07/Marche-Marceau.jpg
END:VEVENT
BEGIN:VEVENT
DTSTART;TZID=Europe/Paris:20260214T170000
DTEND;TZID=Europe/Paris:20260214T183000
DTSTAMP:20260423T030121
CREATED:20260119T100455Z
LAST-MODIFIED:20260119T100455Z
UID:10005706-1771088400-1771093800@mdb-idf.org
SUMMARY:Voyage à vélo de Bures/Yvette au Mont Saint Michel
DESCRIPTION:La Véloscénie de Bures au Mt Saint Michel\nCette véloroute national (V40) traverse Bures (avec quelques difficultés) et emmène le cycliste jusqu’au bord de la mer 400 km plus loin. Récit d’une balade à vélo entre la forêt de Rambouillet et le bocage Normand en passant par Chartres et Alençon.
URL:https://mdb-idf.org/evenement/voyage-a-velo-de-bures-yvette-au-mont-saint-michel/
LOCATION:Maison de l’écologie et de la transition\, Rue descartes\, Bures sur Yvette\, 91440\, France
CATEGORIES:Atelier / Conférence,Ciné-débat
ATTACH;FMTTYPE=image/png:https://mdb-idf.org/wp-content/uploads/2026/01/Veloscenie-2026-02-14.png
ORGANIZER;CN="MDB V%C3%A9lo %C3%A0 Bures":MAILTO:velo-a-bures@mdb-idf.org
END:VEVENT
BEGIN:VEVENT
DTSTART;TZID=Europe/Paris:20260215T100000
DTEND;TZID=Europe/Paris:20260215T130000
DTSTAMP:20260423T030121
CREATED:20260126T211209Z
LAST-MODIFIED:20260214T184157Z
UID:10005731-1771149600-1771160400@mdb-idf.org
SUMMARY:Balade de février - C'est incyclable près de chez vous - Noisy-le-Grand
DESCRIPTION:* \nPourquoi nous organisons cette balade ? Toutes les explications dans notre article.
URL:https://mdb-idf.org/evenement/balade-de-fevrier-cest-incyclable-pres-de-chez-vous-noisy-le-grand/
LOCATION:Mairie de Noisy-le-Grand\, place de la Libération\, Noisy le Grand\, 93160\, France
CATEGORIES:Balade
ATTACH;FMTTYPE=image/jpeg:https://mdb-idf.org/wp-content/uploads/2026/01/Affiche_balade_15_fevrier-e1770578020195.jpg
END:VEVENT
BEGIN:VEVENT
DTSTART;TZID=Europe/Paris:20260219T200000
DTEND;TZID=Europe/Paris:20260219T223000
DTSTAMP:20260423T030121
CREATED:20250905T220855Z
LAST-MODIFIED:20250905T220855Z
UID:10003436-1771531200-1771540200@mdb-idf.org
SUMMARY:Colombes – Atelier de réparation au local
DESCRIPTION:Un problème mécanique ? Un conseil ? Apprenez à réparer votre vélo vous-même ! \nNos bénévoles experts sont là pour vous aider ! \nChaque jeudi 20h30 – 22h30 27 rue St Vincent au fond de la cour ! \nLe premier jeudi du mois est dédié à notre réunion mensuelle mais l’atelier reste ouvert pour la réparation en autonomie. \nToutes nos activités : https://mdb-idf.org/colombes/
URL:https://mdb-idf.org/evenement/colombes-atelier-de-reparation-au-local-3/2026-02-19/
LOCATION:Atelier Colombes\, 27 rue Saint-Vincent\, Colombes\, 92
CATEGORIES:Atelier de réparation
ATTACH;FMTTYPE=image/jpeg:https://mdb-idf.org/wp-content/uploads/2025/09/Atelier-Local-1.jpg
END:VEVENT
BEGIN:VEVENT
DTSTART;VALUE=DATE:20260221
DTEND;VALUE=DATE:20260222
DTSTAMP:20260423T030121
CREATED:20260108T211714Z
LAST-MODIFIED:20260309T191651Z
UID:10005702-1771632000-1771718399@mdb-idf.org
SUMMARY:Melun Agglo à Vélo en campagne pour les municipales
DESCRIPTION:Nous préparons un itinéraire vélo avec les candidat.es aux municipales dans Melun\, Dammarie-les-Lys et Vaux-le-Pénil qui sera le point d’orgue de notre campagne. Consultez notre communiqué de presse. \n  \n 
URL:https://mdb-idf.org/evenement/melun-agglo-a-velo-en-campagne-pour-les-municipales/
LOCATION:Melun et  Dammarie-les-Lys et Vaux-le-Pénil\, 77000
CATEGORIES:Atelier / Conférence,Balade
ATTACH;FMTTYPE=image/jpeg:https://mdb-idf.org/wp-content/uploads/2026/01/image.jpeg
ORGANIZER;CN="Melun Agglo %C3%A0 V%C3%A9lo":MAILTO:melun@mdb-idf.org
END:VEVENT
BEGIN:VEVENT
DTSTART;TZID=Europe/Paris:20260222T100000
DTEND;TZID=Europe/Paris:20260222T130000
DTSTAMP:20260423T030121
CREATED:20240828T181222Z
LAST-MODIFIED:20250310T191759Z
UID:10001137-1771754400-1771765200@mdb-idf.org
SUMMARY:Colombes - Atelier de réparation au marché du Centre
DESCRIPTION:Un problème mécanique ? Un conseil ? Apprenez à réparer votre vélo vous-même ! \nNos bénévoles experts sont là pour vous aider ! \nMarché du Centre : le 4ème dimanche du mois\, de 10h à 13h \nToutes nos activités : https://mdb-idf.org/colombes/
URL:https://mdb-idf.org/evenement/colombes-atelier-de-reparation-au-marche-centre-2/2026-02-22/
LOCATION:Marché du Centre\, 52 rue du Bournard\, Colombes\, 92700
CATEGORIES:Atelier de réparation
ATTACH;FMTTYPE=image/jpeg:https://mdb-idf.org/wp-content/uploads/2024/07/Marche-Centre.jpg
END:VEVENT
BEGIN:VEVENT
DTSTART;TZID=Europe/Paris:20260226T200000
DTEND;TZID=Europe/Paris:20260226T223000
DTSTAMP:20260423T030121
CREATED:20250905T220855Z
LAST-MODIFIED:20250905T220855Z
UID:10003437-1772136000-1772145000@mdb-idf.org
SUMMARY:Colombes – Atelier de réparation au local
DESCRIPTION:Un problème mécanique ? Un conseil ? Apprenez à réparer votre vélo vous-même ! \nNos bénévoles experts sont là pour vous aider ! \nChaque jeudi 20h30 – 22h30 27 rue St Vincent au fond de la cour ! \nLe premier jeudi du mois est dédié à notre réunion mensuelle mais l’atelier reste ouvert pour la réparation en autonomie. \nToutes nos activités : https://mdb-idf.org/colombes/
URL:https://mdb-idf.org/evenement/colombes-atelier-de-reparation-au-local-3/2026-02-26/
LOCATION:Atelier Colombes\, 27 rue Saint-Vincent\, Colombes\, 92
CATEGORIES:Atelier de réparation
ATTACH;FMTTYPE=image/jpeg:https://mdb-idf.org/wp-content/uploads/2025/09/Atelier-Local-1.jpg
END:VEVENT
END:VCALENDAR