BEGIN:VCALENDAR
VERSION:2.0
PRODID:-//Mieux se Déplacer à Bicyclette - ECPv6.15.20//NONSGML v1.0//EN
CALSCALE:GREGORIAN
METHOD:PUBLISH
X-ORIGINAL-URL:https://mdb-idf.org
X-WR-CALDESC:Évènements pour Mieux se Déplacer à Bicyclette
REFRESH-INTERVAL;VALUE=DURATION:PT1H
X-Robots-Tag:noindex
X-PUBLISHED-TTL:PT1H
BEGIN:VTIMEZONE
TZID:Europe/Paris
BEGIN:DAYLIGHT
TZOFFSETFROM:+0100
TZOFFSETTO:+0200
TZNAME:CEST
DTSTART:20250330T010000
END:DAYLIGHT
BEGIN:STANDARD
TZOFFSETFROM:+0200
TZOFFSETTO:+0100
TZNAME:CET
DTSTART:20251026T010000
END:STANDARD
BEGIN:DAYLIGHT
TZOFFSETFROM:+0100
TZOFFSETTO:+0200
TZNAME:CEST
DTSTART:20260329T010000
END:DAYLIGHT
BEGIN:STANDARD
TZOFFSETFROM:+0200
TZOFFSETTO:+0100
TZNAME:CET
DTSTART:20261025T010000
END:STANDARD
BEGIN:DAYLIGHT
TZOFFSETFROM:+0100
TZOFFSETTO:+0200
TZNAME:CEST
DTSTART:20270328T010000
END:DAYLIGHT
BEGIN:STANDARD
TZOFFSETFROM:+0200
TZOFFSETTO:+0100
TZNAME:CET
DTSTART:20271031T010000
END:STANDARD
END:VTIMEZONE
BEGIN:VEVENT
DTSTART;TZID=Europe/Paris:20260501T103000
DTEND;TZID=Europe/Paris:20260501T140000
DTSTAMP:20260422T033954
CREATED:20260101T111230Z
LAST-MODIFIED:20260408T063534Z
UID:10005699-1777631400-1777644000@mdb-idf.org
SUMMARY:On se re-mai à vélo 2026 (annulé)
DESCRIPTION:Nous sommes au regret d’annuler notre parade du 1er mai de cette année. Prochain rendez-vous : La Convergence\, le 7 juin !
URL:https://mdb-idf.org/evenement/on-se-re-mai-a-velo-2026/
LOCATION:Place Henri Neveu\, Colombes\, Place Henri Neveu\, Colombes\, 92700\, France
CATEGORIES:Balade,Family Fun,Manifestation
END:VEVENT
BEGIN:VEVENT
DTSTART;TZID=Europe/Paris:20260505T203000
DTEND;TZID=Europe/Paris:20260505T223000
DTSTAMP:20260422T033954
CREATED:20251006T222948Z
LAST-MODIFIED:20251006T222948Z
UID:10005346-1778013000-1778020200@mdb-idf.org
SUMMARY:Antenne Noisy-le-Grand - Réunion d'antenne
DESCRIPTION:
URL:https://mdb-idf.org/evenement/antenne-noisy-le-grand-reunion-dantenne/2026-05-05/
LOCATION:Salle Stéphane Hessel\, 10 place Antoine Renard\, Noisy le Grand\, Sélectionner un État :\, 93160\, France
CATEGORIES:Réunion d'antenne
ATTACH;FMTTYPE=image/png:https://mdb-idf.org/wp-content/uploads/2023/10/Logo-Noisy.png
END:VEVENT
BEGIN:VEVENT
DTSTART;TZID=Europe/Paris:20260507T203000
DTEND;TZID=Europe/Paris:20260507T223000
DTSTAMP:20260422T033954
CREATED:20251231T153044Z
LAST-MODIFIED:20251231T153044Z
UID:10005688-1778185800-1778193000@mdb-idf.org
SUMMARY:Colombes – Réunion d’antenne
DESCRIPTION:Comme tous les premiers jeudis du mois\, rendez-vous au local 27 rue Saint-Vincent à Colombes ! \nL’atelier est ouvert pour la réparation en autonomie. \nToutes nos activités : https://mdb-idf.org/colombes/
URL:https://mdb-idf.org/evenement/colombes-reunion-dantenne-2026/2026-05-07/
LOCATION:Local MDB Colombes\, 27 rue Saint-Vincent\, Colombes\, 92700\, France
CATEGORIES:Atelier de réparation
ATTACH;FMTTYPE=image/jpeg:https://mdb-idf.org/wp-content/uploads/2023/10/event-12.jpg
END:VEVENT
BEGIN:VEVENT
DTSTART;TZID=Europe/Paris:20260509T100000
DTEND;TZID=Europe/Paris:20260509T130000
DTSTAMP:20260422T033954
CREATED:20250922T185411Z
LAST-MODIFIED:20250922T185411Z
UID:10003713-1778320800-1778331600@mdb-idf.org
SUMMARY:Colombes – Atelier de réparation au marché Marceau
DESCRIPTION:Un problème mécanique ? Un conseil ? Apprenez à réparer votre vélo vous-même ! \nNos bénévoles experts sont là pour vous aider ! \nMarché Marceau : le 2ème samedi du mois\, de 10h à 13h \nToutes nos activités : https://mdb-idf.org/colombes/
URL:https://mdb-idf.org/evenement/colombes-atelier-de-reparation-au-marche-marceau/2026-05-09/
LOCATION:Marché Marceau\, 72 boulevard Marceau\, Colombes\, 92700
ATTACH;FMTTYPE=image/jpeg:https://mdb-idf.org/wp-content/uploads/2024/07/Marche-Marceau.jpg
END:VEVENT
BEGIN:VEVENT
DTSTART;TZID=Europe/Paris:20260512T203000
DTEND;TZID=Europe/Paris:20260512T223000
DTSTAMP:20260422T033954
CREATED:20251201T222943Z
LAST-MODIFIED:20251201T222943Z
UID:10005519-1778617800-1778625000@mdb-idf.org
SUMMARY:Réunions mensuelle MDB-Palaiseau à vélo
DESCRIPTION:Venez nous rejoindre à notre réunion mensuelle pour faire avancer le vélo à Palaiseau 😀.\nSi vous ne connaissez personne\, ce n’est pas grave\, n’hésitez pas\, c’est justement l’occasion de nous rencontrer…\nSi vous n’avez pas l’habitude de venir\, faites-nous un petit mail avant\, pour être certain que la réunion n’a pas dû être décalée : palaiseauavelo@mdb-idf.org\nLes réunions ont lieux au tiers lieu l’Ebulition\, 2 avenue de la république à Palaiseau. C’est juste au-dessus de la place de la Victoire. Descendez dans la cour\, entrez dans le bâtiment\, la salle est au 1er étage.
URL:https://mdb-idf.org/evenement/reunions-mensuelle-mdb-palaiseau-a-velo/2026-05-12/
LOCATION:Tiers lieu l’Ebulition (Palaiseau)\, 2 avenue de la république\, Palaiseau\, 91120\, France
CATEGORIES:Réunion d'antenne
ATTACH;FMTTYPE=image/jpeg:https://mdb-idf.org/wp-content/uploads/2025/12/reunion-palaiseau.jpg
END:VEVENT
BEGIN:VEVENT
DTSTART;TZID=Europe/Paris:20260514T200000
DTEND;TZID=Europe/Paris:20260514T223000
DTSTAMP:20260422T033954
CREATED:20250905T220855Z
LAST-MODIFIED:20250905T220855Z
UID:10003445-1778788800-1778797800@mdb-idf.org
SUMMARY:Colombes – Atelier de réparation au local
DESCRIPTION:Un problème mécanique ? Un conseil ? Apprenez à réparer votre vélo vous-même ! \nNos bénévoles experts sont là pour vous aider ! \nChaque jeudi 20h30 – 22h30 27 rue St Vincent au fond de la cour ! \nLe premier jeudi du mois est dédié à notre réunion mensuelle mais l’atelier reste ouvert pour la réparation en autonomie. \nToutes nos activités : https://mdb-idf.org/colombes/
URL:https://mdb-idf.org/evenement/colombes-atelier-de-reparation-au-local-3/2026-05-14/
LOCATION:Atelier Colombes\, 27 rue Saint-Vincent\, Colombes\, 92
CATEGORIES:Atelier de réparation
ATTACH;FMTTYPE=image/jpeg:https://mdb-idf.org/wp-content/uploads/2025/09/Atelier-Local-1.jpg
END:VEVENT
BEGIN:VEVENT
DTSTART;TZID=Europe/Paris:20260516T140000
DTEND;TZID=Europe/Paris:20260516T170000
DTSTAMP:20260422T033954
CREATED:20260225T104621Z
LAST-MODIFIED:20260225T104621Z
UID:10005776-1778940000-1778950800@mdb-idf.org
SUMMARY:Asnières - Atelier extérieur
DESCRIPTION:Atelier d’auto-réparation en extérieur. 16 rue Neuve des Mourinoux\, Asnières. De 14h à 17h.
URL:https://mdb-idf.org/evenement/asnieres-atelier-exterieur-11/
ORGANIZER;CN="MDB Asni%C3%A8res":MAILTO:asnieres@mdb-idf.org
END:VEVENT
BEGIN:VEVENT
DTSTART;TZID=Europe/Paris:20260521T200000
DTEND;TZID=Europe/Paris:20260521T223000
DTSTAMP:20260422T033954
CREATED:20250905T220855Z
LAST-MODIFIED:20250905T220855Z
UID:10003446-1779393600-1779402600@mdb-idf.org
SUMMARY:Colombes – Atelier de réparation au local
DESCRIPTION:Un problème mécanique ? Un conseil ? Apprenez à réparer votre vélo vous-même ! \nNos bénévoles experts sont là pour vous aider ! \nChaque jeudi 20h30 – 22h30 27 rue St Vincent au fond de la cour ! \nLe premier jeudi du mois est dédié à notre réunion mensuelle mais l’atelier reste ouvert pour la réparation en autonomie. \nToutes nos activités : https://mdb-idf.org/colombes/
URL:https://mdb-idf.org/evenement/colombes-atelier-de-reparation-au-local-3/2026-05-21/
LOCATION:Atelier Colombes\, 27 rue Saint-Vincent\, Colombes\, 92
CATEGORIES:Atelier de réparation
ATTACH;FMTTYPE=image/jpeg:https://mdb-idf.org/wp-content/uploads/2025/09/Atelier-Local-1.jpg
END:VEVENT
BEGIN:VEVENT
DTSTART;TZID=Europe/Paris:20260523T100000
DTEND;TZID=Europe/Paris:20260523T120000
DTSTAMP:20260422T033954
CREATED:20250922T151847Z
LAST-MODIFIED:20250922T151847Z
UID:10003703-1779530400-1779537600@mdb-idf.org
SUMMARY:Aulnay-sous-Bois - Atelier d'auto-réparation 🔧
DESCRIPTION:
URL:https://mdb-idf.org/evenement/aulnay-sous-bois-atelier-dauto-reparation-%f0%9f%94%a7/2026-05-23/
LOCATION:Parking vélo de la gare d’Aulnay-sous-Bois\, rue du 11 novembre\, Aulnay-sous-Bois\, 93800
CATEGORIES:Atelier de réparation
ATTACH;FMTTYPE=image/png:https://mdb-idf.org/wp-content/uploads/2025/03/Copie-de-Visuels-pour-OpenAgenda.png
ORGANIZER;CN="MDB Aulnay-sous-Bois":MAILTO:aulnay-a-velo@mdb-idf.org
END:VEVENT
BEGIN:VEVENT
DTSTART;TZID=Europe/Paris:20260524T100000
DTEND;TZID=Europe/Paris:20260524T130000
DTSTAMP:20260422T033954
CREATED:20240828T181222Z
LAST-MODIFIED:20250310T191759Z
UID:10001140-1779616800-1779627600@mdb-idf.org
SUMMARY:Colombes - Atelier de réparation au marché du Centre
DESCRIPTION:Un problème mécanique ? Un conseil ? Apprenez à réparer votre vélo vous-même ! \nNos bénévoles experts sont là pour vous aider ! \nMarché du Centre : le 4ème dimanche du mois\, de 10h à 13h \nToutes nos activités : https://mdb-idf.org/colombes/
URL:https://mdb-idf.org/evenement/colombes-atelier-de-reparation-au-marche-centre-2/2026-05-24/
LOCATION:Marché du Centre\, 52 rue du Bournard\, Colombes\, 92700
CATEGORIES:Atelier de réparation
ATTACH;FMTTYPE=image/jpeg:https://mdb-idf.org/wp-content/uploads/2024/07/Marche-Centre.jpg
END:VEVENT
BEGIN:VEVENT
DTSTART;TZID=Europe/Paris:20260528T200000
DTEND;TZID=Europe/Paris:20260528T223000
DTSTAMP:20260422T033954
CREATED:20250905T220855Z
LAST-MODIFIED:20250905T220855Z
UID:10003447-1779998400-1780007400@mdb-idf.org
SUMMARY:Colombes – Atelier de réparation au local
DESCRIPTION:Un problème mécanique ? Un conseil ? Apprenez à réparer votre vélo vous-même ! \nNos bénévoles experts sont là pour vous aider ! \nChaque jeudi 20h30 – 22h30 27 rue St Vincent au fond de la cour ! \nLe premier jeudi du mois est dédié à notre réunion mensuelle mais l’atelier reste ouvert pour la réparation en autonomie. \nToutes nos activités : https://mdb-idf.org/colombes/
URL:https://mdb-idf.org/evenement/colombes-atelier-de-reparation-au-local-3/2026-05-28/
LOCATION:Atelier Colombes\, 27 rue Saint-Vincent\, Colombes\, 92
CATEGORIES:Atelier de réparation
ATTACH;FMTTYPE=image/jpeg:https://mdb-idf.org/wp-content/uploads/2025/09/Atelier-Local-1.jpg
END:VEVENT
BEGIN:VEVENT
DTSTART;TZID=Europe/Paris:20260529T100000
DTEND;TZID=Europe/Paris:20260529T183000
DTSTAMP:20260422T033954
CREATED:20260312T001811Z
LAST-MODIFIED:20260312T001852Z
UID:10005795-1780048800-1780079400@mdb-idf.org
SUMMARY:Parlons Vélo Massy tables rondes
DESCRIPTION:
URL:https://mdb-idf.org/evenement/parlons-velo-massy-tables-rondes/
LOCATION:Centre Culturel Paul B\, Allée de Québec\, Massy\, 91300\, France
CATEGORIES:Ciné-débat
ATTACH;FMTTYPE=image/png:https://mdb-idf.org/wp-content/uploads/2026/02/20260215_ParlonsVeloMassy2026.png
END:VEVENT
BEGIN:VEVENT
DTSTART;TZID=Europe/Paris:20260530T080000
DTEND;TZID=Europe/Paris:20260530T170000
DTSTAMP:20260422T033954
CREATED:20260402T080437Z
LAST-MODIFIED:20260402T080437Z
UID:10005806-1780128000-1780160400@mdb-idf.org
SUMMARY:Bourse aux vélos de Sceaux
DESCRIPTION:La prochaine bourse aux vélos de Sceaux se tient samedi 30 mai 2026. Chaque année\, près d’une centaine de vélos y changent de mains. Toute l’info ici .
URL:https://mdb-idf.org/evenement/bourse-aux-velos-de-sceaux/
LOCATION:Sceaux – Jardin de la ménagerie\, Sceaux\, France
END:VEVENT
BEGIN:VEVENT
DTSTART;TZID=Europe/Paris:20260530T100000
DTEND;TZID=Europe/Paris:20260530T173000
DTSTAMP:20260422T033954
CREATED:20260312T090438Z
LAST-MODIFIED:20260312T090438Z
UID:10005799-1780135200-1780162200@mdb-idf.org
SUMMARY:Clichy - Bourse aux vélos et marquage vélo
DESCRIPTION:10h00 – 12h00 : dépose et contrôle des vélos à vendre \n14h00 – 16h30 : ventes des vélos et marquage \n16h30 – 17h30 : remise des ventes ou restitution des vélos
URL:https://mdb-idf.org/evenement/clichy-bourse-aux-velos-et-marquage-velo/
LOCATION:Ecole Jaurès de Clichy\, Rue Alexandre Antonini\, Clichy\, 92110\, France
CATEGORIES:Bourse aux vélos,Marquage Bicycode
ATTACH;FMTTYPE=image/jpeg:https://mdb-idf.org/wp-content/uploads/2025/02/2025-Bourse-en-16-9--scaled.jpg
END:VEVENT
BEGIN:VEVENT
DTSTART;TZID=Europe/Paris:20260531T100000
DTEND;TZID=Europe/Paris:20260531T123000
DTSTAMP:20260422T033954
CREATED:20260218T090220Z
LAST-MODIFIED:20260218T090220Z
UID:10005761-1780221600-1780230600@mdb-idf.org
SUMMARY:Val de bièvre à vélo : Atelier réparation
DESCRIPTION:à l’Haÿ les Roses\ndimanche 31 mai\, le matin
URL:https://mdb-idf.org/evenement/val-de-bievre-a-velo-atelier-reparation/
END:VEVENT
END:VCALENDAR