BEGIN:VCALENDAR
VERSION:2.0
PRODID:-//Mieux se Déplacer à Bicyclette - ECPv6.15.20//NONSGML v1.0//EN
CALSCALE:GREGORIAN
METHOD:PUBLISH
X-WR-CALNAME:Mieux se Déplacer à Bicyclette
X-ORIGINAL-URL:https://mdb-idf.org
X-WR-CALDESC:Évènements pour Mieux se Déplacer à Bicyclette
REFRESH-INTERVAL;VALUE=DURATION:PT1H
X-Robots-Tag:noindex
X-PUBLISHED-TTL:PT1H
BEGIN:VTIMEZONE
TZID:Europe/Paris
BEGIN:DAYLIGHT
TZOFFSETFROM:+0100
TZOFFSETTO:+0200
TZNAME:CEST
DTSTART:20240331T010000
END:DAYLIGHT
BEGIN:STANDARD
TZOFFSETFROM:+0200
TZOFFSETTO:+0100
TZNAME:CET
DTSTART:20241027T010000
END:STANDARD
BEGIN:DAYLIGHT
TZOFFSETFROM:+0100
TZOFFSETTO:+0200
TZNAME:CEST
DTSTART:20250330T010000
END:DAYLIGHT
BEGIN:STANDARD
TZOFFSETFROM:+0200
TZOFFSETTO:+0100
TZNAME:CET
DTSTART:20251026T010000
END:STANDARD
BEGIN:DAYLIGHT
TZOFFSETFROM:+0100
TZOFFSETTO:+0200
TZNAME:CEST
DTSTART:20260329T010000
END:DAYLIGHT
BEGIN:STANDARD
TZOFFSETFROM:+0200
TZOFFSETTO:+0100
TZNAME:CET
DTSTART:20261025T010000
END:STANDARD
END:VTIMEZONE
BEGIN:VEVENT
DTSTART;TZID=Europe/Paris:20250705T140000
DTEND;TZID=Europe/Paris:20250705T170000
DTSTAMP:20260423T014213
CREATED:20250625T210102Z
LAST-MODIFIED:20250629T115355Z
UID:10002474-1751724000-1751734800@mdb-idf.org
SUMMARY:Asnières - Braderie vélo 🚲
DESCRIPTION:Notre association MDB Asnières organise une braderie vélo.\nTrouvez le vélo qu’il vous faut à bas prix.\n \n📅 Samedi 5 Juillet\n🕔 De 14h à 17h\n🏡 1 Avenue Du Dr Fleming\, 92600 Asnières-sur-seine
URL:https://mdb-idf.org/evenement/asnieres-braderie-velo/
LOCATION:Local MDB Asnières\, 1 avenue du Docteur Fleming\, Asnières-sur-Seine\, 92600\, France
CATEGORIES:Bourse aux vélos
ATTACH;FMTTYPE=image/png:https://mdb-idf.org/wp-content/uploads/2025/06/Braderie-velo-Evenement-1.png
ORGANIZER;CN="MDB Asni%C3%A8res":MAILTO:asnieres@mdb-idf.org
END:VEVENT
BEGIN:VEVENT
DTSTART;TZID=Europe/Paris:20250706T100000
DTEND;TZID=Europe/Paris:20250706T190000
DTSTAMP:20260423T014213
CREATED:20250111T124045Z
LAST-MODIFIED:20250528T091719Z
UID:10001646-1751796000-1751828400@mdb-idf.org
SUMMARY:La Grande Boucle en Musique (Colombes\, La Celle St Cloud\, Saint-Germain-en-Laye)
DESCRIPTION:Les Zuluberlus et Colombes à vélo présentent : La Grande Boucle en Musique le 6 Juillet ! 🎶🚲☀️ \nGratuit et sans inscription ! \n\n10h00 : Départ Le Relax – 10 Rue Gabriel Péri\, 92700 Colombes\n12h00 : 1er concert – La KAB’Mjc – 70bis Avenue des Étangs\, 78170 La Celle St Cloud\n16h00 : 2ème concert – La Clef – 46 Rue de Mareil\, 78100 Saint Germain-en-Laye\n19h00 : Arrivée – Bourse du travail\, 92700 Colombes\n\nVenez équipés de votre plus beau vélo pour un parcours riche d’étapes musicales !
URL:https://mdb-idf.org/evenement/la-grande-boucle-en-musique-colombes-la-celle-st-cloud-saint-germain-en-laye-2025/
LOCATION:Le Relax\, 10 Rue Gabriel Péri\, Colombes\, 92700\, France
CATEGORIES:Balade,Family Fun
ATTACH;FMTTYPE=image/jpeg:https://mdb-idf.org/wp-content/uploads/2025/01/Boucles-en-musique-2025.jpg
END:VEVENT
BEGIN:VEVENT
DTSTART;TZID=Europe/Paris:20250706T130000
DTEND;TZID=Europe/Paris:20250706T163000
DTSTAMP:20260423T014213
CREATED:20250401T153757Z
LAST-MODIFIED:20250629T120019Z
UID:10001818-1751806800-1751819400@mdb-idf.org
SUMMARY:Asnières - Atelier auto-réparation (Rosa Bonheur à l'Ouest)
DESCRIPTION:Atelier d’auto-réparation sur la terrasse du Rosa Bonheur à l’Ouest\, à Asnières. Ouvert de 13h à 16h30.
URL:https://mdb-idf.org/evenement/asnieres-atelier-exterieur-rosa-bonheur-a-louest/2025-07-06/
LOCATION:Rosa Bonheur à l’Ouest\, 20 Quai du Docteur Dervaux\, Asnières-sur-Seine\, 92600\, France
CATEGORIES:Atelier de réparation
ATTACH;FMTTYPE=image/jpeg:https://mdb-idf.org/wp-content/uploads/2025/04/rosa.jpg
ORGANIZER;CN="MDB Asni%C3%A8res":MAILTO:asnieres@mdb-idf.org
END:VEVENT
BEGIN:VEVENT
DTSTART;TZID=Europe/Paris:20250710T200000
DTEND;TZID=Europe/Paris:20250710T223000
DTSTAMP:20260423T014213
CREATED:20250905T220855Z
LAST-MODIFIED:20250905T220855Z
UID:10003411-1752177600-1752186600@mdb-idf.org
SUMMARY:Colombes – Atelier de réparation au local
DESCRIPTION:Un problème mécanique ? Un conseil ? Apprenez à réparer votre vélo vous-même ! \nNos bénévoles experts sont là pour vous aider ! \nChaque jeudi 20h30 – 22h30 27 rue St Vincent au fond de la cour ! \nLe premier jeudi du mois est dédié à notre réunion mensuelle mais l’atelier reste ouvert pour la réparation en autonomie. \nToutes nos activités : https://mdb-idf.org/colombes/
URL:https://mdb-idf.org/evenement/colombes-atelier-de-reparation-au-local-3/2025-07-10/
LOCATION:Atelier Colombes\, 27 rue Saint-Vincent\, Colombes\, 92
CATEGORIES:Atelier de réparation
ATTACH;FMTTYPE=image/jpeg:https://mdb-idf.org/wp-content/uploads/2025/09/Atelier-Local-1.jpg
END:VEVENT
BEGIN:VEVENT
DTSTART;TZID=Europe/Paris:20250712T140000
DTEND;TZID=Europe/Paris:20250712T170000
DTSTAMP:20260423T014213
CREATED:20241124T184523Z
LAST-MODIFIED:20241124T184900Z
UID:10001541-1752328800-1752339600@mdb-idf.org
SUMMARY:Asnières - Atelier d'auto-réparation au local
DESCRIPTION:Vous souhaitez être plus autonome dans les petites réparations de votre vélo et faire des économies ? \nNotre association MDB Asnières vous propose de rejoindre l’atelier d’auto-réparation pour une séance d’apprentissage conviviale où nous vous montrerons comment prendre soin de votre vélo. 🚲 \n✅ Changement de chambres à air\n✅ Gonflage des pneus\n✅ Réglage des freins \n📅 Date : Ouvert tous les samedis\n⏰ Heure : De 14h00 à 17h00\n🏠 Lieu : 1 Avenue du Docteur Fleming 92600 Asnières-sur-Seine
URL:https://mdb-idf.org/evenement/asnieres-atelier-dauto-reparation-au-local/2025-07-12/
LOCATION:Local MDB Asnières\, 1 avenue du Docteur Fleming\, Asnières-sur-Seine\, 92600\, France
CATEGORIES:Atelier de réparation
ATTACH;FMTTYPE=image/jpeg:https://mdb-idf.org/wp-content/uploads/2024/11/autoreparation-local-Asnieres.jpg
ORGANIZER;CN="MDB Asni%C3%A8res":MAILTO:asnieres@mdb-idf.org
END:VEVENT
BEGIN:VEVENT
DTSTART;TZID=Europe/Paris:20250715T100000
DTEND;TZID=Europe/Paris:20250715T120000
DTSTAMP:20260423T014213
CREATED:20250423T091018Z
LAST-MODIFIED:20250423T091018Z
UID:10001845-1752573600-1752580800@mdb-idf.org
SUMMARY:Malakoff - vélo école (COMPLET)
DESCRIPTION:Complet – réservé aux habitant·es de Malakoff
URL:https://mdb-idf.org/evenement/malakoff-velo-ecole-complet/2025-07-15/
LOCATION:Ecole élémentaire Jean Jaurès – Malakoff\, 12 avenue Jules Ferry\, Malakoff\, 92240
CATEGORIES:Vélo-école
ATTACH;FMTTYPE=image/jpeg:https://mdb-idf.org/wp-content/uploads/2024/01/velocole-mdb-1.jpg
END:VEVENT
BEGIN:VEVENT
DTSTART;TZID=Europe/Paris:20250716T100000
DTEND;TZID=Europe/Paris:20250716T120000
DTSTAMP:20260423T014213
CREATED:20250423T091018Z
LAST-MODIFIED:20250423T091018Z
UID:10001846-1752660000-1752667200@mdb-idf.org
SUMMARY:Malakoff - vélo école (COMPLET)
DESCRIPTION:Complet – réservé aux habitant·es de Malakoff
URL:https://mdb-idf.org/evenement/malakoff-velo-ecole-complet/2025-07-16/
LOCATION:Ecole élémentaire Jean Jaurès – Malakoff\, 12 avenue Jules Ferry\, Malakoff\, 92240
CATEGORIES:Vélo-école
ATTACH;FMTTYPE=image/jpeg:https://mdb-idf.org/wp-content/uploads/2024/01/velocole-mdb-1.jpg
END:VEVENT
BEGIN:VEVENT
DTSTART;TZID=Europe/Paris:20250717T100000
DTEND;TZID=Europe/Paris:20250717T120000
DTSTAMP:20260423T014213
CREATED:20250423T091018Z
LAST-MODIFIED:20250423T091018Z
UID:10001847-1752746400-1752753600@mdb-idf.org
SUMMARY:Malakoff - vélo école (COMPLET)
DESCRIPTION:Complet – réservé aux habitant·es de Malakoff
URL:https://mdb-idf.org/evenement/malakoff-velo-ecole-complet/2025-07-17/
LOCATION:Ecole élémentaire Jean Jaurès – Malakoff\, 12 avenue Jules Ferry\, Malakoff\, 92240
CATEGORIES:Vélo-école
ATTACH;FMTTYPE=image/jpeg:https://mdb-idf.org/wp-content/uploads/2024/01/velocole-mdb-1.jpg
END:VEVENT
BEGIN:VEVENT
DTSTART;TZID=Europe/Paris:20250717T200000
DTEND;TZID=Europe/Paris:20250717T223000
DTSTAMP:20260423T014213
CREATED:20250905T220855Z
LAST-MODIFIED:20250905T220855Z
UID:10003412-1752782400-1752791400@mdb-idf.org
SUMMARY:Colombes – Atelier de réparation au local
DESCRIPTION:Un problème mécanique ? Un conseil ? Apprenez à réparer votre vélo vous-même ! \nNos bénévoles experts sont là pour vous aider ! \nChaque jeudi 20h30 – 22h30 27 rue St Vincent au fond de la cour ! \nLe premier jeudi du mois est dédié à notre réunion mensuelle mais l’atelier reste ouvert pour la réparation en autonomie. \nToutes nos activités : https://mdb-idf.org/colombes/
URL:https://mdb-idf.org/evenement/colombes-atelier-de-reparation-au-local-3/2025-07-17/
LOCATION:Atelier Colombes\, 27 rue Saint-Vincent\, Colombes\, 92
CATEGORIES:Atelier de réparation
ATTACH;FMTTYPE=image/jpeg:https://mdb-idf.org/wp-content/uploads/2025/09/Atelier-Local-1.jpg
END:VEVENT
BEGIN:VEVENT
DTSTART;TZID=Europe/Paris:20250718T100000
DTEND;TZID=Europe/Paris:20250718T120000
DTSTAMP:20260423T014213
CREATED:20250423T091018Z
LAST-MODIFIED:20250423T091018Z
UID:10001848-1752832800-1752840000@mdb-idf.org
SUMMARY:Malakoff - vélo école (COMPLET)
DESCRIPTION:Complet – réservé aux habitant·es de Malakoff
URL:https://mdb-idf.org/evenement/malakoff-velo-ecole-complet/2025-07-18/
LOCATION:Ecole élémentaire Jean Jaurès – Malakoff\, 12 avenue Jules Ferry\, Malakoff\, 92240
CATEGORIES:Vélo-école
ATTACH;FMTTYPE=image/jpeg:https://mdb-idf.org/wp-content/uploads/2024/01/velocole-mdb-1.jpg
END:VEVENT
BEGIN:VEVENT
DTSTART;TZID=Europe/Paris:20250719T140000
DTEND;TZID=Europe/Paris:20250719T170000
DTSTAMP:20260423T014213
CREATED:20241124T184523Z
LAST-MODIFIED:20241124T184900Z
UID:10001542-1752933600-1752944400@mdb-idf.org
SUMMARY:Asnières - Atelier d'auto-réparation au local
DESCRIPTION:Vous souhaitez être plus autonome dans les petites réparations de votre vélo et faire des économies ? \nNotre association MDB Asnières vous propose de rejoindre l’atelier d’auto-réparation pour une séance d’apprentissage conviviale où nous vous montrerons comment prendre soin de votre vélo. 🚲 \n✅ Changement de chambres à air\n✅ Gonflage des pneus\n✅ Réglage des freins \n📅 Date : Ouvert tous les samedis\n⏰ Heure : De 14h00 à 17h00\n🏠 Lieu : 1 Avenue du Docteur Fleming 92600 Asnières-sur-Seine
URL:https://mdb-idf.org/evenement/asnieres-atelier-dauto-reparation-au-local/2025-07-19/
LOCATION:Local MDB Asnières\, 1 avenue du Docteur Fleming\, Asnières-sur-Seine\, 92600\, France
CATEGORIES:Atelier de réparation
ATTACH;FMTTYPE=image/jpeg:https://mdb-idf.org/wp-content/uploads/2024/11/autoreparation-local-Asnieres.jpg
ORGANIZER;CN="MDB Asni%C3%A8res":MAILTO:asnieres@mdb-idf.org
END:VEVENT
BEGIN:VEVENT
DTSTART;TZID=Europe/Paris:20250719T140000
DTEND;TZID=Europe/Paris:20250719T170000
DTSTAMP:20260423T014213
CREATED:20250402T142024Z
LAST-MODIFIED:20250402T142024Z
UID:10001825-1752933600-1752944400@mdb-idf.org
SUMMARY:Asnières - Atelier extérieur
DESCRIPTION:Atelier d’auto-réparation en extérieur. Square Pompidou\, avenue du Dr Fleming\, Asnières. De 14h à 17h.
URL:https://mdb-idf.org/evenement/asnieres-atelier-exterieur-5/
LOCATION:Sélectionner un État :
ORGANIZER;CN="MDB Asni%C3%A8res":MAILTO:asnieres@mdb-idf.org
END:VEVENT
BEGIN:VEVENT
DTSTART;TZID=Europe/Paris:20250724T200000
DTEND;TZID=Europe/Paris:20250724T223000
DTSTAMP:20260423T014213
CREATED:20250905T220855Z
LAST-MODIFIED:20250905T220855Z
UID:10003413-1753387200-1753396200@mdb-idf.org
SUMMARY:Colombes – Atelier de réparation au local
DESCRIPTION:Un problème mécanique ? Un conseil ? Apprenez à réparer votre vélo vous-même ! \nNos bénévoles experts sont là pour vous aider ! \nChaque jeudi 20h30 – 22h30 27 rue St Vincent au fond de la cour ! \nLe premier jeudi du mois est dédié à notre réunion mensuelle mais l’atelier reste ouvert pour la réparation en autonomie. \nToutes nos activités : https://mdb-idf.org/colombes/
URL:https://mdb-idf.org/evenement/colombes-atelier-de-reparation-au-local-3/2025-07-24/
LOCATION:Atelier Colombes\, 27 rue Saint-Vincent\, Colombes\, 92
CATEGORIES:Atelier de réparation
ATTACH;FMTTYPE=image/jpeg:https://mdb-idf.org/wp-content/uploads/2025/09/Atelier-Local-1.jpg
END:VEVENT
BEGIN:VEVENT
DTSTART;TZID=Europe/Paris:20250726T140000
DTEND;TZID=Europe/Paris:20250726T170000
DTSTAMP:20260423T014213
CREATED:20241124T184523Z
LAST-MODIFIED:20241124T184900Z
UID:10001543-1753538400-1753549200@mdb-idf.org
SUMMARY:Asnières - Atelier d'auto-réparation au local
DESCRIPTION:Vous souhaitez être plus autonome dans les petites réparations de votre vélo et faire des économies ? \nNotre association MDB Asnières vous propose de rejoindre l’atelier d’auto-réparation pour une séance d’apprentissage conviviale où nous vous montrerons comment prendre soin de votre vélo. 🚲 \n✅ Changement de chambres à air\n✅ Gonflage des pneus\n✅ Réglage des freins \n📅 Date : Ouvert tous les samedis\n⏰ Heure : De 14h00 à 17h00\n🏠 Lieu : 1 Avenue du Docteur Fleming 92600 Asnières-sur-Seine
URL:https://mdb-idf.org/evenement/asnieres-atelier-dauto-reparation-au-local/2025-07-26/
LOCATION:Local MDB Asnières\, 1 avenue du Docteur Fleming\, Asnières-sur-Seine\, 92600\, France
CATEGORIES:Atelier de réparation
ATTACH;FMTTYPE=image/jpeg:https://mdb-idf.org/wp-content/uploads/2024/11/autoreparation-local-Asnieres.jpg
ORGANIZER;CN="MDB Asni%C3%A8res":MAILTO:asnieres@mdb-idf.org
END:VEVENT
BEGIN:VEVENT
DTSTART;TZID=Europe/Paris:20250727T100000
DTEND;TZID=Europe/Paris:20250727T130000
DTSTAMP:20260423T014213
CREATED:20240828T181222Z
LAST-MODIFIED:20250310T191759Z
UID:10001130-1753610400-1753621200@mdb-idf.org
SUMMARY:Colombes - Atelier de réparation au marché du Centre
DESCRIPTION:Un problème mécanique ? Un conseil ? Apprenez à réparer votre vélo vous-même ! \nNos bénévoles experts sont là pour vous aider ! \nMarché du Centre : le 4ème dimanche du mois\, de 10h à 13h \nToutes nos activités : https://mdb-idf.org/colombes/
URL:https://mdb-idf.org/evenement/colombes-atelier-de-reparation-au-marche-centre-2/2025-07-27/
LOCATION:Marché du Centre\, 52 rue du Bournard\, Colombes\, 92700
CATEGORIES:Atelier de réparation
ATTACH;FMTTYPE=image/jpeg:https://mdb-idf.org/wp-content/uploads/2024/07/Marche-Centre.jpg
END:VEVENT
BEGIN:VEVENT
DTSTART;TZID=Europe/Paris:20250731T200000
DTEND;TZID=Europe/Paris:20250731T223000
DTSTAMP:20260423T014213
CREATED:20250905T220855Z
LAST-MODIFIED:20250905T220855Z
UID:10003414-1753992000-1754001000@mdb-idf.org
SUMMARY:Colombes – Atelier de réparation au local
DESCRIPTION:Un problème mécanique ? Un conseil ? Apprenez à réparer votre vélo vous-même ! \nNos bénévoles experts sont là pour vous aider ! \nChaque jeudi 20h30 – 22h30 27 rue St Vincent au fond de la cour ! \nLe premier jeudi du mois est dédié à notre réunion mensuelle mais l’atelier reste ouvert pour la réparation en autonomie. \nToutes nos activités : https://mdb-idf.org/colombes/
URL:https://mdb-idf.org/evenement/colombes-atelier-de-reparation-au-local-3/2025-07-31/
LOCATION:Atelier Colombes\, 27 rue Saint-Vincent\, Colombes\, 92
CATEGORIES:Atelier de réparation
ATTACH;FMTTYPE=image/jpeg:https://mdb-idf.org/wp-content/uploads/2025/09/Atelier-Local-1.jpg
END:VEVENT
BEGIN:VEVENT
DTSTART;TZID=Europe/Paris:20250802T140000
DTEND;TZID=Europe/Paris:20250802T170000
DTSTAMP:20260423T014213
CREATED:20241124T184523Z
LAST-MODIFIED:20241124T184900Z
UID:10001544-1754143200-1754154000@mdb-idf.org
SUMMARY:Asnières - Atelier d'auto-réparation au local
DESCRIPTION:Vous souhaitez être plus autonome dans les petites réparations de votre vélo et faire des économies ? \nNotre association MDB Asnières vous propose de rejoindre l’atelier d’auto-réparation pour une séance d’apprentissage conviviale où nous vous montrerons comment prendre soin de votre vélo. 🚲 \n✅ Changement de chambres à air\n✅ Gonflage des pneus\n✅ Réglage des freins \n📅 Date : Ouvert tous les samedis\n⏰ Heure : De 14h00 à 17h00\n🏠 Lieu : 1 Avenue du Docteur Fleming 92600 Asnières-sur-Seine
URL:https://mdb-idf.org/evenement/asnieres-atelier-dauto-reparation-au-local/2025-08-02/
LOCATION:Local MDB Asnières\, 1 avenue du Docteur Fleming\, Asnières-sur-Seine\, 92600\, France
CATEGORIES:Atelier de réparation
ATTACH;FMTTYPE=image/jpeg:https://mdb-idf.org/wp-content/uploads/2024/11/autoreparation-local-Asnieres.jpg
ORGANIZER;CN="MDB Asni%C3%A8res":MAILTO:asnieres@mdb-idf.org
END:VEVENT
BEGIN:VEVENT
DTSTART;TZID=Europe/Paris:20250803T130000
DTEND;TZID=Europe/Paris:20250803T163000
DTSTAMP:20260423T014213
CREATED:20250401T153757Z
LAST-MODIFIED:20250629T120019Z
UID:10001819-1754226000-1754238600@mdb-idf.org
SUMMARY:Asnières - Atelier auto-réparation (Rosa Bonheur à l'Ouest)
DESCRIPTION:Atelier d’auto-réparation sur la terrasse du Rosa Bonheur à l’Ouest\, à Asnières. Ouvert de 13h à 16h30.
URL:https://mdb-idf.org/evenement/asnieres-atelier-exterieur-rosa-bonheur-a-louest/2025-08-03/
LOCATION:Rosa Bonheur à l’Ouest\, 20 Quai du Docteur Dervaux\, Asnières-sur-Seine\, 92600\, France
CATEGORIES:Atelier de réparation
ATTACH;FMTTYPE=image/jpeg:https://mdb-idf.org/wp-content/uploads/2025/04/rosa.jpg
ORGANIZER;CN="MDB Asni%C3%A8res":MAILTO:asnieres@mdb-idf.org
END:VEVENT
BEGIN:VEVENT
DTSTART;TZID=Europe/Paris:20250809T140000
DTEND;TZID=Europe/Paris:20250809T170000
DTSTAMP:20260423T014213
CREATED:20241124T184523Z
LAST-MODIFIED:20241124T184900Z
UID:10001545-1754748000-1754758800@mdb-idf.org
SUMMARY:Asnières - Atelier d'auto-réparation au local
DESCRIPTION:Vous souhaitez être plus autonome dans les petites réparations de votre vélo et faire des économies ? \nNotre association MDB Asnières vous propose de rejoindre l’atelier d’auto-réparation pour une séance d’apprentissage conviviale où nous vous montrerons comment prendre soin de votre vélo. 🚲 \n✅ Changement de chambres à air\n✅ Gonflage des pneus\n✅ Réglage des freins \n📅 Date : Ouvert tous les samedis\n⏰ Heure : De 14h00 à 17h00\n🏠 Lieu : 1 Avenue du Docteur Fleming 92600 Asnières-sur-Seine
URL:https://mdb-idf.org/evenement/asnieres-atelier-dauto-reparation-au-local/2025-08-09/
LOCATION:Local MDB Asnières\, 1 avenue du Docteur Fleming\, Asnières-sur-Seine\, 92600\, France
CATEGORIES:Atelier de réparation
ATTACH;FMTTYPE=image/jpeg:https://mdb-idf.org/wp-content/uploads/2024/11/autoreparation-local-Asnieres.jpg
ORGANIZER;CN="MDB Asni%C3%A8res":MAILTO:asnieres@mdb-idf.org
END:VEVENT
BEGIN:VEVENT
DTSTART;TZID=Europe/Paris:20250814T200000
DTEND;TZID=Europe/Paris:20250814T223000
DTSTAMP:20260423T014213
CREATED:20250905T220855Z
LAST-MODIFIED:20250905T220855Z
UID:10003415-1755201600-1755210600@mdb-idf.org
SUMMARY:Colombes – Atelier de réparation au local
DESCRIPTION:Un problème mécanique ? Un conseil ? Apprenez à réparer votre vélo vous-même ! \nNos bénévoles experts sont là pour vous aider ! \nChaque jeudi 20h30 – 22h30 27 rue St Vincent au fond de la cour ! \nLe premier jeudi du mois est dédié à notre réunion mensuelle mais l’atelier reste ouvert pour la réparation en autonomie. \nToutes nos activités : https://mdb-idf.org/colombes/
URL:https://mdb-idf.org/evenement/colombes-atelier-de-reparation-au-local-3/2025-08-14/
LOCATION:Atelier Colombes\, 27 rue Saint-Vincent\, Colombes\, 92
CATEGORIES:Atelier de réparation
ATTACH;FMTTYPE=image/jpeg:https://mdb-idf.org/wp-content/uploads/2025/09/Atelier-Local-1.jpg
END:VEVENT
BEGIN:VEVENT
DTSTART;TZID=Europe/Paris:20250816T140000
DTEND;TZID=Europe/Paris:20250816T170000
DTSTAMP:20260423T014213
CREATED:20241124T184523Z
LAST-MODIFIED:20241124T184900Z
UID:10001546-1755352800-1755363600@mdb-idf.org
SUMMARY:Asnières - Atelier d'auto-réparation au local
DESCRIPTION:Vous souhaitez être plus autonome dans les petites réparations de votre vélo et faire des économies ? \nNotre association MDB Asnières vous propose de rejoindre l’atelier d’auto-réparation pour une séance d’apprentissage conviviale où nous vous montrerons comment prendre soin de votre vélo. 🚲 \n✅ Changement de chambres à air\n✅ Gonflage des pneus\n✅ Réglage des freins \n📅 Date : Ouvert tous les samedis\n⏰ Heure : De 14h00 à 17h00\n🏠 Lieu : 1 Avenue du Docteur Fleming 92600 Asnières-sur-Seine
URL:https://mdb-idf.org/evenement/asnieres-atelier-dauto-reparation-au-local/2025-08-16/
LOCATION:Local MDB Asnières\, 1 avenue du Docteur Fleming\, Asnières-sur-Seine\, 92600\, France
CATEGORIES:Atelier de réparation
ATTACH;FMTTYPE=image/jpeg:https://mdb-idf.org/wp-content/uploads/2024/11/autoreparation-local-Asnieres.jpg
ORGANIZER;CN="MDB Asni%C3%A8res":MAILTO:asnieres@mdb-idf.org
END:VEVENT
BEGIN:VEVENT
DTSTART;TZID=Europe/Paris:20250821T200000
DTEND;TZID=Europe/Paris:20250821T223000
DTSTAMP:20260423T014213
CREATED:20250905T220855Z
LAST-MODIFIED:20250905T220855Z
UID:10003416-1755806400-1755815400@mdb-idf.org
SUMMARY:Colombes – Atelier de réparation au local
DESCRIPTION:Un problème mécanique ? Un conseil ? Apprenez à réparer votre vélo vous-même ! \nNos bénévoles experts sont là pour vous aider ! \nChaque jeudi 20h30 – 22h30 27 rue St Vincent au fond de la cour ! \nLe premier jeudi du mois est dédié à notre réunion mensuelle mais l’atelier reste ouvert pour la réparation en autonomie. \nToutes nos activités : https://mdb-idf.org/colombes/
URL:https://mdb-idf.org/evenement/colombes-atelier-de-reparation-au-local-3/2025-08-21/
LOCATION:Atelier Colombes\, 27 rue Saint-Vincent\, Colombes\, 92
CATEGORIES:Atelier de réparation
ATTACH;FMTTYPE=image/jpeg:https://mdb-idf.org/wp-content/uploads/2025/09/Atelier-Local-1.jpg
END:VEVENT
BEGIN:VEVENT
DTSTART;TZID=Europe/Paris:20250823T140000
DTEND;TZID=Europe/Paris:20250823T170000
DTSTAMP:20260423T014213
CREATED:20241124T184523Z
LAST-MODIFIED:20241124T184900Z
UID:10001547-1755957600-1755968400@mdb-idf.org
SUMMARY:Asnières - Atelier d'auto-réparation au local
DESCRIPTION:Vous souhaitez être plus autonome dans les petites réparations de votre vélo et faire des économies ? \nNotre association MDB Asnières vous propose de rejoindre l’atelier d’auto-réparation pour une séance d’apprentissage conviviale où nous vous montrerons comment prendre soin de votre vélo. 🚲 \n✅ Changement de chambres à air\n✅ Gonflage des pneus\n✅ Réglage des freins \n📅 Date : Ouvert tous les samedis\n⏰ Heure : De 14h00 à 17h00\n🏠 Lieu : 1 Avenue du Docteur Fleming 92600 Asnières-sur-Seine
URL:https://mdb-idf.org/evenement/asnieres-atelier-dauto-reparation-au-local/2025-08-23/
LOCATION:Local MDB Asnières\, 1 avenue du Docteur Fleming\, Asnières-sur-Seine\, 92600\, France
CATEGORIES:Atelier de réparation
ATTACH;FMTTYPE=image/jpeg:https://mdb-idf.org/wp-content/uploads/2024/11/autoreparation-local-Asnieres.jpg
ORGANIZER;CN="MDB Asni%C3%A8res":MAILTO:asnieres@mdb-idf.org
END:VEVENT
BEGIN:VEVENT
DTSTART;TZID=Europe/Paris:20250828T200000
DTEND;TZID=Europe/Paris:20250828T223000
DTSTAMP:20260423T014213
CREATED:20250905T220855Z
LAST-MODIFIED:20250905T220855Z
UID:10003417-1756411200-1756420200@mdb-idf.org
SUMMARY:Colombes – Atelier de réparation au local
DESCRIPTION:Un problème mécanique ? Un conseil ? Apprenez à réparer votre vélo vous-même ! \nNos bénévoles experts sont là pour vous aider ! \nChaque jeudi 20h30 – 22h30 27 rue St Vincent au fond de la cour ! \nLe premier jeudi du mois est dédié à notre réunion mensuelle mais l’atelier reste ouvert pour la réparation en autonomie. \nToutes nos activités : https://mdb-idf.org/colombes/
URL:https://mdb-idf.org/evenement/colombes-atelier-de-reparation-au-local-3/2025-08-28/
LOCATION:Atelier Colombes\, 27 rue Saint-Vincent\, Colombes\, 92
CATEGORIES:Atelier de réparation
ATTACH;FMTTYPE=image/jpeg:https://mdb-idf.org/wp-content/uploads/2025/09/Atelier-Local-1.jpg
END:VEVENT
BEGIN:VEVENT
DTSTART;TZID=Europe/Paris:20250830T140000
DTEND;TZID=Europe/Paris:20250830T170000
DTSTAMP:20260423T014213
CREATED:20241124T184523Z
LAST-MODIFIED:20241124T184900Z
UID:10001548-1756562400-1756573200@mdb-idf.org
SUMMARY:Asnières - Atelier d'auto-réparation au local
DESCRIPTION:Vous souhaitez être plus autonome dans les petites réparations de votre vélo et faire des économies ? \nNotre association MDB Asnières vous propose de rejoindre l’atelier d’auto-réparation pour une séance d’apprentissage conviviale où nous vous montrerons comment prendre soin de votre vélo. 🚲 \n✅ Changement de chambres à air\n✅ Gonflage des pneus\n✅ Réglage des freins \n📅 Date : Ouvert tous les samedis\n⏰ Heure : De 14h00 à 17h00\n🏠 Lieu : 1 Avenue du Docteur Fleming 92600 Asnières-sur-Seine
URL:https://mdb-idf.org/evenement/asnieres-atelier-dauto-reparation-au-local/2025-08-30/
LOCATION:Local MDB Asnières\, 1 avenue du Docteur Fleming\, Asnières-sur-Seine\, 92600\, France
CATEGORIES:Atelier de réparation
ATTACH;FMTTYPE=image/jpeg:https://mdb-idf.org/wp-content/uploads/2024/11/autoreparation-local-Asnieres.jpg
ORGANIZER;CN="MDB Asni%C3%A8res":MAILTO:asnieres@mdb-idf.org
END:VEVENT
BEGIN:VEVENT
DTSTART;TZID=Europe/Paris:20250905T083000
DTEND;TZID=Europe/Paris:20250905T090000
DTSTAMP:20260423T014213
CREATED:20250908T084814Z
LAST-MODIFIED:20250908T084814Z
UID:10003633-1757061000-1757062800@mdb-idf.org
SUMMARY:Vélo bus école
DESCRIPTION:
URL:https://mdb-idf.org/evenement/velo-bus-ecole-4/
LOCATION:Sélectionner un État :
END:VEVENT
BEGIN:VEVENT
DTSTART;TZID=Europe/Paris:20250906T090000
DTEND;TZID=Europe/Paris:20250906T170000
DTSTAMP:20260423T014213
CREATED:20250715T195520Z
LAST-MODIFIED:20250715T200142Z
UID:10002584-1757149200-1757178000@mdb-idf.org
SUMMARY:Forum des associations - Ermont
DESCRIPTION:Rendez-vous au forum des associations de la ville d’Ermont ! \nLieu : Complexe sportif Gaston Rébuffat – Allée Jean de Florette \nSi vous souhaitez soutenir le vélo comme moyen de transport de tous les jours\, passez nous voir ! \nL’objectif de l’association est de : \n\npermettre à tou.te.s de faire du vélo\nobtenir des pistes cyclables\napaiser la ville\nfaire des balades à vélo\nanimer une vélo-école pour l’apprentissage du vélo auprès des adultes\nanimer des ateliers de réparation\nanimer des bourses aux vélos\n\nSi vous ne pouvez pas participer à la vie de l’association\, n’hésitez pas à nous soutenir en adhérant.
URL:https://mdb-idf.org/evenement/forum-des-associations-ermont/
LOCATION:Complexe sportif Gaston Rébuffat\, Allée Jean de Florette\, Ermont
CATEGORIES:Forum des associations
END:VEVENT
BEGIN:VEVENT
DTSTART;TZID=Europe/Paris:20250906T090000
DTEND;TZID=Europe/Paris:20250906T170000
DTSTAMP:20260423T014213
CREATED:20250823T125106Z
LAST-MODIFIED:20250823T125106Z
UID:10002589-1757149200-1757178000@mdb-idf.org
SUMMARY:Code de la route au forum des associations
DESCRIPTION:Au forum des associations\, nous proposerons une animation autour du code de la route en lien avec le vélo. Que devons-nous faire quand nous sommes tour à tour piéton\, cycliste ou automobiliste ? Réponse sur notre stand. \nVoir en plein écranAller au contenu PDF\nVoir en plein écranAller au contenu PDF\nVoir en plein écranAller au contenu PDF\n 
URL:https://mdb-idf.org/evenement/code-de-la-route-au-forum-des-associations/
LOCATION:Chatenay Malabry\, gymnase Bérégovoy\, 160 avenue de la Division Leclerc\, Chatenay Malabry\, 92290\, France
ORGANIZER;CN="Un V%C3%A9lo Dans Chatenay":MAILTO:velo-chatenay@mdb-idf.org
END:VEVENT
BEGIN:VEVENT
DTSTART;TZID=Europe/Paris:20250906T090000
DTEND;TZID=Europe/Paris:20250906T180000
DTSTAMP:20260423T014213
CREATED:20250903T125615Z
LAST-MODIFIED:20250903T125615Z
UID:10002660-1757149200-1757181600@mdb-idf.org
SUMMARY:Asnières - Forum des associations
DESCRIPTION:Notre antenne sera présente au forum des associations de la ville d’Asnières-sur-Seine. \n📅 Samedi 6 septembre\n🕔 De 9h à 18h\n🏡 27 rue de la Concorde\, 92600 Asnières-sur-seine \nInformations sur le forum à retrouver ici : https://asnieres-sur-seine.fr/agenda/detail/forum-des-associations-2025 \nhttps://www.instagram.com/mdb_asnieres_92/p/DOERJ3LjF7h/
URL:https://mdb-idf.org/evenement/asnieres-forum-des-associations/
LOCATION:27 rue de la concorde\, 92600 Asnières-sur-Seine\, 27 rue de la Concorde\, Asnières-sur-Seine\, 92600\, France
CATEGORIES:Forum des associations
ORGANIZER;CN="MDB Asni%C3%A8res":MAILTO:asnieres@mdb-idf.org
END:VEVENT
BEGIN:VEVENT
DTSTART;TZID=Europe/Paris:20250906T090000
DTEND;TZID=Europe/Paris:20250906T180000
DTSTAMP:20260423T014213
CREATED:20250905T183447Z
LAST-MODIFIED:20250905T184337Z
UID:10002664-1757149200-1757181600@mdb-idf.org
SUMMARY:Colombes - Forum des Association
DESCRIPTION:Nous serons présents au Forum des Associations 2025 à Colombes ! \nRetrouvez-nous au Forum des Associations\,\n📅samedi 6 septembre 2025\,\n🕔 de 9h à 18h\,\n📍Square Edgar-Quinet Colombes. \nVenez échanger avec nous pour découvrir : \n\nnos ateliers de réparation\, où vous pouvez apprendre à entretenir votre vélo\nnotre vélo-école\, idéale pour apprendre à vous déplacer en toute sécurité\nnos balades\, formats courts ou week-end\, pour explorer la région à vélo\nnos actions pour rendre Colombes plus cyclable et agréable à vivre.\n\nQue vous soyez cycliste confirmé·e ou curieux·se de l’être\, nos bénévoles se feront une joie de vous accueillir !
URL:https://mdb-idf.org/evenement/colombes-a-velo-au-forum-des-association/
LOCATION:Square Edgar Quinet\, Colombes\, 1 Rue Gounod\, Colombes\, Haut de Seine\, 92700\, France
CATEGORIES:Forum des associations
ATTACH;FMTTYPE=image/png:https://mdb-idf.org/wp-content/uploads/2025/09/Affiche-forum-des-associations-Colombes-2025-Copy.png
END:VEVENT
END:VCALENDAR