BEGIN:VCALENDAR
VERSION:2.0
PRODID:-//Mieux se Déplacer à Bicyclette - ECPv6.15.20//NONSGML v1.0//EN
CALSCALE:GREGORIAN
METHOD:PUBLISH
X-ORIGINAL-URL:https://mdb-idf.org
X-WR-CALDESC:Évènements pour Mieux se Déplacer à Bicyclette
REFRESH-INTERVAL;VALUE=DURATION:PT1H
X-Robots-Tag:noindex
X-PUBLISHED-TTL:PT1H
BEGIN:VTIMEZONE
TZID:Europe/Paris
BEGIN:DAYLIGHT
TZOFFSETFROM:+0100
TZOFFSETTO:+0200
TZNAME:CEST
DTSTART:20250330T010000
END:DAYLIGHT
BEGIN:STANDARD
TZOFFSETFROM:+0200
TZOFFSETTO:+0100
TZNAME:CET
DTSTART:20251026T010000
END:STANDARD
BEGIN:DAYLIGHT
TZOFFSETFROM:+0100
TZOFFSETTO:+0200
TZNAME:CEST
DTSTART:20260329T010000
END:DAYLIGHT
BEGIN:STANDARD
TZOFFSETFROM:+0200
TZOFFSETTO:+0100
TZNAME:CET
DTSTART:20261025T010000
END:STANDARD
BEGIN:DAYLIGHT
TZOFFSETFROM:+0100
TZOFFSETTO:+0200
TZNAME:CEST
DTSTART:20270328T010000
END:DAYLIGHT
BEGIN:STANDARD
TZOFFSETFROM:+0200
TZOFFSETTO:+0100
TZNAME:CET
DTSTART:20271031T010000
END:STANDARD
END:VTIMEZONE
BEGIN:VEVENT
DTSTART;TZID=Europe/Paris:20260113T203000
DTEND;TZID=Europe/Paris:20260113T223000
DTSTAMP:20260424T124218
CREATED:20251201T222943Z
LAST-MODIFIED:20251201T222943Z
UID:10005515-1768336200-1768343400@mdb-idf.org
SUMMARY:Réunions mensuelle MDB-Palaiseau à vélo
DESCRIPTION:Venez nous rejoindre à notre réunion mensuelle pour faire avancer le vélo à Palaiseau 😀.\nSi vous ne connaissez personne\, ce n’est pas grave\, n’hésitez pas\, c’est justement l’occasion de nous rencontrer…\nSi vous n’avez pas l’habitude de venir\, faites-nous un petit mail avant\, pour être certain que la réunion n’a pas dû être décalée : palaiseauavelo@mdb-idf.org\nLes réunions ont lieux au tiers lieu l’Ebulition\, 2 avenue de la république à Palaiseau. C’est juste au-dessus de la place de la Victoire. Descendez dans la cour\, entrez dans le bâtiment\, la salle est au 1er étage.
URL:https://mdb-idf.org/evenement/reunions-mensuelle-mdb-palaiseau-a-velo/2026-01-13/
LOCATION:Tiers lieu l’Ebulition (Palaiseau)\, 2 avenue de la république\, Palaiseau\, 91120\, France
CATEGORIES:Réunion d'antenne
ATTACH;FMTTYPE=image/jpeg:https://mdb-idf.org/wp-content/uploads/2025/12/reunion-palaiseau.jpg
END:VEVENT
BEGIN:VEVENT
DTSTART;TZID=Europe/Paris:20260115T120000
DTEND;TZID=Europe/Paris:20260115T130000
DTSTAMP:20260424T124218
CREATED:20260108T225459Z
LAST-MODIFIED:20260109T215029Z
UID:10005704-1768478400-1768482000@mdb-idf.org
SUMMARY:Rassemblement jeudi 15 janvier Accident grave cycliste à Gif Moulon
DESCRIPTION:Accident grave cycliste à Gif Moulon\nRassemblement\njeudi 15 janvier\n à 12h\nPhoto issue du post de Loïc Bertrand \nLundi 1er décembre\, un cycliste a été grièvement blessé à Gif-sur-Yvette\, vers 9h\, sur la voie cyclable à proximité de l’ENS\, alors qu’il se rendait au travail. En cause : la présence d’un engin motorisé sur la voie cyclable non matérialisée à cette intersection. \nCet accident suscite une vive émotion et une profonde colère au sein de la  communauté des cyclistes du plateau de Saclay. Nous nous sentons tous concernés\, car cela aurait pu arriver à chacun d’entre nous. Sur un campus qui se veut exemplaire\, les mobilités actives restent dangereusement négligées\, malgré les alertes répétées des associations. \nNous organisons un rassemblement en soutien à la victime et sa famille mais également pour demander des aménagements réellement sécurisés.\nDate : jeudi 15 janvier à 12h\,\nLieu : Intersection avenue des Sciences et rue Noetzlin Gif-sur-Yvette\,\nArrêt de bus Moulon\nNOUS VOUS Y ATTENDONS NOMBREUX\nDès le 19 décembre\, le Collectif Vélo Plateau Saclay a été reçu par le Directeur Général de l’EPA ParisSaclay. 👉Notre demande : Que l’ensemble des partenaires décisionnaires fasse de la sécurité des cyclistes une priorité concrète\, effective et immédiate. \n					\n									Lisez le plaidoyer remis au DG de l’EPA Paris-Saclay
URL:https://mdb-idf.org/evenement/rassemblement-jeudi-15-janvier-accident-grave-cycliste-a-gif-moulon/
LOCATION:Intersection avenue des Sciences et rue Noetzlin Gif/Yvette\, Intersection avenue des Sciences et rue Noetzlin Gif/Yvette\, Gif-sur-Yvette\, France
CATEGORIES:Manifestation
ATTACH;FMTTYPE=image/jpeg:https://mdb-idf.org/wp-content/uploads/2026/01/Publi-INSTA.jpg
END:VEVENT
BEGIN:VEVENT
DTSTART;TZID=Europe/Paris:20260115T190000
DTEND;TZID=Europe/Paris:20260115T210000
DTSTAMP:20260424T124219
CREATED:20251208T114824Z
LAST-MODIFIED:20251208T114824Z
UID:10005574-1768503600-1768510800@mdb-idf.org
SUMMARY:Réunion antenne Chelles
DESCRIPTION:RDV aux Ciboulettes pour parler vélo
URL:https://mdb-idf.org/evenement/reunion-antenne-chelles-6/
LOCATION:Les Ciboulettes\, Gare de Chelles-Gournay\, Chelles\, France\, 77500\, France
CATEGORIES:Réunion d'antenne
ATTACH;FMTTYPE=image/png:https://mdb-idf.org/wp-content/uploads/2024/02/logo_Chelles-fond-transparent.png
END:VEVENT
BEGIN:VEVENT
DTSTART;TZID=Europe/Paris:20260115T200000
DTEND;TZID=Europe/Paris:20260115T223000
DTSTAMP:20260424T124219
CREATED:20250905T220855Z
LAST-MODIFIED:20250905T220855Z
UID:10003432-1768507200-1768516200@mdb-idf.org
SUMMARY:Colombes – Atelier de réparation au local
DESCRIPTION:Un problème mécanique ? Un conseil ? Apprenez à réparer votre vélo vous-même ! \nNos bénévoles experts sont là pour vous aider ! \nChaque jeudi 20h30 – 22h30 27 rue St Vincent au fond de la cour ! \nLe premier jeudi du mois est dédié à notre réunion mensuelle mais l’atelier reste ouvert pour la réparation en autonomie. \nToutes nos activités : https://mdb-idf.org/colombes/
URL:https://mdb-idf.org/evenement/colombes-atelier-de-reparation-au-local-3/2026-01-15/
LOCATION:Atelier Colombes\, 27 rue Saint-Vincent\, Colombes\, 92
CATEGORIES:Atelier de réparation
ATTACH;FMTTYPE=image/jpeg:https://mdb-idf.org/wp-content/uploads/2025/09/Atelier-Local-1.jpg
END:VEVENT
BEGIN:VEVENT
DTSTART;TZID=Europe/Paris:20260117T110000
DTEND;TZID=Europe/Paris:20260117T120000
DTSTAMP:20260424T124219
CREATED:20260110T131910Z
LAST-MODIFIED:20260110T131910Z
UID:10005705-1768647600-1768651200@mdb-idf.org
SUMMARY:Inauguration de l’aménagement cyclable du rond-point Linda De Suza à Champigny
DESCRIPTION:Tous les détails dans cet article
URL:https://mdb-idf.org/evenement/inauguration-de-lamenagement-cyclable-du-rond-point-linda-de-suza-a-champigny/
LOCATION:rond point linda de Suza \, Champigny sur marne\, rond point Linda de Suza\, Champigny sur Marne\, 94500\, France
CATEGORIES:Balade,inauguration aménagement cyclable,Visite
END:VEVENT
BEGIN:VEVENT
DTSTART;TZID=Europe/Paris:20260117T143000
DTEND;TZID=Europe/Paris:20260117T170000
DTSTAMP:20260424T124219
CREATED:20250919T150737Z
LAST-MODIFIED:20250919T151649Z
UID:10003664-1768660200-1768669200@mdb-idf.org
SUMMARY:Viroflay - Balade hivernale
DESCRIPTION:Balade au départ de Viroflay\, sous réserve de météo favorable. Le parcours est encore à déterminer.
URL:https://mdb-idf.org/evenement/viroflay-balade-janvier-2026/
CATEGORIES:Balade
ORGANIZER;CN="V%C3%A9loflay":MAILTO:viroflay@mdb-idf.org
END:VEVENT
BEGIN:VEVENT
DTSTART;TZID=Europe/Paris:20260117T163000
DTEND;TZID=Europe/Paris:20260117T183000
DTSTAMP:20260424T124219
CREATED:20260106T190600Z
LAST-MODIFIED:20260110T085533Z
UID:10005700-1768667400-1768674600@mdb-idf.org
SUMMARY:Assemblée Galette 2026 - Colombes à vélo
DESCRIPTION:Nous nous retrouvons pour la traditionnelle galette samedi 17 janvier à la vélo-école. \nRéfectoire de l’école Tour d’Auvergne \n71 rue Robert Schumann \nde 16h30 à 18h30 \nPour la bonne préparation merci de confirmer votre participation : \nInscriptions
URL:https://mdb-idf.org/evenement/assemblee-galette-2026-colombes-a-velo/
LOCATION:Velo Ecole de Colombes\, 71 Rue Robert Schumann\, Colombes\, 92700\, France
END:VEVENT
BEGIN:VEVENT
DTSTART;TZID=Europe/Paris:20260118T100000
DTEND;TZID=Europe/Paris:20260118T120000
DTSTAMP:20260424T124219
CREATED:20260107T212351Z
LAST-MODIFIED:20260107T212351Z
UID:10005701-1768730400-1768737600@mdb-idf.org
SUMMARY:Balade de janvier - Découverte de la piste de la rue de la Chapelle - Noisy-le-Grand
DESCRIPTION:
URL:https://mdb-idf.org/evenement/balade-de-janvier-decouverte-de-la-piste-de-la-rue-de-la-chapelle-noisy-le-grand/
LOCATION:Mairie de Noisy-le-Grand\, place de la Libération\, Noisy le Grand\, 93160\, France
CATEGORIES:Balade
ATTACH;FMTTYPE=image/jpeg:https://mdb-idf.org/wp-content/uploads/2026/01/Affiche_2026_01_18_V02-scaled.jpg
END:VEVENT
END:VCALENDAR