BEGIN:VCALENDAR
VERSION:2.0
PRODID:-//Mieux se Déplacer à Bicyclette - ECPv6.15.20//NONSGML v1.0//EN
CALSCALE:GREGORIAN
METHOD:PUBLISH
X-WR-CALNAME:Mieux se Déplacer à Bicyclette
X-ORIGINAL-URL:https://mdb-idf.org
X-WR-CALDESC:Évènements pour Mieux se Déplacer à Bicyclette
REFRESH-INTERVAL;VALUE=DURATION:PT1H
X-Robots-Tag:noindex
X-PUBLISHED-TTL:PT1H
BEGIN:VTIMEZONE
TZID:Europe/Paris
BEGIN:DAYLIGHT
TZOFFSETFROM:+0100
TZOFFSETTO:+0200
TZNAME:CEST
DTSTART:20250330T010000
END:DAYLIGHT
BEGIN:STANDARD
TZOFFSETFROM:+0200
TZOFFSETTO:+0100
TZNAME:CET
DTSTART:20251026T010000
END:STANDARD
BEGIN:DAYLIGHT
TZOFFSETFROM:+0100
TZOFFSETTO:+0200
TZNAME:CEST
DTSTART:20260329T010000
END:DAYLIGHT
BEGIN:STANDARD
TZOFFSETFROM:+0200
TZOFFSETTO:+0100
TZNAME:CET
DTSTART:20261025T010000
END:STANDARD
BEGIN:DAYLIGHT
TZOFFSETFROM:+0100
TZOFFSETTO:+0200
TZNAME:CEST
DTSTART:20270328T010000
END:DAYLIGHT
BEGIN:STANDARD
TZOFFSETFROM:+0200
TZOFFSETTO:+0100
TZNAME:CET
DTSTART:20271031T010000
END:STANDARD
END:VTIMEZONE
BEGIN:VEVENT
DTSTART;VALUE=DATE:20260404
DTEND;VALUE=DATE:20260426
DTSTAMP:20260422T180138
CREATED:20260313T095505Z
LAST-MODIFIED:20260313T095505Z
UID:10005800-1775260800-1777161599@mdb-idf.org
SUMMARY:Vélo-école de Sceaux
DESCRIPTION:La vélo-école de Sceaux est ouverte à tous les adultes qui souhaitent apprendre à faire du vélo ou qui désirent « se remettre en selle ». Prochaines séances les samedis 4\, 11\, 18 et 25 avril 2026. \nRenseignement et inscription à l’accueil du Centre social et culturel des Blagis (CSCB) ou par mail – sceauxavelo@mdb-idf.org – en précisant les jours souhaités pour suivre la formation. \nProchaines séances\, de 14h30 à 16h30; les samedis 4\, 11\, 18 et 25 avril 2026 et 2 séances en juin 2026. \nAvec des formateurs bénévoles de l’association Sceaux a vélo\, des sessions d’apprentissage du vélo se tiennent à l’école des Blagis de Sceaux.
URL:https://mdb-idf.org/evenement/velo-ecole-de-sceaux/
LOCATION:Les Blagis à Sceaux\, 2 rue du docteur Roux\, Sceaux\, 92330\, France
END:VEVENT
BEGIN:VEVENT
DTSTART;TZID=Europe/Paris:20260413T190000
DTEND;TZID=Europe/Paris:20260413T210000
DTSTAMP:20260422T180138
CREATED:20260208T195857Z
LAST-MODIFIED:20260208T195857Z
UID:10005743-1776106800-1776114000@mdb-idf.org
SUMMARY:MDB Val Maubuée – Réunion d’antenne
DESCRIPTION:Réunion mensuelle de l’antenne MDB Val Maubuée. 🚲\nÉchangeons sur les actualités vélo et mobilités dans nos communes\,  les évènements et balades à organiser et bien d’autres choses.
URL:https://mdb-idf.org/evenement/mdb-val-maubuee-reunion-dantenne-avril-26/
LOCATION:Espace Malvoisine\, salle Atelier\, 1 bis\, rue Mithridate\, Lognes\, 77185\, France
CATEGORIES:Réunion d'antenne
ORGANIZER;CN="MDB Val Maubu%C3%A9e":MAILTO:val-maubuee@mdb-idf.org
END:VEVENT
BEGIN:VEVENT
DTSTART;TZID=Europe/Paris:20260414T203000
DTEND;TZID=Europe/Paris:20260414T223000
DTSTAMP:20260422T180138
CREATED:20251201T222943Z
LAST-MODIFIED:20251201T222943Z
UID:10005518-1776198600-1776205800@mdb-idf.org
SUMMARY:Réunions mensuelle MDB-Palaiseau à vélo
DESCRIPTION:Venez nous rejoindre à notre réunion mensuelle pour faire avancer le vélo à Palaiseau 😀.\nSi vous ne connaissez personne\, ce n’est pas grave\, n’hésitez pas\, c’est justement l’occasion de nous rencontrer…\nSi vous n’avez pas l’habitude de venir\, faites-nous un petit mail avant\, pour être certain que la réunion n’a pas dû être décalée : palaiseauavelo@mdb-idf.org\nLes réunions ont lieux au tiers lieu l’Ebulition\, 2 avenue de la république à Palaiseau. C’est juste au-dessus de la place de la Victoire. Descendez dans la cour\, entrez dans le bâtiment\, la salle est au 1er étage.
URL:https://mdb-idf.org/evenement/reunions-mensuelle-mdb-palaiseau-a-velo/2026-04-14/
LOCATION:Tiers lieu l’Ebulition (Palaiseau)\, 2 avenue de la république\, Palaiseau\, 91120\, France
CATEGORIES:Réunion d'antenne
ATTACH;FMTTYPE=image/jpeg:https://mdb-idf.org/wp-content/uploads/2025/12/reunion-palaiseau.jpg
END:VEVENT
BEGIN:VEVENT
DTSTART;TZID=Europe/Paris:20260414T203000
DTEND;TZID=Europe/Paris:20260414T230000
DTSTAMP:20260422T180138
CREATED:20260209T211607Z
LAST-MODIFIED:20260209T211607Z
UID:10005747-1776198600-1776207600@mdb-idf.org
SUMMARY:Réunion d'antenne d'Avril (Palaiseau)
DESCRIPTION:Venez nous rejoindre à notre réunion mensuelle pour faire avancer le vélo à Palaiseau 😀.\nSi vous ne connaissez personne\, ce n’est pas grave\, n’hésitez pas\, c’est justement l’occasion de nous rencontrer…\nSi vous n’avez pas l’habitude de venir\, faites-nous un petit mail avant\, pour être certain que la réunion n’a pas dû être décalée : palaiseauavelo@mdb-idf.org\nLes réunions ont lieux au tiers lieu l’Ebulition\, 2 avenue de la république à Palaiseau. C’est juste au-dessus de la place de la Victoire. Descendez dans la cour\, entrez dans le bâtiment\, la salle est au 1er étage.
URL:https://mdb-idf.org/evenement/reunion-dantenne-davril-palaiseau/
LOCATION:Tiers lieu l’Ebulition (Palaiseau)\, 2 avenue de la république\, Palaiseau\, 91120\, France
CATEGORIES:Réunion d'antenne
ATTACH;FMTTYPE=image/jpeg:https://mdb-idf.org/wp-content/uploads/2026/02/avril.jpg
END:VEVENT
BEGIN:VEVENT
DTSTART;TZID=Europe/Paris:20260416T200000
DTEND;TZID=Europe/Paris:20260416T223000
DTSTAMP:20260422T180138
CREATED:20250905T220855Z
LAST-MODIFIED:20250905T220855Z
UID:10003442-1776369600-1776378600@mdb-idf.org
SUMMARY:Colombes – Atelier de réparation au local
DESCRIPTION:Un problème mécanique ? Un conseil ? Apprenez à réparer votre vélo vous-même ! \nNos bénévoles experts sont là pour vous aider ! \nChaque jeudi 20h30 – 22h30 27 rue St Vincent au fond de la cour ! \nLe premier jeudi du mois est dédié à notre réunion mensuelle mais l’atelier reste ouvert pour la réparation en autonomie. \nToutes nos activités : https://mdb-idf.org/colombes/
URL:https://mdb-idf.org/evenement/colombes-atelier-de-reparation-au-local-3/2026-04-16/
LOCATION:Atelier Colombes\, 27 rue Saint-Vincent\, Colombes\, 92
CATEGORIES:Atelier de réparation
ATTACH;FMTTYPE=image/jpeg:https://mdb-idf.org/wp-content/uploads/2025/09/Atelier-Local-1.jpg
END:VEVENT
BEGIN:VEVENT
DTSTART;TZID=Europe/Paris:20260418T100000
DTEND;TZID=Europe/Paris:20260418T120000
DTSTAMP:20260422T180138
CREATED:20250922T151847Z
LAST-MODIFIED:20250922T151847Z
UID:10003702-1776506400-1776513600@mdb-idf.org
SUMMARY:Aulnay-sous-Bois - Atelier d'auto-réparation 🔧
DESCRIPTION:
URL:https://mdb-idf.org/evenement/aulnay-sous-bois-atelier-dauto-reparation-%f0%9f%94%a7/2026-04-18/
LOCATION:Parking vélo de la gare d’Aulnay-sous-Bois\, rue du 11 novembre\, Aulnay-sous-Bois\, 93800
CATEGORIES:Atelier de réparation
ATTACH;FMTTYPE=image/png:https://mdb-idf.org/wp-content/uploads/2025/03/Copie-de-Visuels-pour-OpenAgenda.png
ORGANIZER;CN="MDB Aulnay-sous-Bois":MAILTO:aulnay-a-velo@mdb-idf.org
END:VEVENT
BEGIN:VEVENT
DTSTART;TZID=Europe/Paris:20260418T140000
DTEND;TZID=Europe/Paris:20260418T170000
DTSTAMP:20260422T180138
CREATED:20260225T104509Z
LAST-MODIFIED:20260225T104509Z
UID:10005775-1776520800-1776531600@mdb-idf.org
SUMMARY:Asnières - Atelier extérieur
DESCRIPTION:Atelier d’auto-réparation en extérieur. 50/20 rue Henri Poincaré\, Asnières. De 14h à 17h.
URL:https://mdb-idf.org/evenement/asnieres-atelier-exterieur-10/
ORGANIZER;CN="MDB Asni%C3%A8res":MAILTO:asnieres@mdb-idf.org
END:VEVENT
BEGIN:VEVENT
DTSTART;TZID=Europe/Paris:20260419T091500
DTEND;TZID=Europe/Paris:20260419T150000
DTSTAMP:20260422T180138
CREATED:20260407T181805Z
LAST-MODIFIED:20260407T181805Z
UID:10005812-1776590100-1776610800@mdb-idf.org
SUMMARY:Nogent Le Perreux : Sortie Dynamique Avril
DESCRIPTION:Sortie royale \nPour cette 2eme sortie de l’année\, nous sommes gâtés : 1 fleuve\, 2 parcs royaux et 3 forets\nRendez-vous le 19 avril à 09h15 sur l’avenue Foch\, côté impair \nLe parcours est une boucle\, de 60 km\, et les plus motivés pourront rentrer en vélo jusqu’à Nogent\, pour rajouter 20 km supplémentaires \nPensez à prendre votre pass Navigo ou un ticket\, pour le départ (et le retour ci besoin)\n——————————\nLa trace est disponible sur Komoot:\nhttps://www.komoot.com/fr-fr/tour/2684666723?share_token=altnnknlk6fqgu53VOpUe00gzUj7QMjNN4I5FPx3b3wdCSAnZS&ref=wtd \n60 ou 82 km\nD+ : 600m\n20% de chemin\n—————————–\nObligatoire\nCasque\nOutils de réparation (chambre à air incluse)\nLumières avant et arrières\nVélo en bonne état (ne pas hésiter à passer au chalet pour une vérification la veille ou chez ton vélociste préféré)\nPas de mineur non accompagné par un adulte
URL:https://mdb-idf.org/evenement/nogent-le-perreux-sortie-dynamique-avril/
LOCATION:1 avenue Foch\, Paris\, 1 avenue foch\, paris\, 75016\, France
CATEGORIES:Sortie dynamique
ORGANIZER;CN="Nogent Le Perreux":MAILTO:nogentleperreux@mdb-idf.org
END:VEVENT
BEGIN:VEVENT
DTSTART;TZID=Europe/Paris:20260419T140000
DTEND;TZID=Europe/Paris:20260419T170000
DTSTAMP:20260422T180138
CREATED:20260324T174456Z
LAST-MODIFIED:20260324T174456Z
UID:10005802-1776607200-1776618000@mdb-idf.org
SUMMARY:Balade Bessancourt - Nesles-la-Vallée - L'isle-Adam
DESCRIPTION:Balade au départ de la gare de Bessancourt\, direction Nesles-la-Vallée en passant par Méry\, Butry\, Valmondois. 24km sur route\, voies cyclables\, chemins. Très peu de dénivelé. Assez facile. \nUn rdv à la gare de Ermont Halte peut être organisé pour le train de 13h48 (ou 13h46 à la gare d’Ermont Eaubonne). Pour celles et ceux qui souhaitent aller à la gare de Bessancourt en vélo\, rdv 14h. \nLe point d’arrivée est L’isle-Adam. Le retour est prévu par le train. Celles ou ceux qui le souhaitent peuvent rentrer en vélo. \nAttention\, sortie susceptible d’être annulée ou reportée en fonction de la météo.
URL:https://mdb-idf.org/evenement/balade-bessancourt-nesles-la-vallee-lisle-adam/
LOCATION:Gare de Bessancourt
CATEGORIES:Balade
END:VEVENT
END:VCALENDAR