BEGIN:VCALENDAR
VERSION:2.0
PRODID:-//Mieux se Déplacer à Bicyclette - ECPv6.15.20//NONSGML v1.0//EN
CALSCALE:GREGORIAN
METHOD:PUBLISH
X-WR-CALNAME:Mieux se Déplacer à Bicyclette
X-ORIGINAL-URL:https://mdb-idf.org
X-WR-CALDESC:Évènements pour Mieux se Déplacer à Bicyclette
REFRESH-INTERVAL;VALUE=DURATION:PT1H
X-Robots-Tag:noindex
X-PUBLISHED-TTL:PT1H
BEGIN:VTIMEZONE
TZID:Europe/Paris
BEGIN:DAYLIGHT
TZOFFSETFROM:+0100
TZOFFSETTO:+0200
TZNAME:CEST
DTSTART:20250330T010000
END:DAYLIGHT
BEGIN:STANDARD
TZOFFSETFROM:+0200
TZOFFSETTO:+0100
TZNAME:CET
DTSTART:20251026T010000
END:STANDARD
BEGIN:DAYLIGHT
TZOFFSETFROM:+0100
TZOFFSETTO:+0200
TZNAME:CEST
DTSTART:20260329T010000
END:DAYLIGHT
BEGIN:STANDARD
TZOFFSETFROM:+0200
TZOFFSETTO:+0100
TZNAME:CET
DTSTART:20261025T010000
END:STANDARD
BEGIN:DAYLIGHT
TZOFFSETFROM:+0100
TZOFFSETTO:+0200
TZNAME:CEST
DTSTART:20270328T010000
END:DAYLIGHT
BEGIN:STANDARD
TZOFFSETFROM:+0200
TZOFFSETTO:+0100
TZNAME:CET
DTSTART:20271031T010000
END:STANDARD
END:VTIMEZONE
BEGIN:VEVENT
DTSTART;TZID=Europe/Paris:20260609T203000
DTEND;TZID=Europe/Paris:20260609T223000
DTSTAMP:20260422T210501
CREATED:20251201T222943Z
LAST-MODIFIED:20251201T222943Z
UID:10005520-1781037000-1781044200@mdb-idf.org
SUMMARY:Réunions mensuelle MDB-Palaiseau à vélo
DESCRIPTION:Venez nous rejoindre à notre réunion mensuelle pour faire avancer le vélo à Palaiseau 😀.\nSi vous ne connaissez personne\, ce n’est pas grave\, n’hésitez pas\, c’est justement l’occasion de nous rencontrer…\nSi vous n’avez pas l’habitude de venir\, faites-nous un petit mail avant\, pour être certain que la réunion n’a pas dû être décalée : palaiseauavelo@mdb-idf.org\nLes réunions ont lieux au tiers lieu l’Ebulition\, 2 avenue de la république à Palaiseau. C’est juste au-dessus de la place de la Victoire. Descendez dans la cour\, entrez dans le bâtiment\, la salle est au 1er étage.
URL:https://mdb-idf.org/evenement/reunions-mensuelle-mdb-palaiseau-a-velo/2026-06-09/
LOCATION:Tiers lieu l’Ebulition (Palaiseau)\, 2 avenue de la république\, Palaiseau\, 91120\, France
CATEGORIES:Réunion d'antenne
ATTACH;FMTTYPE=image/jpeg:https://mdb-idf.org/wp-content/uploads/2025/12/reunion-palaiseau.jpg
END:VEVENT
BEGIN:VEVENT
DTSTART;TZID=Europe/Paris:20260611T200000
DTEND;TZID=Europe/Paris:20260611T223000
DTSTAMP:20260422T210501
CREATED:20250905T220855Z
LAST-MODIFIED:20250905T220855Z
UID:10003448-1781208000-1781217000@mdb-idf.org
SUMMARY:Colombes – Atelier de réparation au local
DESCRIPTION:Un problème mécanique ? Un conseil ? Apprenez à réparer votre vélo vous-même ! \nNos bénévoles experts sont là pour vous aider ! \nChaque jeudi 20h30 – 22h30 27 rue St Vincent au fond de la cour ! \nLe premier jeudi du mois est dédié à notre réunion mensuelle mais l’atelier reste ouvert pour la réparation en autonomie. \nToutes nos activités : https://mdb-idf.org/colombes/
URL:https://mdb-idf.org/evenement/colombes-atelier-de-reparation-au-local-3/2026-06-11/
LOCATION:Atelier Colombes\, 27 rue Saint-Vincent\, Colombes\, 92
CATEGORIES:Atelier de réparation
ATTACH;FMTTYPE=image/jpeg:https://mdb-idf.org/wp-content/uploads/2025/09/Atelier-Local-1.jpg
END:VEVENT
BEGIN:VEVENT
DTSTART;TZID=Europe/Paris:20260613T100000
DTEND;TZID=Europe/Paris:20260613T130000
DTSTAMP:20260422T210501
CREATED:20250922T185411Z
LAST-MODIFIED:20250922T185411Z
UID:10003714-1781344800-1781355600@mdb-idf.org
SUMMARY:Colombes – Atelier de réparation au marché Marceau
DESCRIPTION:Un problème mécanique ? Un conseil ? Apprenez à réparer votre vélo vous-même ! \nNos bénévoles experts sont là pour vous aider ! \nMarché Marceau : le 2ème samedi du mois\, de 10h à 13h \nToutes nos activités : https://mdb-idf.org/colombes/
URL:https://mdb-idf.org/evenement/colombes-atelier-de-reparation-au-marche-marceau/2026-06-13/
LOCATION:Marché Marceau\, 72 boulevard Marceau\, Colombes\, 92700
ATTACH;FMTTYPE=image/jpeg:https://mdb-idf.org/wp-content/uploads/2024/07/Marche-Marceau.jpg
END:VEVENT
BEGIN:VEVENT
DTSTART;TZID=Europe/Paris:20260613T100000
DTEND;TZID=Europe/Paris:20260613T170000
DTSTAMP:20260422T210501
CREATED:20260202T152030Z
LAST-MODIFIED:20260202T152030Z
UID:10005740-1781344800-1781370000@mdb-idf.org
SUMMARY:Bourse aux vélos d'Asnières - 2026
DESCRIPTION:Rendez-vous le samedi 13 juin 2026 ! 🌟\nMettez en vente ou achetez votre vélo lors de notre Bourse aux vélos\, organisée en collaboration avec la ville d’Asnières. \n📅 Date : Samedi 13 Juin\n🕔 De 10h à 12h : dépôt des vélos à vendre\n🕔 De 14h à 17h : vente\n🏡 Lieu : Ecole Primaire Fontaine\, 4 Rue Hector Gonsalphe Fontaine à Asnières-sur-Seine\n💶 Règlement : en espèces uniquement.
URL:https://mdb-idf.org/evenement/bourse-aux-velos-dasnieres-2026/
LOCATION:Asnières Ecole Primaire Fontaine\, 4 Rue Hector Gonsalphe Fontaine\, Asnières-sur-Seine\, 92600\, France
ORGANIZER;CN="MDB Asni%C3%A8res":MAILTO:asnieres@mdb-idf.org
END:VEVENT
BEGIN:VEVENT
DTSTART;TZID=Europe/Paris:20260614T120000
DTEND;TZID=Europe/Paris:20260614T200000
DTSTAMP:20260422T210501
CREATED:20260420T192052Z
LAST-MODIFIED:20260420T192052Z
UID:10005815-1781438400-1781467200@mdb-idf.org
SUMMARY:Stand MDB à la Guinche Fest' 2026
DESCRIPTION:Nous serons présents à la Guinche Fest’ sur les bords de Marne à Chelles\, à proximité de la passerelle du Moulin. \nVenez discuter vélo à notre stand !
URL:https://mdb-idf.org/evenement/stand-mdb-a-la-guinche-fest-2026/
CATEGORIES:Apéro
ATTACH;FMTTYPE=image/png:https://mdb-idf.org/wp-content/uploads/2024/02/logo_Chelles-fond-transparent.png
ORGANIZER;CN="MDB Chelles":MAILTO:chelles@mdb-idf.org
END:VEVENT
END:VCALENDAR