BEGIN:VCALENDAR
VERSION:2.0
PRODID:-//Mieux se Déplacer à Bicyclette - ECPv6.15.20//NONSGML v1.0//EN
CALSCALE:GREGORIAN
METHOD:PUBLISH
X-WR-CALNAME:Mieux se Déplacer à Bicyclette
X-ORIGINAL-URL:https://mdb-idf.org
X-WR-CALDESC:Évènements pour Mieux se Déplacer à Bicyclette
REFRESH-INTERVAL;VALUE=DURATION:PT1H
X-Robots-Tag:noindex
X-PUBLISHED-TTL:PT1H
BEGIN:VTIMEZONE
TZID:Europe/Paris
BEGIN:DAYLIGHT
TZOFFSETFROM:+0100
TZOFFSETTO:+0200
TZNAME:CEST
DTSTART:20250330T010000
END:DAYLIGHT
BEGIN:STANDARD
TZOFFSETFROM:+0200
TZOFFSETTO:+0100
TZNAME:CET
DTSTART:20251026T010000
END:STANDARD
BEGIN:DAYLIGHT
TZOFFSETFROM:+0100
TZOFFSETTO:+0200
TZNAME:CEST
DTSTART:20260329T010000
END:DAYLIGHT
BEGIN:STANDARD
TZOFFSETFROM:+0200
TZOFFSETTO:+0100
TZNAME:CET
DTSTART:20261025T010000
END:STANDARD
BEGIN:DAYLIGHT
TZOFFSETFROM:+0100
TZOFFSETTO:+0200
TZNAME:CEST
DTSTART:20270328T010000
END:DAYLIGHT
BEGIN:STANDARD
TZOFFSETFROM:+0200
TZOFFSETTO:+0100
TZNAME:CET
DTSTART:20271031T010000
END:STANDARD
END:VTIMEZONE
BEGIN:VEVENT
DTSTART;TZID=Europe/Paris:20260618T200000
DTEND;TZID=Europe/Paris:20260618T223000
DTSTAMP:20260423T032703
CREATED:20250905T220855Z
LAST-MODIFIED:20250905T220855Z
UID:10003449-1781812800-1781821800@mdb-idf.org
SUMMARY:Colombes – Atelier de réparation au local
DESCRIPTION:Un problème mécanique ? Un conseil ? Apprenez à réparer votre vélo vous-même ! \nNos bénévoles experts sont là pour vous aider ! \nChaque jeudi 20h30 – 22h30 27 rue St Vincent au fond de la cour ! \nLe premier jeudi du mois est dédié à notre réunion mensuelle mais l’atelier reste ouvert pour la réparation en autonomie. \nToutes nos activités : https://mdb-idf.org/colombes/
URL:https://mdb-idf.org/evenement/colombes-atelier-de-reparation-au-local-3/2026-06-18/
LOCATION:Atelier Colombes\, 27 rue Saint-Vincent\, Colombes\, 92
CATEGORIES:Atelier de réparation
ATTACH;FMTTYPE=image/jpeg:https://mdb-idf.org/wp-content/uploads/2025/09/Atelier-Local-1.jpg
END:VEVENT
BEGIN:VEVENT
DTSTART;TZID=Europe/Paris:20260620T100000
DTEND;TZID=Europe/Paris:20260620T120000
DTSTAMP:20260423T032703
CREATED:20250922T151847Z
LAST-MODIFIED:20250922T151847Z
UID:10003704-1781949600-1781956800@mdb-idf.org
SUMMARY:Aulnay-sous-Bois - Atelier d'auto-réparation 🔧
DESCRIPTION:
URL:https://mdb-idf.org/evenement/aulnay-sous-bois-atelier-dauto-reparation-%f0%9f%94%a7/2026-06-20/
LOCATION:Parking vélo de la gare d’Aulnay-sous-Bois\, rue du 11 novembre\, Aulnay-sous-Bois\, 93800
CATEGORIES:Atelier de réparation
ATTACH;FMTTYPE=image/png:https://mdb-idf.org/wp-content/uploads/2025/03/Copie-de-Visuels-pour-OpenAgenda.png
ORGANIZER;CN="MDB Aulnay-sous-Bois":MAILTO:aulnay-a-velo@mdb-idf.org
END:VEVENT
BEGIN:VEVENT
DTSTART;TZID=Europe/Paris:20260620T140000
DTEND;TZID=Europe/Paris:20260620T170000
DTSTAMP:20260423T032703
CREATED:20260225T104820Z
LAST-MODIFIED:20260225T104820Z
UID:10005778-1781964000-1781974800@mdb-idf.org
SUMMARY:Asnières - Atelier extérieur
DESCRIPTION:Atelier d’auto-réparation en extérieur. 57 rue des Mourinoux\, Asnières. De 14h à 17h.
URL:https://mdb-idf.org/evenement/asnieres-atelier-exterieur-13/
ORGANIZER;CN="MDB Asni%C3%A8res":MAILTO:asnieres@mdb-idf.org
END:VEVENT
BEGIN:VEVENT
DTSTART;TZID=Europe/Paris:20260621T100000
DTEND;TZID=Europe/Paris:20260621T170000
DTSTAMP:20260423T032703
CREATED:20260218T090415Z
LAST-MODIFIED:20260218T090415Z
UID:10005763-1782036000-1782061200@mdb-idf.org
SUMMARY:Val de bièvre à vélo : Grande Balade de printemps
DESCRIPTION:Grande Balade de printemps\ndimanche 21 juin\, 10h – 17h
URL:https://mdb-idf.org/evenement/val-de-bievre-a-velo-grande-balade-de-printemps/
END:VEVENT
END:VCALENDAR