BEGIN:VCALENDAR
VERSION:2.0
PRODID:-//Mieux se Déplacer à Bicyclette - ECPv6.15.20//NONSGML v1.0//EN
CALSCALE:GREGORIAN
METHOD:PUBLISH
X-WR-CALNAME:Mieux se Déplacer à Bicyclette
X-ORIGINAL-URL:https://mdb-idf.org
X-WR-CALDESC:Évènements pour Mieux se Déplacer à Bicyclette
REFRESH-INTERVAL;VALUE=DURATION:PT1H
X-Robots-Tag:noindex
X-PUBLISHED-TTL:PT1H
BEGIN:VTIMEZONE
TZID:Europe/Paris
BEGIN:DAYLIGHT
TZOFFSETFROM:+0100
TZOFFSETTO:+0200
TZNAME:CEST
DTSTART:20250330T010000
END:DAYLIGHT
BEGIN:STANDARD
TZOFFSETFROM:+0200
TZOFFSETTO:+0100
TZNAME:CET
DTSTART:20251026T010000
END:STANDARD
BEGIN:DAYLIGHT
TZOFFSETFROM:+0100
TZOFFSETTO:+0200
TZNAME:CEST
DTSTART:20260329T010000
END:DAYLIGHT
BEGIN:STANDARD
TZOFFSETFROM:+0200
TZOFFSETTO:+0100
TZNAME:CET
DTSTART:20261025T010000
END:STANDARD
BEGIN:DAYLIGHT
TZOFFSETFROM:+0100
TZOFFSETTO:+0200
TZNAME:CEST
DTSTART:20270328T010000
END:DAYLIGHT
BEGIN:STANDARD
TZOFFSETFROM:+0200
TZOFFSETTO:+0100
TZNAME:CET
DTSTART:20271031T010000
END:STANDARD
END:VTIMEZONE
BEGIN:VEVENT
DTSTART;TZID=Europe/Paris:20260707T203000
DTEND;TZID=Europe/Paris:20260707T223000
DTSTAMP:20260425T172814
CREATED:20251006T222948Z
LAST-MODIFIED:20251006T222948Z
UID:10005348-1783456200-1783463400@mdb-idf.org
SUMMARY:Antenne Noisy-le-Grand - Réunion d'antenne
DESCRIPTION:
URL:https://mdb-idf.org/evenement/antenne-noisy-le-grand-reunion-dantenne/2026-07-07/
LOCATION:Salle Stéphane Hessel\, 10 place Antoine Renard\, Noisy le Grand\, Sélectionner un État :\, 93160\, France
CATEGORIES:Réunion d'antenne
ATTACH;FMTTYPE=image/png:https://mdb-idf.org/wp-content/uploads/2023/10/Logo-Noisy.png
END:VEVENT
BEGIN:VEVENT
DTSTART;TZID=Europe/Paris:20260709T200000
DTEND;TZID=Europe/Paris:20260709T223000
DTSTAMP:20260425T172814
CREATED:20250905T220855Z
LAST-MODIFIED:20250905T220855Z
UID:10003451-1783627200-1783636200@mdb-idf.org
SUMMARY:Colombes – Atelier de réparation au local
DESCRIPTION:Un problème mécanique ? Un conseil ? Apprenez à réparer votre vélo vous-même ! \nNos bénévoles experts sont là pour vous aider ! \nChaque jeudi 20h30 – 22h30 27 rue St Vincent au fond de la cour ! \nLe premier jeudi du mois est dédié à notre réunion mensuelle mais l’atelier reste ouvert pour la réparation en autonomie. \nToutes nos activités : https://mdb-idf.org/colombes/
URL:https://mdb-idf.org/evenement/colombes-atelier-de-reparation-au-local-3/2026-07-09/
LOCATION:Atelier Colombes\, 27 rue Saint-Vincent\, Colombes\, 92
CATEGORIES:Atelier de réparation
ATTACH;FMTTYPE=image/jpeg:https://mdb-idf.org/wp-content/uploads/2025/09/Atelier-Local-1.jpg
END:VEVENT
BEGIN:VEVENT
DTSTART;TZID=Europe/Paris:20260711T100000
DTEND;TZID=Europe/Paris:20260711T120000
DTSTAMP:20260425T172814
CREATED:20250922T151847Z
LAST-MODIFIED:20250922T151847Z
UID:10003705-1783764000-1783771200@mdb-idf.org
SUMMARY:Aulnay-sous-Bois - Atelier d'auto-réparation 🔧
DESCRIPTION:
URL:https://mdb-idf.org/evenement/aulnay-sous-bois-atelier-dauto-reparation-%f0%9f%94%a7/2026-07-11/
LOCATION:Parking vélo de la gare d’Aulnay-sous-Bois\, rue du 11 novembre\, Aulnay-sous-Bois\, 93800
CATEGORIES:Atelier de réparation
ATTACH;FMTTYPE=image/png:https://mdb-idf.org/wp-content/uploads/2025/03/Copie-de-Visuels-pour-OpenAgenda.png
ORGANIZER;CN="MDB Aulnay-sous-Bois":MAILTO:aulnay-a-velo@mdb-idf.org
END:VEVENT
BEGIN:VEVENT
DTSTART;TZID=Europe/Paris:20260711T100000
DTEND;TZID=Europe/Paris:20260711T130000
DTSTAMP:20260425T172814
CREATED:20250922T185411Z
LAST-MODIFIED:20250922T185411Z
UID:10003715-1783764000-1783774800@mdb-idf.org
SUMMARY:Colombes – Atelier de réparation au marché Marceau
DESCRIPTION:Un problème mécanique ? Un conseil ? Apprenez à réparer votre vélo vous-même ! \nNos bénévoles experts sont là pour vous aider ! \nMarché Marceau : le 2ème samedi du mois\, de 10h à 13h \nToutes nos activités : https://mdb-idf.org/colombes/
URL:https://mdb-idf.org/evenement/colombes-atelier-de-reparation-au-marche-marceau/2026-07-11/
LOCATION:Marché Marceau\, 72 boulevard Marceau\, Colombes\, 92700
ATTACH;FMTTYPE=image/jpeg:https://mdb-idf.org/wp-content/uploads/2024/07/Marche-Marceau.jpg
END:VEVENT
END:VCALENDAR