BEGIN:VCALENDAR
VERSION:2.0
PRODID:-//Mieux se Déplacer à Bicyclette - ECPv6.15.20//NONSGML v1.0//EN
CALSCALE:GREGORIAN
METHOD:PUBLISH
X-WR-CALNAME:Mieux se Déplacer à Bicyclette
X-ORIGINAL-URL:https://mdb-idf.org
X-WR-CALDESC:Évènements pour Mieux se Déplacer à Bicyclette
REFRESH-INTERVAL;VALUE=DURATION:PT1H
X-Robots-Tag:noindex
X-PUBLISHED-TTL:PT1H
BEGIN:VTIMEZONE
TZID:Europe/Paris
BEGIN:DAYLIGHT
TZOFFSETFROM:+0100
TZOFFSETTO:+0200
TZNAME:CEST
DTSTART:20230326T010000
END:DAYLIGHT
BEGIN:STANDARD
TZOFFSETFROM:+0200
TZOFFSETTO:+0100
TZNAME:CET
DTSTART:20231029T010000
END:STANDARD
BEGIN:DAYLIGHT
TZOFFSETFROM:+0100
TZOFFSETTO:+0200
TZNAME:CEST
DTSTART:20240331T010000
END:DAYLIGHT
BEGIN:STANDARD
TZOFFSETFROM:+0200
TZOFFSETTO:+0100
TZNAME:CET
DTSTART:20241027T010000
END:STANDARD
BEGIN:DAYLIGHT
TZOFFSETFROM:+0100
TZOFFSETTO:+0200
TZNAME:CEST
DTSTART:20250330T010000
END:DAYLIGHT
BEGIN:STANDARD
TZOFFSETFROM:+0200
TZOFFSETTO:+0100
TZNAME:CET
DTSTART:20251026T010000
END:STANDARD
BEGIN:DAYLIGHT
TZOFFSETFROM:+0100
TZOFFSETTO:+0200
TZNAME:CEST
DTSTART:20260329T010000
END:DAYLIGHT
BEGIN:STANDARD
TZOFFSETFROM:+0200
TZOFFSETTO:+0100
TZNAME:CET
DTSTART:20261025T010000
END:STANDARD
END:VTIMEZONE
BEGIN:VEVENT
DTSTART;TZID=Europe/Paris:20250623T193000
DTEND;TZID=Europe/Paris:20250623T213000
DTSTAMP:20260422T084030
CREATED:20250618T163927Z
LAST-MODIFIED:20250618T163927Z
UID:10002471-1750707000-1750714200@mdb-idf.org
SUMMARY:Petite balade
DESCRIPTION:Petite balade au départ de la mairie d’Asnières. Départ 19h30. Retour aux alentours de 21h30.
URL:https://mdb-idf.org/evenement/petite-balade/
LOCATION:Asnières Parvis de l’Hôtel de Ville\, 1 Place de l'Hôtel de ville\, Asnières-sur-Seine\, 92600\, France
ORGANIZER;CN="MDB Asni%C3%A8res":MAILTO:asnieres@mdb-idf.org
END:VEVENT
BEGIN:VEVENT
DTSTART;TZID=Europe/Paris:20250526T194500
DTEND;TZID=Europe/Paris:20250526T223000
DTSTAMP:20260422T084030
CREATED:20250521T101129Z
LAST-MODIFIED:20250521T101129Z
UID:10001943-1748288700-1748298600@mdb-idf.org
SUMMARY:Balade du soir à vélo
DESCRIPTION:Parcours d’environ 20km pour aller admirer le coucher de soleil. Lundi 26 mai\, 19h45. Rendez-vous devant la mairie d’Asnières-sur-Seine. Prévoir éclairage et chambre à air de rechange. \nNous contacter pour plus d’informations.
URL:https://mdb-idf.org/evenement/balade-du-soir-a-velo/
LOCATION:Asnières Parvis de l’Hôtel de Ville\, 1 Place de l'Hôtel de ville\, Asnières-sur-Seine\, 92600\, France
ORGANIZER;CN="MDB Asni%C3%A8res":MAILTO:asnieres@mdb-idf.org
END:VEVENT
BEGIN:VEVENT
DTSTART;TZID=Europe/Paris:20241111T182000
DTEND;TZID=Europe/Paris:20241111T200000
DTSTAMP:20260422T084030
CREATED:20241022T201235Z
LAST-MODIFIED:20241022T201405Z
UID:10001495-1731349200-1731355200@mdb-idf.org
SUMMARY:Cyclistes\, brillez ! à Asnières-sur-seine - Lundi 11 novembre
DESCRIPTION:Balade nocturne « Cyclistes\, brillez ! » – Lundi 11 novembre \nÀ l’occasion de la campagne nationale « Cyclistes\, brillez ! » lancée par la FUB\, les antennes Mieux se Déplacer à Bicyclette (MDB) organisent une balade nocturne illuminée à travers Colombes\, Bois-Colombes et Asnières-sur-Seine. Cet événement est ouvert à tous les cyclistes\, réguliers ou occasionnels\, pour rappeler l’importance de l’éclairage et de la visibilité à vélo\, surtout à l’approche de l’hiver. \nApportez vos lumières et accessoires lumineux\, et venez rouler avec nous pour une balade conviviale. \nProgramme de la soirée : \n🔦 17h30 : Départ de la Gare de Colombes\n🔦 18h00 : Arrêt à la Gare de Bois-Colombes\n🔦 18h20 : Passage à la Mairie d’Asnières et au local MDB Asnières (1 Avenue du Docteur Fleming)\n🥂 20h00 : Verre de l’amitié au local MDB Colombes (27 Rue Saint-Vincent) \nVous êtes toutes et tous les bienvenus à n’importe quelle étape du parcours.
URL:https://mdb-idf.org/evenement/mdbasnieres/
LOCATION:Asnières Parvis de l’Hôtel de Ville\, 1 Place de l'Hôtel de ville\, Asnières-sur-Seine\, 92600\, France
CATEGORIES:Balade,Manifestation
ATTACH;FMTTYPE=image/png:https://mdb-idf.org/wp-content/uploads/2024/10/Cyclistes-Brillez-2024-Facebook-Cover.png
ORGANIZER;CN="MDB Asni%C3%A8res":MAILTO:asnieres@mdb-idf.org
END:VEVENT
BEGIN:VEVENT
DTSTART;TZID=Europe/Paris:20240526T093000
DTEND;TZID=Europe/Paris:20240526T163000
DTSTAMP:20260422T084030
CREATED:20240522T203121Z
LAST-MODIFIED:20240522T203121Z
UID:10000228-1716715800-1716741000@mdb-idf.org
SUMMARY:Asnières - Départ Convergence
DESCRIPTION:Notre association MDB Asnières organise un départ groupé depuis le parvis de la Marie d’Asnières-sur-Seine pour la convergence. \n📅 Quand ? Dimanche 26 mai \nDès 9h30 pour profiter des animations. Départ à 10h45 vers Paris. \n📍 Ou ? Parvis de l’Hôtel de Ville  \n🌟 Comment ? Nous faisons partie de la branche verte – habillez-vous de cette couleur pour montrer d’où nous venons ! 💚 \nÉquipement : Amenez votre pique-nique et assez d’eau pour la journée. \n🚴‍♀️ Pourquoi ? \nParticiper à la Convergence\, c’est aussi dire que l’on veut plus de place pour le vélo ! 💪🏻 \n🌈 Plus d’infos ? Retrouvez tous les détails sur le site convergencevelo.fr \nRejoignez-nous pour une journée de convivialité\, de partage et de revendication en faveur du vélo comme moyen de transport privilégié en Île-de-France ! 🚲
URL:https://mdb-idf.org/evenement/asnieres-depart-convergence/
LOCATION:Asnières Parvis de l’Hôtel de Ville\, 1 Place de l'Hôtel de ville\, Asnières-sur-Seine\, 92600\, France
ATTACH;FMTTYPE=image/png:https://mdb-idf.org/wp-content/uploads/2024/05/2605-Convergence-couverture-facebook.png
ORGANIZER;CN="MDB Asni%C3%A8res":MAILTO:asnieres@mdb-idf.org
END:VEVENT
END:VCALENDAR