BEGIN:VCALENDAR
VERSION:2.0
PRODID:-//Mieux se Déplacer à Bicyclette - ECPv6.15.20//NONSGML v1.0//EN
CALSCALE:GREGORIAN
METHOD:PUBLISH
X-ORIGINAL-URL:https://mdb-idf.org
X-WR-CALDESC:Évènements pour Mieux se Déplacer à Bicyclette
REFRESH-INTERVAL;VALUE=DURATION:PT1H
X-Robots-Tag:noindex
X-PUBLISHED-TTL:PT1H
BEGIN:VTIMEZONE
TZID:Europe/Paris
BEGIN:DAYLIGHT
TZOFFSETFROM:+0100
TZOFFSETTO:+0200
TZNAME:CEST
DTSTART:20230326T010000
END:DAYLIGHT
BEGIN:STANDARD
TZOFFSETFROM:+0200
TZOFFSETTO:+0100
TZNAME:CET
DTSTART:20231029T010000
END:STANDARD
BEGIN:DAYLIGHT
TZOFFSETFROM:+0100
TZOFFSETTO:+0200
TZNAME:CEST
DTSTART:20240331T010000
END:DAYLIGHT
BEGIN:STANDARD
TZOFFSETFROM:+0200
TZOFFSETTO:+0100
TZNAME:CET
DTSTART:20241027T010000
END:STANDARD
BEGIN:DAYLIGHT
TZOFFSETFROM:+0100
TZOFFSETTO:+0200
TZNAME:CEST
DTSTART:20250330T010000
END:DAYLIGHT
BEGIN:STANDARD
TZOFFSETFROM:+0200
TZOFFSETTO:+0100
TZNAME:CET
DTSTART:20251026T010000
END:STANDARD
END:VTIMEZONE
BEGIN:VEVENT
DTSTART;TZID=Europe/Paris:20241014T200000
DTEND;TZID=Europe/Paris:20241014T223000
DTSTAMP:20260421T201351
CREATED:20240905T075556Z
LAST-MODIFIED:20240906T102307Z
UID:10000905-1728936000-1728945000@mdb-idf.org
SUMMARY:Bagneux - Ciné-débats
DESCRIPTION:Le vélo est aussi un moyen de voyager loin et de faire des rencontres. Diverses associations vous proposent deux films suivis d’un débat en présence des réalisateurs. \nUn voyage en Afrique d’un an\, de Philippe Lautridou\, entre Dakar à Cap town \n& \nUn court parcours au Ladakh\, de Jacques Meunier\, où l’on tutoie l’Himalaya
URL:https://mdb-idf.org/evenement/bagneux-cine-debats/
LOCATION:Bagneux – Théatre Victor Hugo\, 14 avenue Victor Hugo\, Bagneux\, 92220
CATEGORIES:Ciné-débat
ATTACH;FMTTYPE=application/pdf:https://mdb-idf.org/wp-content/uploads/2024/09/affiche-tvh.pdf
END:VEVENT
END:VCALENDAR