BEGIN:VCALENDAR
VERSION:2.0
PRODID:-//Mieux se Déplacer à Bicyclette - ECPv6.15.20//NONSGML v1.0//EN
CALSCALE:GREGORIAN
METHOD:PUBLISH
X-ORIGINAL-URL:https://mdb-idf.org
X-WR-CALDESC:Évènements pour Mieux se Déplacer à Bicyclette
REFRESH-INTERVAL;VALUE=DURATION:PT1H
X-Robots-Tag:noindex
X-PUBLISHED-TTL:PT1H
BEGIN:VTIMEZONE
TZID:Europe/Paris
BEGIN:DAYLIGHT
TZOFFSETFROM:+0100
TZOFFSETTO:+0200
TZNAME:CEST
DTSTART:20240331T010000
END:DAYLIGHT
BEGIN:STANDARD
TZOFFSETFROM:+0200
TZOFFSETTO:+0100
TZNAME:CET
DTSTART:20241027T010000
END:STANDARD
BEGIN:DAYLIGHT
TZOFFSETFROM:+0100
TZOFFSETTO:+0200
TZNAME:CEST
DTSTART:20250330T010000
END:DAYLIGHT
BEGIN:STANDARD
TZOFFSETFROM:+0200
TZOFFSETTO:+0100
TZNAME:CET
DTSTART:20251026T010000
END:STANDARD
BEGIN:DAYLIGHT
TZOFFSETFROM:+0100
TZOFFSETTO:+0200
TZNAME:CEST
DTSTART:20260329T010000
END:DAYLIGHT
BEGIN:STANDARD
TZOFFSETFROM:+0200
TZOFFSETTO:+0100
TZNAME:CET
DTSTART:20261025T010000
END:STANDARD
END:VTIMEZONE
BEGIN:VEVENT
DTSTART;TZID=Europe/Paris:20250607T150000
DTEND;TZID=Europe/Paris:20250607T180000
DTSTAMP:20260423T235445
CREATED:20250610T175909Z
LAST-MODIFIED:20250610T180213Z
UID:10001944-1749308400-1749319200@mdb-idf.org
SUMMARY:Colombes - Ateliers de réparation C 2Mains
DESCRIPTION:Le Samedi 07 Juin de 15h00 à 18h00\, nous serons présent à C2mains\, un éco.lieu pour la transition écologique\, pour y tenir un atelier de réparation vélo ! \nVous pouvez retrouvez les actualités du lieu ici : https://www.facebook.com/people/C-2Mains/100093108654806/?locale=fr_FR \nEt toutes nos activités ici : https://mdb-idf.org/colombes/
URL:https://mdb-idf.org/evenement/colombes-ateliers-de-reparation-c-2mains/
LOCATION:C2Mains\, 21 rue Cugnet\, Colombes\, 92700\, France
CATEGORIES:Atelier de réparation
ATTACH;FMTTYPE=image/jpeg:https://mdb-idf.org/wp-content/uploads/2025/06/Screenshot_20250607_110640_Email-czpg77r9xpnfjri8sojbdyce5c.jpg
END:VEVENT
END:VCALENDAR