BEGIN:VCALENDAR
VERSION:2.0
PRODID:-//Mieux se Déplacer à Bicyclette - ECPv6.15.20//NONSGML v1.0//EN
CALSCALE:GREGORIAN
METHOD:PUBLISH
X-WR-CALNAME:Mieux se Déplacer à Bicyclette
X-ORIGINAL-URL:https://mdb-idf.org
X-WR-CALDESC:Évènements pour Mieux se Déplacer à Bicyclette
REFRESH-INTERVAL;VALUE=DURATION:PT1H
X-Robots-Tag:noindex
X-PUBLISHED-TTL:PT1H
BEGIN:VTIMEZONE
TZID:Europe/Paris
BEGIN:DAYLIGHT
TZOFFSETFROM:+0100
TZOFFSETTO:+0200
TZNAME:CEST
DTSTART:20230326T010000
END:DAYLIGHT
BEGIN:STANDARD
TZOFFSETFROM:+0200
TZOFFSETTO:+0100
TZNAME:CET
DTSTART:20231029T010000
END:STANDARD
BEGIN:DAYLIGHT
TZOFFSETFROM:+0100
TZOFFSETTO:+0200
TZNAME:CEST
DTSTART:20240331T010000
END:DAYLIGHT
BEGIN:STANDARD
TZOFFSETFROM:+0200
TZOFFSETTO:+0100
TZNAME:CET
DTSTART:20241027T010000
END:STANDARD
BEGIN:DAYLIGHT
TZOFFSETFROM:+0100
TZOFFSETTO:+0200
TZNAME:CEST
DTSTART:20250330T010000
END:DAYLIGHT
BEGIN:STANDARD
TZOFFSETFROM:+0200
TZOFFSETTO:+0100
TZNAME:CET
DTSTART:20251026T010000
END:STANDARD
END:VTIMEZONE
BEGIN:VEVENT
DTSTART;TZID=Europe/Paris:20241207T100000
DTEND;TZID=Europe/Paris:20241207T113000
DTSTAMP:20260423T020310
CREATED:20240704T082537Z
LAST-MODIFIED:20250210T150537Z
UID:10000314-1733565600-1733571000@mdb-idf.org
SUMMARY:Antony - Vélo-école de printemps
DESCRIPTION:
URL:https://mdb-idf.org/evenement/antony-velo-ecole-dautomne/2024-12-07/
LOCATION:Circuit de sécurité routière de la ville d’Antony\, rue Adolphe Pajeaud\, Antony\, 92160
CATEGORIES:Vélo-école
ATTACH;FMTTYPE=image/png:https://mdb-idf.org/wp-content/uploads/2024/07/Copie-de-Visuels-pour-OpenAgenda.png
ORGANIZER;CN="Antony %C3%A0 V%C3%A9lo":MAILTO:antony@mdb-idf.org
END:VEVENT
BEGIN:VEVENT
DTSTART;TZID=Europe/Paris:20241130T100000
DTEND;TZID=Europe/Paris:20241130T113000
DTSTAMP:20260423T020310
CREATED:20240704T082537Z
LAST-MODIFIED:20250210T150537Z
UID:10000313-1732960800-1732966200@mdb-idf.org
SUMMARY:Antony - Vélo-école de printemps
DESCRIPTION:
URL:https://mdb-idf.org/evenement/antony-velo-ecole-dautomne/2024-11-30/
LOCATION:Circuit de sécurité routière de la ville d’Antony\, rue Adolphe Pajeaud\, Antony\, 92160
CATEGORIES:Vélo-école
ATTACH;FMTTYPE=image/png:https://mdb-idf.org/wp-content/uploads/2024/07/Copie-de-Visuels-pour-OpenAgenda.png
ORGANIZER;CN="Antony %C3%A0 V%C3%A9lo":MAILTO:antony@mdb-idf.org
END:VEVENT
BEGIN:VEVENT
DTSTART;TZID=Europe/Paris:20241123T100000
DTEND;TZID=Europe/Paris:20241123T113000
DTSTAMP:20260423T020310
CREATED:20240704T082537Z
LAST-MODIFIED:20250210T150537Z
UID:10000312-1732356000-1732361400@mdb-idf.org
SUMMARY:Antony - Vélo-école de printemps
DESCRIPTION:
URL:https://mdb-idf.org/evenement/antony-velo-ecole-dautomne/2024-11-23/
LOCATION:Circuit de sécurité routière de la ville d’Antony\, rue Adolphe Pajeaud\, Antony\, 92160
CATEGORIES:Vélo-école
ATTACH;FMTTYPE=image/png:https://mdb-idf.org/wp-content/uploads/2024/07/Copie-de-Visuels-pour-OpenAgenda.png
ORGANIZER;CN="Antony %C3%A0 V%C3%A9lo":MAILTO:antony@mdb-idf.org
END:VEVENT
BEGIN:VEVENT
DTSTART;TZID=Europe/Paris:20241116T100000
DTEND;TZID=Europe/Paris:20241116T113000
DTSTAMP:20260423T020310
CREATED:20240704T082537Z
LAST-MODIFIED:20250210T150537Z
UID:10000311-1731751200-1731756600@mdb-idf.org
SUMMARY:Antony - Vélo-école de printemps
DESCRIPTION:
URL:https://mdb-idf.org/evenement/antony-velo-ecole-dautomne/2024-11-16/
LOCATION:Circuit de sécurité routière de la ville d’Antony\, rue Adolphe Pajeaud\, Antony\, 92160
CATEGORIES:Vélo-école
ATTACH;FMTTYPE=image/png:https://mdb-idf.org/wp-content/uploads/2024/07/Copie-de-Visuels-pour-OpenAgenda.png
ORGANIZER;CN="Antony %C3%A0 V%C3%A9lo":MAILTO:antony@mdb-idf.org
END:VEVENT
BEGIN:VEVENT
DTSTART;TZID=Europe/Paris:20241109T100000
DTEND;TZID=Europe/Paris:20241109T113000
DTSTAMP:20260423T020310
CREATED:20240704T082537Z
LAST-MODIFIED:20250210T150537Z
UID:10000310-1731146400-1731151800@mdb-idf.org
SUMMARY:Antony - Vélo-école de printemps
DESCRIPTION:
URL:https://mdb-idf.org/evenement/antony-velo-ecole-dautomne/2024-11-09/
LOCATION:Circuit de sécurité routière de la ville d’Antony\, rue Adolphe Pajeaud\, Antony\, 92160
CATEGORIES:Vélo-école
ATTACH;FMTTYPE=image/png:https://mdb-idf.org/wp-content/uploads/2024/07/Copie-de-Visuels-pour-OpenAgenda.png
ORGANIZER;CN="Antony %C3%A0 V%C3%A9lo":MAILTO:antony@mdb-idf.org
END:VEVENT
BEGIN:VEVENT
DTSTART;TZID=Europe/Paris:20241102T100000
DTEND;TZID=Europe/Paris:20241102T113000
DTSTAMP:20260423T020310
CREATED:20241017T114406Z
LAST-MODIFIED:20241017T114407Z
UID:10000309-1730541600-1730547000@mdb-idf.org
SUMMARY:50 ans de MDB - Antony - Vélo-école d'automne
DESCRIPTION:
URL:https://mdb-idf.org/evenement/antony-velo-ecole-dautomne-2/
LOCATION:Circuit de sécurité routière de la ville d’Antony\, rue Adolphe Pajeaud\, Antony\, 92160
CATEGORIES:Vélo-école
ATTACH;FMTTYPE=image/png:https://mdb-idf.org/wp-content/uploads/2024/07/Copie-de-Visuels-pour-OpenAgenda.png
ORGANIZER;CN="Antony %C3%A0 V%C3%A9lo":MAILTO:antony@mdb-idf.org
END:VEVENT
BEGIN:VEVENT
DTSTART;TZID=Europe/Paris:20241102T100000
DTEND;TZID=Europe/Paris:20241102T113000
DTSTAMP:20260423T020310
CREATED:20240704T082537Z
LAST-MODIFIED:20250210T150537Z
UID:10001741-1730541600-1730547000@mdb-idf.org
SUMMARY:Antony - Vélo-école de printemps
DESCRIPTION:
URL:https://mdb-idf.org/evenement/antony-velo-ecole-dautomne/2024-11-02/
LOCATION:Circuit de sécurité routière de la ville d’Antony\, rue Adolphe Pajeaud\, Antony\, 92160
CATEGORIES:Vélo-école
ATTACH;FMTTYPE=image/png:https://mdb-idf.org/wp-content/uploads/2024/07/Copie-de-Visuels-pour-OpenAgenda.png
ORGANIZER;CN="Antony %C3%A0 V%C3%A9lo":MAILTO:antony@mdb-idf.org
END:VEVENT
BEGIN:VEVENT
DTSTART;TZID=Europe/Paris:20241026T100000
DTEND;TZID=Europe/Paris:20241026T113000
DTSTAMP:20260423T020310
CREATED:20240704T082537Z
LAST-MODIFIED:20250210T150537Z
UID:10000308-1729936800-1729942200@mdb-idf.org
SUMMARY:Antony - Vélo-école de printemps
DESCRIPTION:
URL:https://mdb-idf.org/evenement/antony-velo-ecole-dautomne/2024-10-26/
LOCATION:Circuit de sécurité routière de la ville d’Antony\, rue Adolphe Pajeaud\, Antony\, 92160
CATEGORIES:Vélo-école
ATTACH;FMTTYPE=image/png:https://mdb-idf.org/wp-content/uploads/2024/07/Copie-de-Visuels-pour-OpenAgenda.png
ORGANIZER;CN="Antony %C3%A0 V%C3%A9lo":MAILTO:antony@mdb-idf.org
END:VEVENT
BEGIN:VEVENT
DTSTART;TZID=Europe/Paris:20241019T100000
DTEND;TZID=Europe/Paris:20241019T113000
DTSTAMP:20260423T020310
CREATED:20240704T082537Z
LAST-MODIFIED:20250210T150537Z
UID:10000307-1729332000-1729337400@mdb-idf.org
SUMMARY:Antony - Vélo-école de printemps
DESCRIPTION:
URL:https://mdb-idf.org/evenement/antony-velo-ecole-dautomne/2024-10-19/
LOCATION:Circuit de sécurité routière de la ville d’Antony\, rue Adolphe Pajeaud\, Antony\, 92160
CATEGORIES:Vélo-école
ATTACH;FMTTYPE=image/png:https://mdb-idf.org/wp-content/uploads/2024/07/Copie-de-Visuels-pour-OpenAgenda.png
ORGANIZER;CN="Antony %C3%A0 V%C3%A9lo":MAILTO:antony@mdb-idf.org
END:VEVENT
BEGIN:VEVENT
DTSTART;TZID=Europe/Paris:20241012T100000
DTEND;TZID=Europe/Paris:20241012T113000
DTSTAMP:20260423T020310
CREATED:20240704T082537Z
LAST-MODIFIED:20250210T150537Z
UID:10000306-1728727200-1728732600@mdb-idf.org
SUMMARY:Antony - Vélo-école de printemps
DESCRIPTION:
URL:https://mdb-idf.org/evenement/antony-velo-ecole-dautomne/2024-10-12/
LOCATION:Circuit de sécurité routière de la ville d’Antony\, rue Adolphe Pajeaud\, Antony\, 92160
CATEGORIES:Vélo-école
ATTACH;FMTTYPE=image/png:https://mdb-idf.org/wp-content/uploads/2024/07/Copie-de-Visuels-pour-OpenAgenda.png
ORGANIZER;CN="Antony %C3%A0 V%C3%A9lo":MAILTO:antony@mdb-idf.org
END:VEVENT
BEGIN:VEVENT
DTSTART;TZID=Europe/Paris:20241005T100000
DTEND;TZID=Europe/Paris:20241005T113000
DTSTAMP:20260423T020310
CREATED:20240704T082537Z
LAST-MODIFIED:20250210T150537Z
UID:10000305-1728122400-1728127800@mdb-idf.org
SUMMARY:Antony - Vélo-école de printemps
DESCRIPTION:
URL:https://mdb-idf.org/evenement/antony-velo-ecole-dautomne/2024-10-05/
LOCATION:Circuit de sécurité routière de la ville d’Antony\, rue Adolphe Pajeaud\, Antony\, 92160
CATEGORIES:Vélo-école
ATTACH;FMTTYPE=image/png:https://mdb-idf.org/wp-content/uploads/2024/07/Copie-de-Visuels-pour-OpenAgenda.png
ORGANIZER;CN="Antony %C3%A0 V%C3%A9lo":MAILTO:antony@mdb-idf.org
END:VEVENT
BEGIN:VEVENT
DTSTART;TZID=Europe/Paris:20240928T100000
DTEND;TZID=Europe/Paris:20240928T113000
DTSTAMP:20260423T020310
CREATED:20240704T082537Z
LAST-MODIFIED:20250210T150537Z
UID:10000304-1727517600-1727523000@mdb-idf.org
SUMMARY:Antony - Vélo-école de printemps
DESCRIPTION:
URL:https://mdb-idf.org/evenement/antony-velo-ecole-dautomne/2024-09-28/
LOCATION:Circuit de sécurité routière de la ville d’Antony\, rue Adolphe Pajeaud\, Antony\, 92160
CATEGORIES:Vélo-école
ATTACH;FMTTYPE=image/png:https://mdb-idf.org/wp-content/uploads/2024/07/Copie-de-Visuels-pour-OpenAgenda.png
ORGANIZER;CN="Antony %C3%A0 V%C3%A9lo":MAILTO:antony@mdb-idf.org
END:VEVENT
BEGIN:VEVENT
DTSTART;TZID=Europe/Paris:20240921T100000
DTEND;TZID=Europe/Paris:20240921T113000
DTSTAMP:20260423T020310
CREATED:20240704T082537Z
LAST-MODIFIED:20250210T150537Z
UID:10000303-1726912800-1726918200@mdb-idf.org
SUMMARY:Antony - Vélo-école de printemps
DESCRIPTION:
URL:https://mdb-idf.org/evenement/antony-velo-ecole-dautomne/2024-09-21/
LOCATION:Circuit de sécurité routière de la ville d’Antony\, rue Adolphe Pajeaud\, Antony\, 92160
CATEGORIES:Vélo-école
ATTACH;FMTTYPE=image/png:https://mdb-idf.org/wp-content/uploads/2024/07/Copie-de-Visuels-pour-OpenAgenda.png
ORGANIZER;CN="Antony %C3%A0 V%C3%A9lo":MAILTO:antony@mdb-idf.org
END:VEVENT
BEGIN:VEVENT
DTSTART;TZID=Europe/Paris:20240914T100000
DTEND;TZID=Europe/Paris:20240914T113000
DTSTAMP:20260423T020310
CREATED:20240704T082537Z
LAST-MODIFIED:20250210T150537Z
UID:10000302-1726308000-1726313400@mdb-idf.org
SUMMARY:Antony - Vélo-école de printemps
DESCRIPTION:
URL:https://mdb-idf.org/evenement/antony-velo-ecole-dautomne/2024-09-14/
LOCATION:Circuit de sécurité routière de la ville d’Antony\, rue Adolphe Pajeaud\, Antony\, 92160
CATEGORIES:Vélo-école
ATTACH;FMTTYPE=image/png:https://mdb-idf.org/wp-content/uploads/2024/07/Copie-de-Visuels-pour-OpenAgenda.png
ORGANIZER;CN="Antony %C3%A0 V%C3%A9lo":MAILTO:antony@mdb-idf.org
END:VEVENT
END:VCALENDAR