BEGIN:VCALENDAR
VERSION:2.0
PRODID:-//Mieux se Déplacer à Bicyclette - ECPv6.15.20//NONSGML v1.0//EN
CALSCALE:GREGORIAN
METHOD:PUBLISH
X-ORIGINAL-URL:https://mdb-idf.org
X-WR-CALDESC:Évènements pour Mieux se Déplacer à Bicyclette
REFRESH-INTERVAL;VALUE=DURATION:PT1H
X-Robots-Tag:noindex
X-PUBLISHED-TTL:PT1H
BEGIN:VTIMEZONE
TZID:Europe/Paris
BEGIN:DAYLIGHT
TZOFFSETFROM:+0100
TZOFFSETTO:+0200
TZNAME:CEST
DTSTART:20250330T010000
END:DAYLIGHT
BEGIN:STANDARD
TZOFFSETFROM:+0200
TZOFFSETTO:+0100
TZNAME:CET
DTSTART:20251026T010000
END:STANDARD
BEGIN:DAYLIGHT
TZOFFSETFROM:+0100
TZOFFSETTO:+0200
TZNAME:CEST
DTSTART:20260329T010000
END:DAYLIGHT
BEGIN:STANDARD
TZOFFSETFROM:+0200
TZOFFSETTO:+0100
TZNAME:CET
DTSTART:20261025T010000
END:STANDARD
BEGIN:DAYLIGHT
TZOFFSETFROM:+0100
TZOFFSETTO:+0200
TZNAME:CEST
DTSTART:20270328T010000
END:DAYLIGHT
BEGIN:STANDARD
TZOFFSETFROM:+0200
TZOFFSETTO:+0100
TZNAME:CET
DTSTART:20271031T010000
END:STANDARD
END:VTIMEZONE
BEGIN:VEVENT
DTSTART;TZID=Europe/Paris:20260507T203000
DTEND;TZID=Europe/Paris:20260507T223000
DTSTAMP:20260422T123314
CREATED:20251231T153044Z
LAST-MODIFIED:20251231T153044Z
UID:10005688-1778185800-1778193000@mdb-idf.org
SUMMARY:Colombes – Réunion d’antenne
DESCRIPTION:Comme tous les premiers jeudis du mois\, rendez-vous au local 27 rue Saint-Vincent à Colombes ! \nL’atelier est ouvert pour la réparation en autonomie. \nToutes nos activités : https://mdb-idf.org/colombes/
URL:https://mdb-idf.org/evenement/colombes-reunion-dantenne-2026/2026-05-07/
LOCATION:Local MDB Colombes\, 27 rue Saint-Vincent\, Colombes\, 92700\, France
CATEGORIES:Atelier de réparation
ATTACH;FMTTYPE=image/jpeg:https://mdb-idf.org/wp-content/uploads/2023/10/event-12.jpg
END:VEVENT
BEGIN:VEVENT
DTSTART;TZID=Europe/Paris:20260604T203000
DTEND;TZID=Europe/Paris:20260604T223000
DTSTAMP:20260422T123314
CREATED:20251231T153044Z
LAST-MODIFIED:20251231T153044Z
UID:10005689-1780605000-1780612200@mdb-idf.org
SUMMARY:Colombes – Réunion d’antenne
DESCRIPTION:Comme tous les premiers jeudis du mois\, rendez-vous au local 27 rue Saint-Vincent à Colombes ! \nL’atelier est ouvert pour la réparation en autonomie. \nToutes nos activités : https://mdb-idf.org/colombes/
URL:https://mdb-idf.org/evenement/colombes-reunion-dantenne-2026/2026-06-04/
LOCATION:Local MDB Colombes\, 27 rue Saint-Vincent\, Colombes\, 92700\, France
CATEGORIES:Atelier de réparation
ATTACH;FMTTYPE=image/jpeg:https://mdb-idf.org/wp-content/uploads/2023/10/event-12.jpg
END:VEVENT
BEGIN:VEVENT
DTSTART;TZID=Europe/Paris:20260702T203000
DTEND;TZID=Europe/Paris:20260702T223000
DTSTAMP:20260422T123314
CREATED:20251231T153044Z
LAST-MODIFIED:20251231T153044Z
UID:10005690-1783024200-1783031400@mdb-idf.org
SUMMARY:Colombes – Réunion d’antenne
DESCRIPTION:Comme tous les premiers jeudis du mois\, rendez-vous au local 27 rue Saint-Vincent à Colombes ! \nL’atelier est ouvert pour la réparation en autonomie. \nToutes nos activités : https://mdb-idf.org/colombes/
URL:https://mdb-idf.org/evenement/colombes-reunion-dantenne-2026/2026-07-02/
LOCATION:Local MDB Colombes\, 27 rue Saint-Vincent\, Colombes\, 92700\, France
CATEGORIES:Atelier de réparation
ATTACH;FMTTYPE=image/jpeg:https://mdb-idf.org/wp-content/uploads/2023/10/event-12.jpg
END:VEVENT
BEGIN:VEVENT
DTSTART;TZID=Europe/Paris:20260806T203000
DTEND;TZID=Europe/Paris:20260806T223000
DTSTAMP:20260422T123314
CREATED:20251231T153044Z
LAST-MODIFIED:20251231T153044Z
UID:10005691-1786048200-1786055400@mdb-idf.org
SUMMARY:Colombes – Réunion d’antenne
DESCRIPTION:Comme tous les premiers jeudis du mois\, rendez-vous au local 27 rue Saint-Vincent à Colombes ! \nL’atelier est ouvert pour la réparation en autonomie. \nToutes nos activités : https://mdb-idf.org/colombes/
URL:https://mdb-idf.org/evenement/colombes-reunion-dantenne-2026/2026-08-06/
LOCATION:Local MDB Colombes\, 27 rue Saint-Vincent\, Colombes\, 92700\, France
CATEGORIES:Atelier de réparation
ATTACH;FMTTYPE=image/jpeg:https://mdb-idf.org/wp-content/uploads/2023/10/event-12.jpg
END:VEVENT
BEGIN:VEVENT
DTSTART;TZID=Europe/Paris:20260903T203000
DTEND;TZID=Europe/Paris:20260903T223000
DTSTAMP:20260422T123314
CREATED:20251231T153044Z
LAST-MODIFIED:20251231T153044Z
UID:10005692-1788467400-1788474600@mdb-idf.org
SUMMARY:Colombes – Réunion d’antenne
DESCRIPTION:Comme tous les premiers jeudis du mois\, rendez-vous au local 27 rue Saint-Vincent à Colombes ! \nL’atelier est ouvert pour la réparation en autonomie. \nToutes nos activités : https://mdb-idf.org/colombes/
URL:https://mdb-idf.org/evenement/colombes-reunion-dantenne-2026/2026-09-03/
LOCATION:Local MDB Colombes\, 27 rue Saint-Vincent\, Colombes\, 92700\, France
CATEGORIES:Atelier de réparation
ATTACH;FMTTYPE=image/jpeg:https://mdb-idf.org/wp-content/uploads/2023/10/event-12.jpg
END:VEVENT
BEGIN:VEVENT
DTSTART;TZID=Europe/Paris:20261001T203000
DTEND;TZID=Europe/Paris:20261001T223000
DTSTAMP:20260422T123314
CREATED:20251231T153044Z
LAST-MODIFIED:20251231T153044Z
UID:10005693-1790886600-1790893800@mdb-idf.org
SUMMARY:Colombes – Réunion d’antenne
DESCRIPTION:Comme tous les premiers jeudis du mois\, rendez-vous au local 27 rue Saint-Vincent à Colombes ! \nL’atelier est ouvert pour la réparation en autonomie. \nToutes nos activités : https://mdb-idf.org/colombes/
URL:https://mdb-idf.org/evenement/colombes-reunion-dantenne-2026/2026-10-01/
LOCATION:Local MDB Colombes\, 27 rue Saint-Vincent\, Colombes\, 92700\, France
CATEGORIES:Atelier de réparation
ATTACH;FMTTYPE=image/jpeg:https://mdb-idf.org/wp-content/uploads/2023/10/event-12.jpg
END:VEVENT
BEGIN:VEVENT
DTSTART;TZID=Europe/Paris:20261105T203000
DTEND;TZID=Europe/Paris:20261105T223000
DTSTAMP:20260422T123314
CREATED:20251231T153044Z
LAST-MODIFIED:20251231T153044Z
UID:10005694-1793910600-1793917800@mdb-idf.org
SUMMARY:Colombes – Réunion d’antenne
DESCRIPTION:Comme tous les premiers jeudis du mois\, rendez-vous au local 27 rue Saint-Vincent à Colombes ! \nL’atelier est ouvert pour la réparation en autonomie. \nToutes nos activités : https://mdb-idf.org/colombes/
URL:https://mdb-idf.org/evenement/colombes-reunion-dantenne-2026/2026-11-05/
LOCATION:Local MDB Colombes\, 27 rue Saint-Vincent\, Colombes\, 92700\, France
CATEGORIES:Atelier de réparation
ATTACH;FMTTYPE=image/jpeg:https://mdb-idf.org/wp-content/uploads/2023/10/event-12.jpg
END:VEVENT
BEGIN:VEVENT
DTSTART;TZID=Europe/Paris:20261203T203000
DTEND;TZID=Europe/Paris:20261203T223000
DTSTAMP:20260422T123314
CREATED:20251231T153044Z
LAST-MODIFIED:20251231T153044Z
UID:10005695-1796329800-1796337000@mdb-idf.org
SUMMARY:Colombes – Réunion d’antenne
DESCRIPTION:Comme tous les premiers jeudis du mois\, rendez-vous au local 27 rue Saint-Vincent à Colombes ! \nL’atelier est ouvert pour la réparation en autonomie. \nToutes nos activités : https://mdb-idf.org/colombes/
URL:https://mdb-idf.org/evenement/colombes-reunion-dantenne-2026/2026-12-03/
LOCATION:Local MDB Colombes\, 27 rue Saint-Vincent\, Colombes\, 92700\, France
CATEGORIES:Atelier de réparation
ATTACH;FMTTYPE=image/jpeg:https://mdb-idf.org/wp-content/uploads/2023/10/event-12.jpg
END:VEVENT
END:VCALENDAR