BEGIN:VCALENDAR
VERSION:2.0
PRODID:-//Mieux se Déplacer à Bicyclette - ECPv6.15.20//NONSGML v1.0//EN
CALSCALE:GREGORIAN
METHOD:PUBLISH
X-WR-CALNAME:Mieux se Déplacer à Bicyclette
X-ORIGINAL-URL:https://mdb-idf.org
X-WR-CALDESC:Évènements pour Mieux se Déplacer à Bicyclette
REFRESH-INTERVAL;VALUE=DURATION:PT1H
X-Robots-Tag:noindex
X-PUBLISHED-TTL:PT1H
BEGIN:VTIMEZONE
TZID:Europe/Paris
BEGIN:DAYLIGHT
TZOFFSETFROM:+0100
TZOFFSETTO:+0200
TZNAME:CEST
DTSTART:20230326T010000
END:DAYLIGHT
BEGIN:STANDARD
TZOFFSETFROM:+0200
TZOFFSETTO:+0100
TZNAME:CET
DTSTART:20231029T010000
END:STANDARD
BEGIN:DAYLIGHT
TZOFFSETFROM:+0100
TZOFFSETTO:+0200
TZNAME:CEST
DTSTART:20240331T010000
END:DAYLIGHT
BEGIN:STANDARD
TZOFFSETFROM:+0200
TZOFFSETTO:+0100
TZNAME:CET
DTSTART:20241027T010000
END:STANDARD
BEGIN:DAYLIGHT
TZOFFSETFROM:+0100
TZOFFSETTO:+0200
TZNAME:CEST
DTSTART:20250330T010000
END:DAYLIGHT
BEGIN:STANDARD
TZOFFSETFROM:+0200
TZOFFSETTO:+0100
TZNAME:CET
DTSTART:20251026T010000
END:STANDARD
BEGIN:DAYLIGHT
TZOFFSETFROM:+0100
TZOFFSETTO:+0200
TZNAME:CEST
DTSTART:20260329T010000
END:DAYLIGHT
BEGIN:STANDARD
TZOFFSETFROM:+0200
TZOFFSETTO:+0100
TZNAME:CET
DTSTART:20261025T010000
END:STANDARD
END:VTIMEZONE
BEGIN:VEVENT
DTSTART;TZID=Europe/Paris:20251115T140000
DTEND;TZID=Europe/Paris:20251115T170000
DTSTAMP:20260422T122617
CREATED:20251107T093019Z
LAST-MODIFIED:20251107T093019Z
UID:10005423-1763215200-1763226000@mdb-idf.org
SUMMARY:Atelier réparation à la Vache Noire à Arcueil - samedi 15 novembre
DESCRIPTION:Nous vous attendons sur la place de la Vache Noire pour voir avec vous comment préparer votre bicyclette pour que vous passiez l’hiver en toute tranquillité.\nÇa ne va pas côté pneus\, freins\, dérailleur\, chaîne et autres petits soucis ?\nOn verra avec vous comment améliorer tout cela  !
URL:https://mdb-idf.org/evenement/atelier-reparation-a-la-vache-noire-a-arcueil-samedi-15-novembre/
LOCATION:place de la Vache Noire Arcueil\, place de la Vache Noire\, Arcueil\, 94110\, France
CATEGORIES:Atelier de réparation
ATTACH;FMTTYPE=image/jpeg:https://mdb-idf.org/wp-content/uploads/2025/11/atelier_reparation_marquage_nov_2018_crop.jpg
END:VEVENT
BEGIN:VEVENT
DTSTART;TZID=Europe/Paris:20250517T140000
DTEND;TZID=Europe/Paris:20250517T170000
DTSTAMP:20260422T122617
CREATED:20250416T135131Z
LAST-MODIFIED:20250416T135131Z
UID:10001839-1747490400-1747501200@mdb-idf.org
SUMMARY:Atelier initiation à la réparation - Vache Noire à Arcueil
DESCRIPTION:Les beaux jours arrivent ; il est temps de préparer et d’ajuster son vélo pour ne pas en perdre une miette !\nVal de Bièvre à Vélo vous propose un atelier pour vous aider à faire les réglages de base et les petites réparations qui vont rendre votre vélo plus efficace et plus agréable à utiliser pour vos déplacements réguliers.\nRendez-vous devant le centre commercial de la Vache Noire\, samedi 17 mai entre 14h à 17h.
URL:https://mdb-idf.org/evenement/atelier-initiation-a-la-reparation-vache-noire-a-arcueil/
LOCATION:place de la Vache Noire Arcueil\, place de la Vache Noire\, Arcueil\, 94110\, France
CATEGORIES:Atelier de réparation
ATTACH;FMTTYPE=image/jpeg:https://mdb-idf.org/wp-content/uploads/2025/04/image_reparation_femme.jpg
END:VEVENT
BEGIN:VEVENT
DTSTART;TZID=Europe/Paris:20241116T140000
DTEND;TZID=Europe/Paris:20241116T170000
DTSTAMP:20260422T122617
CREATED:20241024T141623Z
LAST-MODIFIED:20241024T141623Z
UID:10001496-1731765600-1731776400@mdb-idf.org
SUMMARY:Atelier initiation à la réparation à la Vache Noire
DESCRIPTION:Un petit bruit gênant en roulant ? Des pneus un peu à plat ? Des vitesses qui ne passent pas ?….\nVous ne savez pas trop comment gonfler vos pneus\, vous hésitez à changer les patins de freins\, à modifier les réglages du dérailleur… ?\nNe ratez pas cette occasion de corriger les petits – ou les gros – défauts de votre monture pour passer l’hiver en toute tranquillité !
URL:https://mdb-idf.org/evenement/atelier-initiation-a-la-reparation-a-la-vache-noire/
LOCATION:place de la Vache Noire Arcueil\, place de la Vache Noire\, Arcueil\, 94110\, France
CATEGORIES:Atelier de réparation
ATTACH;FMTTYPE=image/jpeg:https://mdb-idf.org/wp-content/uploads/2024/10/image_reparation_femme.jpg
END:VEVENT
END:VCALENDAR