BEGIN:VCALENDAR
VERSION:2.0
PRODID:-//Mieux se Déplacer à Bicyclette - ECPv6.15.20//NONSGML v1.0//EN
CALSCALE:GREGORIAN
METHOD:PUBLISH
X-WR-CALNAME:Mieux se Déplacer à Bicyclette
X-ORIGINAL-URL:https://mdb-idf.org
X-WR-CALDESC:Évènements pour Mieux se Déplacer à Bicyclette
REFRESH-INTERVAL;VALUE=DURATION:PT1H
X-Robots-Tag:noindex
X-PUBLISHED-TTL:PT1H
BEGIN:VTIMEZONE
TZID:Europe/Paris
BEGIN:DAYLIGHT
TZOFFSETFROM:+0100
TZOFFSETTO:+0200
TZNAME:CEST
DTSTART:20230326T010000
END:DAYLIGHT
BEGIN:STANDARD
TZOFFSETFROM:+0200
TZOFFSETTO:+0100
TZNAME:CET
DTSTART:20231029T010000
END:STANDARD
BEGIN:DAYLIGHT
TZOFFSETFROM:+0100
TZOFFSETTO:+0200
TZNAME:CEST
DTSTART:20240331T010000
END:DAYLIGHT
BEGIN:STANDARD
TZOFFSETFROM:+0200
TZOFFSETTO:+0100
TZNAME:CET
DTSTART:20241027T010000
END:STANDARD
BEGIN:DAYLIGHT
TZOFFSETFROM:+0100
TZOFFSETTO:+0200
TZNAME:CEST
DTSTART:20250330T010000
END:DAYLIGHT
BEGIN:STANDARD
TZOFFSETFROM:+0200
TZOFFSETTO:+0100
TZNAME:CET
DTSTART:20251026T010000
END:STANDARD
BEGIN:DAYLIGHT
TZOFFSETFROM:+0100
TZOFFSETTO:+0200
TZNAME:CEST
DTSTART:20260329T010000
END:DAYLIGHT
BEGIN:STANDARD
TZOFFSETFROM:+0200
TZOFFSETTO:+0100
TZNAME:CET
DTSTART:20261025T010000
END:STANDARD
END:VTIMEZONE
BEGIN:VEVENT
DTSTART;TZID=Europe/Paris:20250517T110000
DTEND;TZID=Europe/Paris:20250518T010000
DTSTAMP:20260422T122145
CREATED:20250513T133855Z
LAST-MODIFIED:20250513T142008Z
UID:10001864-1747479600-1747530000@mdb-idf.org
SUMMARY:Parlons Vélo Massy 2025 - Fête du Vélo
DESCRIPTION:Parlons Vélo Massy 2025
URL:https://mdb-idf.org/evenement/parlons-velo-massy-2025-fete-du-velo/
LOCATION:Recyclerie Sportive de Massy\, Place Pierre Sémard\, Massy\, 91300\, France
CATEGORIES:Atelier / Conférence,Atelier de réparation,Bourse aux vélos,Family Fun,Marquage Bicycode,Réunion d'antenne,sensibilisation,Tests de vélo
ATTACH;FMTTYPE=image/jpeg:https://mdb-idf.org/wp-content/uploads/2025/05/2025-05-12_PVM2025_ven_sam_qrcode.jpg
END:VEVENT
BEGIN:VEVENT
DTSTART;VALUE=DATE:20240525
DTEND;VALUE=DATE:20240526
DTSTAMP:20260422T122145
CREATED:20240514T143233Z
LAST-MODIFIED:20240515T143050Z
UID:10000220-1716595200-1716681599@mdb-idf.org
SUMMARY:Parlons Vélo Massy 2024 / Journée du samedi 25 Mai : journée familiale et festive
DESCRIPTION:Parlons Vélo Massy est un rendez-vous annuel né d’un collectif regroupant la ville de Massy\, l’Agglomération Paris-Saclay\, la Recyclerie Sportive et MDB Massy. Cette année l’évènement abordera de nombreuses thématiques vélo par le biais de conférences et d’actions de sensibilisation pour toute la famille. La programmation de la 8ème édition s’étalera sur toute la semaine du 20 Mai et sera très bientôt dévoilée avec en point d’orgue le vendredi et ses tables rondes animées par des spécialistes reconnus du « système vélo » et en point de chute un moment convivial et festif le samedi 25 mai à la Recyclerie Sportive de Massy. \n  \nProgramme du samedi 25 mai : journée familiale et festive\nConférences animées par Juliana Ribeiro\, cheffe de projet vélo à la Communauté d’Agglomération Paris Saclay\n11 h : Comment se déplacer à vélo en famille ?\n11 h 45 : Comment voyager en train avec son vélo ? \navec la participation d’Erick Marchandise (CyclotransEurope) et de Valérie Malinge (SNCF Voyageurs / Dir. Générale Transilien) \nSite de l’événement : https://parlonsvelo-massy.org/
URL:https://mdb-idf.org/evenement/parlons-velo-massy-2024-journee-du-samedi-25-mai/
LOCATION:Recyclerie Sportive de Massy\, Place Pierre Sémard\, Massy\, 91300\, France
CATEGORIES:Atelier / Conférence,Family Fun
ATTACH;FMTTYPE=image/jpeg:https://mdb-idf.org/wp-content/uploads/2024/02/Affiche-PV24-.jpg
END:VEVENT
END:VCALENDAR