BEGIN:VCALENDAR
VERSION:2.0
PRODID:-//Mieux se Déplacer à Bicyclette - ECPv6.15.20//NONSGML v1.0//EN
CALSCALE:GREGORIAN
METHOD:PUBLISH
X-ORIGINAL-URL:https://mdb-idf.org
X-WR-CALDESC:Évènements pour Mieux se Déplacer à Bicyclette
REFRESH-INTERVAL;VALUE=DURATION:PT1H
X-Robots-Tag:noindex
X-PUBLISHED-TTL:PT1H
BEGIN:VTIMEZONE
TZID:Europe/Paris
BEGIN:DAYLIGHT
TZOFFSETFROM:+0100
TZOFFSETTO:+0200
TZNAME:CEST
DTSTART:20230326T010000
END:DAYLIGHT
BEGIN:STANDARD
TZOFFSETFROM:+0200
TZOFFSETTO:+0100
TZNAME:CET
DTSTART:20231029T010000
END:STANDARD
BEGIN:DAYLIGHT
TZOFFSETFROM:+0100
TZOFFSETTO:+0200
TZNAME:CEST
DTSTART:20240331T010000
END:DAYLIGHT
BEGIN:STANDARD
TZOFFSETFROM:+0200
TZOFFSETTO:+0100
TZNAME:CET
DTSTART:20241027T010000
END:STANDARD
BEGIN:DAYLIGHT
TZOFFSETFROM:+0100
TZOFFSETTO:+0200
TZNAME:CEST
DTSTART:20250330T010000
END:DAYLIGHT
BEGIN:STANDARD
TZOFFSETFROM:+0200
TZOFFSETTO:+0100
TZNAME:CET
DTSTART:20251026T010000
END:STANDARD
END:VTIMEZONE
BEGIN:VEVENT
DTSTART;TZID=Europe/Paris:20240908T140000
DTEND;TZID=Europe/Paris:20240908T170000
DTSTAMP:20260425T190659
CREATED:20240905T201935Z
LAST-MODIFIED:20240905T202141Z
UID:10000909-1725804000-1725814800@mdb-idf.org
SUMMARY:Bois-Co à Vélo - Atelier au Centre 72
DESCRIPTION:Besoin d’un conseil ou de regarder ensemble un souci sur votre biclou ? \nPassez nous voir au Centre 72 pour qu’on y jette un coup d’œil.
URL:https://mdb-idf.org/evenement/bois-co-a-velo-atelier-centre-72/
LOCATION:Centre 72\, 72 rue Victor Hugo\, Bois-Colombes\, 92270\, France
CATEGORIES:Atelier de réparation
ATTACH;FMTTYPE=image/jpeg:https://mdb-idf.org/wp-content/uploads/2024/09/IMG_9028.jpeg
END:VEVENT
BEGIN:VEVENT
DTSTART;TZID=Europe/Paris:20240907T100000
DTEND;TZID=Europe/Paris:20240907T130000
DTSTAMP:20260425T190659
CREATED:20240905T200253Z
LAST-MODIFIED:20240905T200253Z
UID:10000906-1725703200-1725714000@mdb-idf.org
SUMMARY:Bois-Co à Vélo - Atelier
DESCRIPTION:Besoin d’un conseil ou de regarder ensemble un souci sur votre biclou ? \nPassez nous voir à notre local au Centre Larribot\, 72 rue Charles Duflos à Bois-Colombes.
URL:https://mdb-idf.org/evenement/bois-co-a-velo-atelier/
LOCATION:Local Bois-Co à vélo / MDB Bois-Colombes\, 72 rue Charles Duflos\, Bois-Colombes\, 92270\, France
CATEGORIES:Atelier de réparation
END:VEVENT
BEGIN:VEVENT
DTSTART;TZID=Europe/Paris:20240616T100000
DTEND;TZID=Europe/Paris:20240616T120000
DTSTAMP:20260425T190659
CREATED:20240601T125907Z
LAST-MODIFIED:20240601T125907Z
UID:10000234-1718532000-1718539200@mdb-idf.org
SUMMARY:Bois-Colombes (92) : Balade mensuelle dans la ville
DESCRIPTION:Ouverte à toutes les personnes ayant un vélo et sachant déjà faire du vélo en ville.\nLes enfants sont bienvenu-e-s.\n\nAu départ nous pourrons vérifier la pression de vos pneus\, la hauteur de votre selle\, etc.\n\nNous emprunterons principalement l’itinéraire cyclable municipal\, en faisant une boucle dans Bois-Colombes. Le parcours fait 8 km\, ce qui se fait tranquillement en une bonne heure.\n\nRetour prévu vers 11h30 : verre de l’amitié et grignotages au local\n\nÉvénement gratuit.\n\n\nLocal de MDB Bois-Colombes
URL:https://mdb-idf.org/evenement/bois-colombes-92-balade-mensuelle-dans-la-ville/
LOCATION:Local Bois-Co à vélo / MDB Bois-Colombes\, 72 rue Charles Duflos\, Bois-Colombes\, 92270\, France
END:VEVENT
BEGIN:VEVENT
DTSTART;TZID=Europe/Paris:20240609T100000
DTEND;TZID=Europe/Paris:20240609T100000
DTSTAMP:20260425T190659
CREATED:20240526T151933Z
LAST-MODIFIED:20240529T070211Z
UID:10000230-1717927200-1717927200@mdb-idf.org
SUMMARY:La Petite Boucle en Musique (Colombes\, Argenteuil\, Bois-Colombes\, Asnières)
DESCRIPTION:Les Zuluberlus et Colombes à vélo presentent : La Petite Boucle en Musique le 9 Juin ! 🎶🚲☀️ \nGratuit et sans inscription ! \n\n10h00 : Départ Le Relax – 10 Rue Gabriel Péri\, 92700 Colombes\n12h00 : 1er Concert – She’s late – Le Musée Sauvage – 5 Rue Pierre Guienne\, 95100 Argenteuil\n14h00 : 2ème Concert – Cuarteo Cubano – Captain Fox – 16 Place Jean Mermoz\, 92270 Bois-Colombes\n16h00 : 3ème Concert – MDB Asnières – Halle Flachat – 14 Rue Henri Martin\, 92600 Asnières\n18h00 : 4ème Concert – Les Zuluberlus – Bourse du Travail – 27 Rue Saint Vincent\, 92700 Colombes\n\nVenez équipés de votre plus beau vélo pour un parcours riche d’étapes musicales !
URL:https://mdb-idf.org/evenement/la-petite-boucle-en-musique-2024/
LOCATION:Le Relax\, 10 Rue Gabriel Péri\, Colombes\, 92700\, France
CATEGORIES:Balade,Family Fun
ATTACH;FMTTYPE=image/png:https://mdb-idf.org/wp-content/uploads/2024/05/Boucle-en-Musique-Banner.png
END:VEVENT
BEGIN:VEVENT
DTSTART;TZID=Europe/Paris:20240309T173000
DTEND;TZID=Europe/Paris:20240309T220000
DTSTAMP:20260425T190659
CREATED:20240202T192846Z
LAST-MODIFIED:20240208T213135Z
UID:10000155-1710005400-1710021600@mdb-idf.org
SUMMARY:La Nuit du Vélo à Colombes
DESCRIPTION:Save the Date : La nuit du Vélo\, auparavant appelé « Nuit des Antennes »\, est un évènement coorganisé par les antennes MDB Asnières\, Bezons-Argenteuil\, Bois-Colombes\, Clichy et Colombes. \nAu programme : \n\nLe documentaire « Les roues de l’avenir » (1h06′)\nDébat avec Stein Van Oosteren\, auteur de “Pourquoi pas le vélo? Envie d’une France cyclable”\nDédicaces livres vélos avec le libraire « Au pays des Livres »\nApéro/repas participatif (à vos tourtes et salades !)\nEt de nombreuses animations avec la présence des antennes MDB du territoire Boucle Nord de Seine\n\nEntrée libre sous réserve d’inscription : bit.ly/nuit_du_velo
URL:https://mdb-idf.org/evenement/la-nuit-du-velo-a-colombes/
LOCATION:Tapis Rouge\, 9 rue de la Liberté\, Colombes\, 92700\, France
CATEGORIES:Ciné-débat
ATTACH;FMTTYPE=image/jpeg:https://mdb-idf.org/wp-content/uploads/2024/02/NuitduVeloaveclogoVille.jpg
END:VEVENT
END:VCALENDAR