BEGIN:VCALENDAR
VERSION:2.0
PRODID:-//Mieux se Déplacer à Bicyclette - ECPv6.15.20//NONSGML v1.0//EN
CALSCALE:GREGORIAN
METHOD:PUBLISH
X-ORIGINAL-URL:https://mdb-idf.org
X-WR-CALDESC:Évènements pour Mieux se Déplacer à Bicyclette
REFRESH-INTERVAL;VALUE=DURATION:PT1H
X-Robots-Tag:noindex
X-PUBLISHED-TTL:PT1H
BEGIN:VTIMEZONE
TZID:Europe/Paris
BEGIN:DAYLIGHT
TZOFFSETFROM:+0100
TZOFFSETTO:+0200
TZNAME:CEST
DTSTART:19760328T000000
END:DAYLIGHT
BEGIN:STANDARD
TZOFFSETFROM:+0200
TZOFFSETTO:+0100
TZNAME:CET
DTSTART:19760925T230000
END:STANDARD
BEGIN:DAYLIGHT
TZOFFSETFROM:+0100
TZOFFSETTO:+0200
TZNAME:CEST
DTSTART:19770403T010000
END:DAYLIGHT
BEGIN:STANDARD
TZOFFSETFROM:+0200
TZOFFSETTO:+0100
TZNAME:CET
DTSTART:19770925T010000
END:STANDARD
BEGIN:DAYLIGHT
TZOFFSETFROM:+0100
TZOFFSETTO:+0200
TZNAME:CEST
DTSTART:19780402T010000
END:DAYLIGHT
BEGIN:STANDARD
TZOFFSETFROM:+0200
TZOFFSETTO:+0100
TZNAME:CET
DTSTART:19781001T010000
END:STANDARD
BEGIN:DAYLIGHT
TZOFFSETFROM:+0100
TZOFFSETTO:+0200
TZNAME:CEST
DTSTART:19790401T010000
END:DAYLIGHT
BEGIN:STANDARD
TZOFFSETFROM:+0200
TZOFFSETTO:+0100
TZNAME:CET
DTSTART:19790930T010000
END:STANDARD
BEGIN:DAYLIGHT
TZOFFSETFROM:+0100
TZOFFSETTO:+0200
TZNAME:CEST
DTSTART:19800406T010000
END:DAYLIGHT
BEGIN:STANDARD
TZOFFSETFROM:+0200
TZOFFSETTO:+0100
TZNAME:CET
DTSTART:19800928T010000
END:STANDARD
BEGIN:DAYLIGHT
TZOFFSETFROM:+0100
TZOFFSETTO:+0200
TZNAME:CEST
DTSTART:19810329T010000
END:DAYLIGHT
BEGIN:STANDARD
TZOFFSETFROM:+0200
TZOFFSETTO:+0100
TZNAME:CET
DTSTART:19810927T010000
END:STANDARD
BEGIN:DAYLIGHT
TZOFFSETFROM:+0100
TZOFFSETTO:+0200
TZNAME:CEST
DTSTART:19820328T010000
END:DAYLIGHT
BEGIN:STANDARD
TZOFFSETFROM:+0200
TZOFFSETTO:+0100
TZNAME:CET
DTSTART:19820926T010000
END:STANDARD
BEGIN:DAYLIGHT
TZOFFSETFROM:+0100
TZOFFSETTO:+0200
TZNAME:CEST
DTSTART:19830327T010000
END:DAYLIGHT
BEGIN:STANDARD
TZOFFSETFROM:+0200
TZOFFSETTO:+0100
TZNAME:CET
DTSTART:19830925T010000
END:STANDARD
BEGIN:DAYLIGHT
TZOFFSETFROM:+0100
TZOFFSETTO:+0200
TZNAME:CEST
DTSTART:19840325T010000
END:DAYLIGHT
BEGIN:STANDARD
TZOFFSETFROM:+0200
TZOFFSETTO:+0100
TZNAME:CET
DTSTART:19840930T010000
END:STANDARD
BEGIN:DAYLIGHT
TZOFFSETFROM:+0100
TZOFFSETTO:+0200
TZNAME:CEST
DTSTART:19850331T010000
END:DAYLIGHT
BEGIN:STANDARD
TZOFFSETFROM:+0200
TZOFFSETTO:+0100
TZNAME:CET
DTSTART:19850929T010000
END:STANDARD
BEGIN:DAYLIGHT
TZOFFSETFROM:+0100
TZOFFSETTO:+0200
TZNAME:CEST
DTSTART:19860330T010000
END:DAYLIGHT
BEGIN:STANDARD
TZOFFSETFROM:+0200
TZOFFSETTO:+0100
TZNAME:CET
DTSTART:19860928T010000
END:STANDARD
BEGIN:DAYLIGHT
TZOFFSETFROM:+0100
TZOFFSETTO:+0200
TZNAME:CEST
DTSTART:19870329T010000
END:DAYLIGHT
BEGIN:STANDARD
TZOFFSETFROM:+0200
TZOFFSETTO:+0100
TZNAME:CET
DTSTART:19870927T010000
END:STANDARD
BEGIN:DAYLIGHT
TZOFFSETFROM:+0100
TZOFFSETTO:+0200
TZNAME:CEST
DTSTART:19880327T010000
END:DAYLIGHT
BEGIN:STANDARD
TZOFFSETFROM:+0200
TZOFFSETTO:+0100
TZNAME:CET
DTSTART:19880925T010000
END:STANDARD
BEGIN:DAYLIGHT
TZOFFSETFROM:+0100
TZOFFSETTO:+0200
TZNAME:CEST
DTSTART:19890326T010000
END:DAYLIGHT
BEGIN:STANDARD
TZOFFSETFROM:+0200
TZOFFSETTO:+0100
TZNAME:CET
DTSTART:19890924T010000
END:STANDARD
BEGIN:DAYLIGHT
TZOFFSETFROM:+0100
TZOFFSETTO:+0200
TZNAME:CEST
DTSTART:19900325T010000
END:DAYLIGHT
BEGIN:STANDARD
TZOFFSETFROM:+0200
TZOFFSETTO:+0100
TZNAME:CET
DTSTART:19900930T010000
END:STANDARD
BEGIN:DAYLIGHT
TZOFFSETFROM:+0100
TZOFFSETTO:+0200
TZNAME:CEST
DTSTART:19910331T010000
END:DAYLIGHT
BEGIN:STANDARD
TZOFFSETFROM:+0200
TZOFFSETTO:+0100
TZNAME:CET
DTSTART:19910929T010000
END:STANDARD
BEGIN:DAYLIGHT
TZOFFSETFROM:+0100
TZOFFSETTO:+0200
TZNAME:CEST
DTSTART:19920329T010000
END:DAYLIGHT
BEGIN:STANDARD
TZOFFSETFROM:+0200
TZOFFSETTO:+0100
TZNAME:CET
DTSTART:19920927T010000
END:STANDARD
BEGIN:DAYLIGHT
TZOFFSETFROM:+0100
TZOFFSETTO:+0200
TZNAME:CEST
DTSTART:19930328T010000
END:DAYLIGHT
BEGIN:STANDARD
TZOFFSETFROM:+0200
TZOFFSETTO:+0100
TZNAME:CET
DTSTART:19930926T010000
END:STANDARD
BEGIN:DAYLIGHT
TZOFFSETFROM:+0100
TZOFFSETTO:+0200
TZNAME:CEST
DTSTART:19940327T010000
END:DAYLIGHT
BEGIN:STANDARD
TZOFFSETFROM:+0200
TZOFFSETTO:+0100
TZNAME:CET
DTSTART:19940925T010000
END:STANDARD
BEGIN:DAYLIGHT
TZOFFSETFROM:+0100
TZOFFSETTO:+0200
TZNAME:CEST
DTSTART:19950326T010000
END:DAYLIGHT
BEGIN:STANDARD
TZOFFSETFROM:+0200
TZOFFSETTO:+0100
TZNAME:CET
DTSTART:19950924T010000
END:STANDARD
BEGIN:DAYLIGHT
TZOFFSETFROM:+0100
TZOFFSETTO:+0200
TZNAME:CEST
DTSTART:19960331T010000
END:DAYLIGHT
BEGIN:STANDARD
TZOFFSETFROM:+0200
TZOFFSETTO:+0100
TZNAME:CET
DTSTART:19961027T010000
END:STANDARD
BEGIN:DAYLIGHT
TZOFFSETFROM:+0100
TZOFFSETTO:+0200
TZNAME:CEST
DTSTART:19970330T010000
END:DAYLIGHT
BEGIN:STANDARD
TZOFFSETFROM:+0200
TZOFFSETTO:+0100
TZNAME:CET
DTSTART:19971026T010000
END:STANDARD
BEGIN:DAYLIGHT
TZOFFSETFROM:+0100
TZOFFSETTO:+0200
TZNAME:CEST
DTSTART:19980329T010000
END:DAYLIGHT
BEGIN:STANDARD
TZOFFSETFROM:+0200
TZOFFSETTO:+0100
TZNAME:CET
DTSTART:19981025T010000
END:STANDARD
BEGIN:DAYLIGHT
TZOFFSETFROM:+0100
TZOFFSETTO:+0200
TZNAME:CEST
DTSTART:19990328T010000
END:DAYLIGHT
BEGIN:STANDARD
TZOFFSETFROM:+0200
TZOFFSETTO:+0100
TZNAME:CET
DTSTART:19991031T010000
END:STANDARD
BEGIN:DAYLIGHT
TZOFFSETFROM:+0100
TZOFFSETTO:+0200
TZNAME:CEST
DTSTART:20000326T010000
END:DAYLIGHT
BEGIN:STANDARD
TZOFFSETFROM:+0200
TZOFFSETTO:+0100
TZNAME:CET
DTSTART:20001029T010000
END:STANDARD
BEGIN:DAYLIGHT
TZOFFSETFROM:+0100
TZOFFSETTO:+0200
TZNAME:CEST
DTSTART:20010325T010000
END:DAYLIGHT
BEGIN:STANDARD
TZOFFSETFROM:+0200
TZOFFSETTO:+0100
TZNAME:CET
DTSTART:20011028T010000
END:STANDARD
BEGIN:DAYLIGHT
TZOFFSETFROM:+0100
TZOFFSETTO:+0200
TZNAME:CEST
DTSTART:20020331T010000
END:DAYLIGHT
BEGIN:STANDARD
TZOFFSETFROM:+0200
TZOFFSETTO:+0100
TZNAME:CET
DTSTART:20021027T010000
END:STANDARD
BEGIN:DAYLIGHT
TZOFFSETFROM:+0100
TZOFFSETTO:+0200
TZNAME:CEST
DTSTART:20030330T010000
END:DAYLIGHT
BEGIN:STANDARD
TZOFFSETFROM:+0200
TZOFFSETTO:+0100
TZNAME:CET
DTSTART:20031026T010000
END:STANDARD
BEGIN:DAYLIGHT
TZOFFSETFROM:+0100
TZOFFSETTO:+0200
TZNAME:CEST
DTSTART:20040328T010000
END:DAYLIGHT
BEGIN:STANDARD
TZOFFSETFROM:+0200
TZOFFSETTO:+0100
TZNAME:CET
DTSTART:20041031T010000
END:STANDARD
BEGIN:DAYLIGHT
TZOFFSETFROM:+0100
TZOFFSETTO:+0200
TZNAME:CEST
DTSTART:20050327T010000
END:DAYLIGHT
BEGIN:STANDARD
TZOFFSETFROM:+0200
TZOFFSETTO:+0100
TZNAME:CET
DTSTART:20051030T010000
END:STANDARD
BEGIN:DAYLIGHT
TZOFFSETFROM:+0100
TZOFFSETTO:+0200
TZNAME:CEST
DTSTART:20060326T010000
END:DAYLIGHT
BEGIN:STANDARD
TZOFFSETFROM:+0200
TZOFFSETTO:+0100
TZNAME:CET
DTSTART:20061029T010000
END:STANDARD
BEGIN:DAYLIGHT
TZOFFSETFROM:+0100
TZOFFSETTO:+0200
TZNAME:CEST
DTSTART:20070325T010000
END:DAYLIGHT
BEGIN:STANDARD
TZOFFSETFROM:+0200
TZOFFSETTO:+0100
TZNAME:CET
DTSTART:20071028T010000
END:STANDARD
BEGIN:DAYLIGHT
TZOFFSETFROM:+0100
TZOFFSETTO:+0200
TZNAME:CEST
DTSTART:20080330T010000
END:DAYLIGHT
BEGIN:STANDARD
TZOFFSETFROM:+0200
TZOFFSETTO:+0100
TZNAME:CET
DTSTART:20081026T010000
END:STANDARD
BEGIN:DAYLIGHT
TZOFFSETFROM:+0100
TZOFFSETTO:+0200
TZNAME:CEST
DTSTART:20090329T010000
END:DAYLIGHT
BEGIN:STANDARD
TZOFFSETFROM:+0200
TZOFFSETTO:+0100
TZNAME:CET
DTSTART:20091025T010000
END:STANDARD
BEGIN:DAYLIGHT
TZOFFSETFROM:+0100
TZOFFSETTO:+0200
TZNAME:CEST
DTSTART:20100328T010000
END:DAYLIGHT
BEGIN:STANDARD
TZOFFSETFROM:+0200
TZOFFSETTO:+0100
TZNAME:CET
DTSTART:20101031T010000
END:STANDARD
BEGIN:DAYLIGHT
TZOFFSETFROM:+0100
TZOFFSETTO:+0200
TZNAME:CEST
DTSTART:20110327T010000
END:DAYLIGHT
BEGIN:STANDARD
TZOFFSETFROM:+0200
TZOFFSETTO:+0100
TZNAME:CET
DTSTART:20111030T010000
END:STANDARD
BEGIN:DAYLIGHT
TZOFFSETFROM:+0100
TZOFFSETTO:+0200
TZNAME:CEST
DTSTART:20120325T010000
END:DAYLIGHT
BEGIN:STANDARD
TZOFFSETFROM:+0200
TZOFFSETTO:+0100
TZNAME:CET
DTSTART:20121028T010000
END:STANDARD
BEGIN:DAYLIGHT
TZOFFSETFROM:+0100
TZOFFSETTO:+0200
TZNAME:CEST
DTSTART:20130331T010000
END:DAYLIGHT
BEGIN:STANDARD
TZOFFSETFROM:+0200
TZOFFSETTO:+0100
TZNAME:CET
DTSTART:20131027T010000
END:STANDARD
BEGIN:DAYLIGHT
TZOFFSETFROM:+0100
TZOFFSETTO:+0200
TZNAME:CEST
DTSTART:20140330T010000
END:DAYLIGHT
BEGIN:STANDARD
TZOFFSETFROM:+0200
TZOFFSETTO:+0100
TZNAME:CET
DTSTART:20141026T010000
END:STANDARD
BEGIN:DAYLIGHT
TZOFFSETFROM:+0100
TZOFFSETTO:+0200
TZNAME:CEST
DTSTART:20150329T010000
END:DAYLIGHT
BEGIN:STANDARD
TZOFFSETFROM:+0200
TZOFFSETTO:+0100
TZNAME:CET
DTSTART:20151025T010000
END:STANDARD
BEGIN:DAYLIGHT
TZOFFSETFROM:+0100
TZOFFSETTO:+0200
TZNAME:CEST
DTSTART:20160327T010000
END:DAYLIGHT
BEGIN:STANDARD
TZOFFSETFROM:+0200
TZOFFSETTO:+0100
TZNAME:CET
DTSTART:20161030T010000
END:STANDARD
BEGIN:DAYLIGHT
TZOFFSETFROM:+0100
TZOFFSETTO:+0200
TZNAME:CEST
DTSTART:20170326T010000
END:DAYLIGHT
BEGIN:STANDARD
TZOFFSETFROM:+0200
TZOFFSETTO:+0100
TZNAME:CET
DTSTART:20171029T010000
END:STANDARD
BEGIN:DAYLIGHT
TZOFFSETFROM:+0100
TZOFFSETTO:+0200
TZNAME:CEST
DTSTART:20180325T010000
END:DAYLIGHT
BEGIN:STANDARD
TZOFFSETFROM:+0200
TZOFFSETTO:+0100
TZNAME:CET
DTSTART:20181028T010000
END:STANDARD
BEGIN:DAYLIGHT
TZOFFSETFROM:+0100
TZOFFSETTO:+0200
TZNAME:CEST
DTSTART:20190331T010000
END:DAYLIGHT
BEGIN:STANDARD
TZOFFSETFROM:+0200
TZOFFSETTO:+0100
TZNAME:CET
DTSTART:20191027T010000
END:STANDARD
BEGIN:DAYLIGHT
TZOFFSETFROM:+0100
TZOFFSETTO:+0200
TZNAME:CEST
DTSTART:20200329T010000
END:DAYLIGHT
BEGIN:STANDARD
TZOFFSETFROM:+0200
TZOFFSETTO:+0100
TZNAME:CET
DTSTART:20201025T010000
END:STANDARD
BEGIN:DAYLIGHT
TZOFFSETFROM:+0100
TZOFFSETTO:+0200
TZNAME:CEST
DTSTART:20210328T010000
END:DAYLIGHT
BEGIN:STANDARD
TZOFFSETFROM:+0200
TZOFFSETTO:+0100
TZNAME:CET
DTSTART:20211031T010000
END:STANDARD
BEGIN:DAYLIGHT
TZOFFSETFROM:+0100
TZOFFSETTO:+0200
TZNAME:CEST
DTSTART:20220327T010000
END:DAYLIGHT
BEGIN:STANDARD
TZOFFSETFROM:+0200
TZOFFSETTO:+0100
TZNAME:CET
DTSTART:20221030T010000
END:STANDARD
BEGIN:DAYLIGHT
TZOFFSETFROM:+0100
TZOFFSETTO:+0200
TZNAME:CEST
DTSTART:20230326T010000
END:DAYLIGHT
BEGIN:STANDARD
TZOFFSETFROM:+0200
TZOFFSETTO:+0100
TZNAME:CET
DTSTART:20231029T010000
END:STANDARD
BEGIN:DAYLIGHT
TZOFFSETFROM:+0100
TZOFFSETTO:+0200
TZNAME:CEST
DTSTART:20240331T010000
END:DAYLIGHT
BEGIN:STANDARD
TZOFFSETFROM:+0200
TZOFFSETTO:+0100
TZNAME:CET
DTSTART:20241027T010000
END:STANDARD
BEGIN:DAYLIGHT
TZOFFSETFROM:+0100
TZOFFSETTO:+0200
TZNAME:CEST
DTSTART:20250330T010000
END:DAYLIGHT
BEGIN:STANDARD
TZOFFSETFROM:+0200
TZOFFSETTO:+0100
TZNAME:CET
DTSTART:20251026T010000
END:STANDARD
BEGIN:DAYLIGHT
TZOFFSETFROM:+0100
TZOFFSETTO:+0200
TZNAME:CEST
DTSTART:20260329T010000
END:DAYLIGHT
BEGIN:STANDARD
TZOFFSETFROM:+0200
TZOFFSETTO:+0100
TZNAME:CET
DTSTART:20261025T010000
END:STANDARD
END:VTIMEZONE
BEGIN:VEVENT
DTSTART;TZID=Europe/Paris:20241218T100000
DTEND;TZID=Europe/Paris:20241218T110000
DTSTAMP:20260421T162451
CREATED:20241218T155450Z
LAST-MODIFIED:20241218T155450Z
UID:10001573-1734516000-1734519600@mdb-idf.org
SUMMARY:Vélo-école adultes à Bures/Yvette
DESCRIPTION:Il n’y a pas d’âge pour apprendre à faire du vélo.\nVenez vous rencontrer les samedis matin de 10h à 11h\, nous sommes des bénévoles de l’association MDB et on vous aide à apprendre à faire du vélo.\nDe la recherche de l’équilibre jusqu’à la sécurité sur la route nous vous aiderons à prendre confiance et aussi du plaisir à vélo. \nReprise des séances samedi 11 janvier 2025
URL:https://mdb-idf.org/evenement/velo-ecole-adultes-a-bures-yvette-2/2024-12-18/
LOCATION:Terrain de sport en face de l’école élémentaire de la Guyonnerie Rue du docteur Collé Bures/Yvette\, Ecole élémentaire Guyonnerei\, Bures/Yvette\, 91440\, France
CATEGORIES:Vélo-école
ATTACH;FMTTYPE=image/png:https://mdb-idf.org/wp-content/uploads/2024/10/Velo-ecole-Bures.png
ORGANIZER;CN="MDB V%C3%A9lo %C3%A0 Bures":MAILTO:velo-a-bures@mdb-idf.org
END:VEVENT
BEGIN:VEVENT
DTSTART;TZID=Europe/Paris:20241214T100000
DTEND;TZID=Europe/Paris:20241214T110000
DTSTAMP:20260421T162451
CREATED:20241022T085527Z
LAST-MODIFIED:20241022T085527Z
UID:10001490-1734170400-1734174000@mdb-idf.org
SUMMARY:Vélo-école adultes à Bures/Yvette
DESCRIPTION:Il n’y a pas d’âge pour apprendre à faire du vélo.\nVenez vous rencontrer les samedis matin de 10h à 11h\, nous sommes des bénévoles de l’association MDB et on vous aide à apprendre à faire du vélo.\nDe la recherche de l’équilibre jusqu’à la sécurité sur la route nous vous aiderons à prendre confiance et aussi du plaisir à vélo.
URL:https://mdb-idf.org/evenement/velo-ecole-adultes-a-bures-yvette/2024-12-14/
LOCATION:Terrain de sport en face de l’école élémentaire de la Guyonnerie Rue du docteur Collé Bures/Yvette\, Ecole élémentaire Guyonnerei\, Bures/Yvette\, 91440\, France
CATEGORIES:Vélo-école
ATTACH;FMTTYPE=image/png:https://mdb-idf.org/wp-content/uploads/2024/10/Velo-ecole-Bures.png
ORGANIZER;CN="MDB V%C3%A9lo %C3%A0 Bures":MAILTO:velo-a-bures@mdb-idf.org
END:VEVENT
BEGIN:VEVENT
DTSTART;TZID=Europe/Paris:20241207T170000
DTEND;TZID=Europe/Paris:20241207T190000
DTSTAMP:20260421T162451
CREATED:20241022T092327Z
LAST-MODIFIED:20241125T162520Z
UID:10001494-1733590800-1733598000@mdb-idf.org
SUMMARY:Parade lumineuse à plusieurs villes autour de Bures
DESCRIPTION:Cyclistes brillez ! \nApportez vos guirlandes lumineuses et décorons ensemble vos vélos avant de partir en convoi jusqu’à Gif pour cortège avec les cyclistes des villes voisines et terminer la parade festive et lumineuses au marché de Noël de Bures autour d’une boisson chaude
URL:https://mdb-idf.org/evenement/parade-lumineuse-a-plusieurs-ville-autour-de-bures/
LOCATION:Maison de l’écologie et de la transition\, Rue descartes\, Bures sur Yvette\, 91440\, France
CATEGORIES:Balade
ATTACH;FMTTYPE=image/png:https://mdb-idf.org/wp-content/uploads/2024/10/2024-parade.png
ORGANIZER;CN="MDB V%C3%A9lo %C3%A0 Bures":MAILTO:velo-a-bures@mdb-idf.org
END:VEVENT
BEGIN:VEVENT
DTSTART;TZID=Europe/Paris:20241207T100000
DTEND;TZID=Europe/Paris:20241207T110000
DTSTAMP:20260421T162451
CREATED:20241022T085527Z
LAST-MODIFIED:20241022T085527Z
UID:10001489-1733565600-1733569200@mdb-idf.org
SUMMARY:Vélo-école adultes à Bures/Yvette
DESCRIPTION:Il n’y a pas d’âge pour apprendre à faire du vélo.\nVenez vous rencontrer les samedis matin de 10h à 11h\, nous sommes des bénévoles de l’association MDB et on vous aide à apprendre à faire du vélo.\nDe la recherche de l’équilibre jusqu’à la sécurité sur la route nous vous aiderons à prendre confiance et aussi du plaisir à vélo.
URL:https://mdb-idf.org/evenement/velo-ecole-adultes-a-bures-yvette/2024-12-07/
LOCATION:Terrain de sport en face de l’école élémentaire de la Guyonnerie Rue du docteur Collé Bures/Yvette\, Ecole élémentaire Guyonnerei\, Bures/Yvette\, 91440\, France
CATEGORIES:Vélo-école
ATTACH;FMTTYPE=image/png:https://mdb-idf.org/wp-content/uploads/2024/10/Velo-ecole-Bures.png
ORGANIZER;CN="MDB V%C3%A9lo %C3%A0 Bures":MAILTO:velo-a-bures@mdb-idf.org
END:VEVENT
BEGIN:VEVENT
DTSTART;TZID=Europe/Paris:20241130T100000
DTEND;TZID=Europe/Paris:20241130T110000
DTSTAMP:20260421T162451
CREATED:20241022T085527Z
LAST-MODIFIED:20241022T085527Z
UID:10001488-1732960800-1732964400@mdb-idf.org
SUMMARY:Vélo-école adultes à Bures/Yvette
DESCRIPTION:Il n’y a pas d’âge pour apprendre à faire du vélo.\nVenez vous rencontrer les samedis matin de 10h à 11h\, nous sommes des bénévoles de l’association MDB et on vous aide à apprendre à faire du vélo.\nDe la recherche de l’équilibre jusqu’à la sécurité sur la route nous vous aiderons à prendre confiance et aussi du plaisir à vélo.
URL:https://mdb-idf.org/evenement/velo-ecole-adultes-a-bures-yvette/2024-11-30/
LOCATION:Terrain de sport en face de l’école élémentaire de la Guyonnerie Rue du docteur Collé Bures/Yvette\, Ecole élémentaire Guyonnerei\, Bures/Yvette\, 91440\, France
CATEGORIES:Vélo-école
ATTACH;FMTTYPE=image/png:https://mdb-idf.org/wp-content/uploads/2024/10/Velo-ecole-Bures.png
ORGANIZER;CN="MDB V%C3%A9lo %C3%A0 Bures":MAILTO:velo-a-bures@mdb-idf.org
END:VEVENT
BEGIN:VEVENT
DTSTART;TZID=Europe/Paris:20241123T100000
DTEND;TZID=Europe/Paris:20241123T110000
DTSTAMP:20260421T162451
CREATED:20241022T085527Z
LAST-MODIFIED:20241022T085527Z
UID:10001487-1732356000-1732359600@mdb-idf.org
SUMMARY:Vélo-école adultes à Bures/Yvette
DESCRIPTION:Il n’y a pas d’âge pour apprendre à faire du vélo.\nVenez vous rencontrer les samedis matin de 10h à 11h\, nous sommes des bénévoles de l’association MDB et on vous aide à apprendre à faire du vélo.\nDe la recherche de l’équilibre jusqu’à la sécurité sur la route nous vous aiderons à prendre confiance et aussi du plaisir à vélo.
URL:https://mdb-idf.org/evenement/velo-ecole-adultes-a-bures-yvette/2024-11-23/
LOCATION:Terrain de sport en face de l’école élémentaire de la Guyonnerie Rue du docteur Collé Bures/Yvette\, Ecole élémentaire Guyonnerei\, Bures/Yvette\, 91440\, France
CATEGORIES:Vélo-école
ATTACH;FMTTYPE=image/png:https://mdb-idf.org/wp-content/uploads/2024/10/Velo-ecole-Bures.png
ORGANIZER;CN="MDB V%C3%A9lo %C3%A0 Bures":MAILTO:velo-a-bures@mdb-idf.org
END:VEVENT
BEGIN:VEVENT
DTSTART;TZID=Europe/Paris:20241116T100000
DTEND;TZID=Europe/Paris:20241116T110000
DTSTAMP:20260421T162451
CREATED:20241022T085527Z
LAST-MODIFIED:20241022T085527Z
UID:10001486-1731751200-1731754800@mdb-idf.org
SUMMARY:Vélo-école adultes à Bures/Yvette
DESCRIPTION:Il n’y a pas d’âge pour apprendre à faire du vélo.\nVenez vous rencontrer les samedis matin de 10h à 11h\, nous sommes des bénévoles de l’association MDB et on vous aide à apprendre à faire du vélo.\nDe la recherche de l’équilibre jusqu’à la sécurité sur la route nous vous aiderons à prendre confiance et aussi du plaisir à vélo.
URL:https://mdb-idf.org/evenement/velo-ecole-adultes-a-bures-yvette/2024-11-16/
LOCATION:Terrain de sport en face de l’école élémentaire de la Guyonnerie Rue du docteur Collé Bures/Yvette\, Ecole élémentaire Guyonnerei\, Bures/Yvette\, 91440\, France
CATEGORIES:Vélo-école
ATTACH;FMTTYPE=image/png:https://mdb-idf.org/wp-content/uploads/2024/10/Velo-ecole-Bures.png
ORGANIZER;CN="MDB V%C3%A9lo %C3%A0 Bures":MAILTO:velo-a-bures@mdb-idf.org
END:VEVENT
BEGIN:VEVENT
DTSTART;TZID=Europe/Paris:20241109T140000
DTEND;TZID=Europe/Paris:20241109T170000
DTSTAMP:20260421T162451
CREATED:20241022T090732Z
LAST-MODIFIED:20241022T090732Z
UID:10001493-1731160800-1731171600@mdb-idf.org
SUMMARY:Découvertes à vélo au départ de Bures/Yvette
DESCRIPTION:Balade encadrée\, ouverte à toutes et tous. \nEnsemble nous découvrirons comment aller à vélo au nouvel hôpital du plateau\, à la recyclerie de Saclay\, à la piscine Omega de Gif Moulon. On fera une boucle de 20 km à l’allure tranquille.
URL:https://mdb-idf.org/evenement/decouvertes-a-velo-au-depart-de-bures-yvette/
LOCATION:Maison de l’écologie et de la transition\, Rue descartes\, Bures sur Yvette\, 91440\, France
CATEGORIES:Balade
ATTACH;FMTTYPE=image/png:https://mdb-idf.org/wp-content/uploads/2024/10/2024-11-plateau.png
ORGANIZER;CN="MDB V%C3%A9lo %C3%A0 Bures":MAILTO:velo-a-bures@mdb-idf.org
END:VEVENT
BEGIN:VEVENT
DTSTART;TZID=Europe/Paris:20241109T100000
DTEND;TZID=Europe/Paris:20241109T110000
DTSTAMP:20260421T162451
CREATED:20241022T085527Z
LAST-MODIFIED:20241022T085527Z
UID:10001485-1731146400-1731150000@mdb-idf.org
SUMMARY:Vélo-école adultes à Bures/Yvette
DESCRIPTION:Il n’y a pas d’âge pour apprendre à faire du vélo.\nVenez vous rencontrer les samedis matin de 10h à 11h\, nous sommes des bénévoles de l’association MDB et on vous aide à apprendre à faire du vélo.\nDe la recherche de l’équilibre jusqu’à la sécurité sur la route nous vous aiderons à prendre confiance et aussi du plaisir à vélo.
URL:https://mdb-idf.org/evenement/velo-ecole-adultes-a-bures-yvette/2024-11-09/
LOCATION:Terrain de sport en face de l’école élémentaire de la Guyonnerie Rue du docteur Collé Bures/Yvette\, Ecole élémentaire Guyonnerei\, Bures/Yvette\, 91440\, France
CATEGORIES:Vélo-école
ATTACH;FMTTYPE=image/png:https://mdb-idf.org/wp-content/uploads/2024/10/Velo-ecole-Bures.png
ORGANIZER;CN="MDB V%C3%A9lo %C3%A0 Bures":MAILTO:velo-a-bures@mdb-idf.org
END:VEVENT
BEGIN:VEVENT
DTSTART;TZID=Europe/Paris:20241102T100000
DTEND;TZID=Europe/Paris:20241102T110000
DTSTAMP:20260421T162451
CREATED:20241022T085527Z
LAST-MODIFIED:20241022T085527Z
UID:10001484-1730541600-1730545200@mdb-idf.org
SUMMARY:Vélo-école adultes à Bures/Yvette
DESCRIPTION:Il n’y a pas d’âge pour apprendre à faire du vélo.\nVenez vous rencontrer les samedis matin de 10h à 11h\, nous sommes des bénévoles de l’association MDB et on vous aide à apprendre à faire du vélo.\nDe la recherche de l’équilibre jusqu’à la sécurité sur la route nous vous aiderons à prendre confiance et aussi du plaisir à vélo.
URL:https://mdb-idf.org/evenement/velo-ecole-adultes-a-bures-yvette/2024-11-02/
LOCATION:Terrain de sport en face de l’école élémentaire de la Guyonnerie Rue du docteur Collé Bures/Yvette\, Ecole élémentaire Guyonnerei\, Bures/Yvette\, 91440\, France
CATEGORIES:Vélo-école
ATTACH;FMTTYPE=image/png:https://mdb-idf.org/wp-content/uploads/2024/10/Velo-ecole-Bures.png
ORGANIZER;CN="MDB V%C3%A9lo %C3%A0 Bures":MAILTO:velo-a-bures@mdb-idf.org
END:VEVENT
BEGIN:VEVENT
DTSTART;TZID=Europe/Paris:20241026T100000
DTEND;TZID=Europe/Paris:20241026T110000
DTSTAMP:20260421T162451
CREATED:20241022T085527Z
LAST-MODIFIED:20241022T085527Z
UID:10001482-1729936800-1729940400@mdb-idf.org
SUMMARY:Vélo-école adultes à Bures/Yvette
DESCRIPTION:Il n’y a pas d’âge pour apprendre à faire du vélo.\nVenez vous rencontrer les samedis matin de 10h à 11h\, nous sommes des bénévoles de l’association MDB et on vous aide à apprendre à faire du vélo.\nDe la recherche de l’équilibre jusqu’à la sécurité sur la route nous vous aiderons à prendre confiance et aussi du plaisir à vélo.
URL:https://mdb-idf.org/evenement/velo-ecole-adultes-a-bures-yvette/2024-10-26/
LOCATION:Terrain de sport en face de l’école élémentaire de la Guyonnerie Rue du docteur Collé Bures/Yvette\, Ecole élémentaire Guyonnerei\, Bures/Yvette\, 91440\, France
CATEGORIES:Vélo-école
ATTACH;FMTTYPE=image/png:https://mdb-idf.org/wp-content/uploads/2024/10/Velo-ecole-Bures.png
ORGANIZER;CN="MDB V%C3%A9lo %C3%A0 Bures":MAILTO:velo-a-bures@mdb-idf.org
END:VEVENT
BEGIN:VEVENT
DTSTART;TZID=Europe/Paris:20240504T140000
DTEND;TZID=Europe/Paris:20240504T170000
DTSTAMP:20260421T162451
CREATED:20240501T065906Z
LAST-MODIFIED:20240501T065906Z
UID:10000213-1714831200-1714842000@mdb-idf.org
SUMMARY:Balade au départ de Bures/Yvette
DESCRIPTION:Jolie boucle de 30 km pour découvrir de nouveaux itinéraires vers Châteaufort. \nLa balade est ouverte à tous\, on cherche à prendre les voies cyclables au maximum. \nL’allure est tranquille\, et le groupe est encadré par les bénévoles de MDB vélo à Bures.
URL:https://mdb-idf.org/evenement/balade-au-depart-de-bures-yvette/
LOCATION:Maison de l’écologie et de la transition\, Rue descartes\, Bures sur Yvette\, 91440\, France
CATEGORIES:Balade
ATTACH;FMTTYPE=image/jpeg:https://mdb-idf.org/wp-content/uploads/2024/05/baladeMai24-copie.jpg
ORGANIZER;CN="MDB V%C3%A9lo %C3%A0 Bures":MAILTO:velo-a-bures@mdb-idf.org
END:VEVENT
BEGIN:VEVENT
DTSTART;TZID=Europe/Paris:20240427T110000
DTEND;TZID=Europe/Paris:20240427T123000
DTSTAMP:20260421T162451
CREATED:20240416T184141Z
LAST-MODIFIED:20240416T184141Z
UID:10000198-1714215600-1714221000@mdb-idf.org
SUMMARY:Marquage bicycode et atelier vélo à Bures/Yvette
DESCRIPTION:Nous organisons à Bures/Yvette une séance de marquage bicycode en même temps qu’un atelier d’aide à la réparation vélo \nTarif marquage  : 10 euros\, en espèce uniquement\, gratuit pour les adhérents pour 1 marquage par an\nAstuce : adhérez en ligne avant le rendez-vous !\nPièces à prévoir : pièce d’identité + preuve d’achat du vélo s’il est neuf + clé pour retirer la batterie s’il s’agit d’un VAE\nÀ noter qu’il n’est pas possible de marquer les vélos chromés\, en titane ou en carbone. Par ailleurs\, il existe un risque que la gravure abîme la peinture du vélo\, sur six centimètres de longueur.
URL:https://mdb-idf.org/evenement/marquage-bicycode-et-atelier-velo-a-bures-yvette/
LOCATION:marché de Bures/YVette\, rue charles de Gaulle\, Bures sur Yvette\, 91440\, France
CATEGORIES:Atelier de réparation
ATTACH;FMTTYPE=image/jpeg:https://mdb-idf.org/wp-content/uploads/2024/04/2024-avril-Marquage-et-Atelier-copie.jpg
ORGANIZER;CN="MDB V%C3%A9lo %C3%A0 Bures":MAILTO:velo-a-bures@mdb-idf.org
END:VEVENT
BEGIN:VEVENT
DTSTART;TZID=Europe/Paris:20240210T140000
DTEND;TZID=Europe/Paris:20240210T160000
DTSTAMP:20260421T162451
CREATED:20240117T135948Z
LAST-MODIFIED:20240118T074239Z
UID:10000147-1707573600-1707580800@mdb-idf.org
SUMMARY:Bures-sur-Yvette - Atelier de réparation
DESCRIPTION:On vous aide à réparer votre vélo à Bures/Yvette \n \nDes mécanos bénévoles seront là pour vous aider à réparer votre vélo\, celui de vos enfants\, pour la sécurité de tous !\nApportez vos consommables (patin de frein\, chaine…)
URL:https://mdb-idf.org/evenement/bures-sur-yvette-atelier-de-reparation/
LOCATION:Maison de l’écologie et de la transition\, Rue descartes\, Bures sur Yvette\, 91440\, France
ATTACH;FMTTYPE=image/png:https://mdb-idf.org/wp-content/uploads/2024/01/bu.png
ORGANIZER;CN="MDB V%C3%A9lo %C3%A0 Bures":MAILTO:velo-a-bures@mdb-idf.org
END:VEVENT
BEGIN:VEVENT
DTSTART;TZID=Europe/Paris:20240113T170000
DTEND;TZID=Europe/Paris:20240113T193000
DTSTAMP:20260421T162451
CREATED:20240105T091725Z
LAST-MODIFIED:20240105T091725Z
UID:10000144-1705165200-1705174200@mdb-idf.org
SUMMARY:Bures-sur-Yvette - Échange autour d'un voyage
DESCRIPTION:Blandine et Bernard sont partis faire le Tour de France à vélo. Venez en parler avec eux\, et pourquoi pas faire germer l’idée dans un coin de votre tête ! Nous poursuivrons ce moment par un petit verre ensemble\, histoire de célébrer la nouvelle année qui débute. \nA samedi !
URL:https://mdb-idf.org/evenement/bures-sur-yvette-echange-autour-dun-voyage/
LOCATION:Maison de l’écologie et de la transition\, Rue descartes\, Bures sur Yvette\, 91440\, France
CATEGORIES:Réunion d'antenne
ORGANIZER;CN="MDB V%C3%A9lo %C3%A0 Bures":MAILTO:velo-a-bures@mdb-idf.org
END:VEVENT
BEGIN:VEVENT
DTSTART;TZID=Europe/Paris:20260421T162451
DTEND;TZID=Europe/Paris:20251108T170000
DTSTAMP:20260421T162451
CREATED:20251005T163318Z
LAST-MODIFIED:20251005T163318Z
UID:10003814-0-1762621200@mdb-idf.org
SUMMARY:Balade au départ de Bures
DESCRIPTION:Balade gratuite\, ouverte à tous et toutes \nAller des Ulis à Courtaboeuf en vélo en utilisant la nouvelle piste cyclable du Ring des Ulis. Rythme tranquille et ambiance conviviale pour cette balade encadrée. Prévoir un vélo en bon état de marche (frein\, pneu…)\, un casque pour le moins de 12 ans.
URL:https://mdb-idf.org/evenement/balade-au-depart-de-bures-2/
LOCATION:Maison de l’écologie et de la transition\, Rue descartes\, Bures sur Yvette\, 91440\, France
ORGANIZER;CN="MDB V%C3%A9lo %C3%A0 Bures":MAILTO:velo-a-bures@mdb-idf.org
END:VEVENT
END:VCALENDAR